
BEGIN:VCALENDAR
VERSION:2.0
PRODID:-//Family Life Radio - ECPv6.15.20//NONSGML v1.0//EN
CALSCALE:GREGORIAN
METHOD:PUBLISH
X-WR-CALNAME:Family Life Radio
X-ORIGINAL-URL:https://myflr.org
X-WR-CALDESC:Events for Family Life Radio
REFRESH-INTERVAL;VALUE=DURATION:PT1H
X-Robots-Tag:noindex
X-PUBLISHED-TTL:PT1H
BEGIN:VTIMEZONE
TZID:America/Phoenix
BEGIN:STANDARD
TZOFFSETFROM:-0700
TZOFFSETTO:-0700
TZNAME:MST
DTSTART:20240101T000000
END:STANDARD
END:VTIMEZONE
BEGIN:VEVENT
DTSTART;TZID=America/Phoenix:20250719T160000
DTEND;TZID=America/Phoenix:20250719T180000
DTSTAMP:20260421T195625
CREATED:20250708T195757Z
LAST-MODIFIED:20250708T195816Z
UID:10048770-1752940800-1752948000@myflr.org
SUMMARY:Chronicle Gospel Group
DESCRIPTION:Music group
URL:https://myflr.org/event/chronicle-gospel-group-2/
LOCATION:Jackson Baptist Church (Jackson\, MI)\, 541 S Dettman Rd\, Jackson\, 49203\, United States
CATEGORIES:Michigan
ATTACH;FMTTYPE=image/jpeg:https://eadn-wc05-15902914.nxedge.io/wp-content/uploads/2025/07/17515656188583731792955124502478-scaled.jpg
END:VEVENT
END:VCALENDAR