
BEGIN:VCALENDAR
VERSION:2.0
PRODID:-//Family Life Radio - ECPv6.15.20//NONSGML v1.0//EN
CALSCALE:GREGORIAN
METHOD:PUBLISH
X-WR-CALNAME:Family Life Radio
X-ORIGINAL-URL:https://myflr.org
X-WR-CALDESC:Events for Family Life Radio
REFRESH-INTERVAL;VALUE=DURATION:PT1H
X-Robots-Tag:noindex
X-PUBLISHED-TTL:PT1H
BEGIN:VTIMEZONE
TZID:America/Detroit
BEGIN:DAYLIGHT
TZOFFSETFROM:-0500
TZOFFSETTO:-0400
TZNAME:EDT
DTSTART:20250309T070000
END:DAYLIGHT
BEGIN:STANDARD
TZOFFSETFROM:-0400
TZOFFSETTO:-0500
TZNAME:EST
DTSTART:20251102T060000
END:STANDARD
BEGIN:DAYLIGHT
TZOFFSETFROM:-0500
TZOFFSETTO:-0400
TZNAME:EDT
DTSTART:20260308T070000
END:DAYLIGHT
BEGIN:STANDARD
TZOFFSETFROM:-0400
TZOFFSETTO:-0500
TZNAME:EST
DTSTART:20261101T060000
END:STANDARD
BEGIN:DAYLIGHT
TZOFFSETFROM:-0500
TZOFFSETTO:-0400
TZNAME:EDT
DTSTART:20270314T070000
END:DAYLIGHT
BEGIN:STANDARD
TZOFFSETFROM:-0400
TZOFFSETTO:-0500
TZNAME:EST
DTSTART:20271107T060000
END:STANDARD
END:VTIMEZONE
BEGIN:VEVENT
DTSTART;TZID=America/Detroit:20260423T180000
DTEND;TZID=America/Detroit:20260423T200000
DTSTAMP:20260421T051745
CREATED:20260317T134559Z
LAST-MODIFIED:20260317T134559Z
UID:10059966-1776967200-1776974400@myflr.org
SUMMARY:Flawless Farms Townhall
DESCRIPTION:Flawless Farms is a non-profit in Jackson County. We are looking forward to our town hall meeting to share our mission of building homes and community for those with Autism and Intellectual Developmental Disabilities. Along with our mission\, we will be sharing more on upcoming events for Jackson County Families and fundraising opportunities.
URL:https://myflr.org/event/flawless-farms-townhall/
LOCATION:Jackson College – Central Campus\, 1226 S. Wisner St.\, Jackson\, MI\, 49203\, United States
CATEGORIES:Michigan
ATTACH;FMTTYPE=image/jpeg:https://eadn-wc05-15902914.nxedge.io/wp-content/uploads/2026/03/Flawless-Farms-Townhall-Event.jpg
ORGANIZER;CN="Flawless Farms Autism &amp%3B IDD Community":MAILTO:kendrashook@flawlessfarms.net
END:VEVENT
END:VCALENDAR