
BEGIN:VCALENDAR
VERSION:2.0
PRODID:-//Family Life Radio - ECPv6.15.20//NONSGML v1.0//EN
CALSCALE:GREGORIAN
METHOD:PUBLISH
X-WR-CALNAME:Family Life Radio
X-ORIGINAL-URL:https://myflr.org
X-WR-CALDESC:Events for Family Life Radio
REFRESH-INTERVAL;VALUE=DURATION:PT1H
X-Robots-Tag:noindex
X-PUBLISHED-TTL:PT1H
BEGIN:VTIMEZONE
TZID:America/Phoenix
BEGIN:STANDARD
TZOFFSETFROM:-0700
TZOFFSETTO:-0700
TZNAME:MST
DTSTART:20240101T000000
END:STANDARD
END:VTIMEZONE
BEGIN:VEVENT
DTSTART;TZID=America/Phoenix:20250408T173000
DTEND;TZID=America/Phoenix:20250408T183000
DTSTAMP:20260421T175728
CREATED:20250401T203531Z
LAST-MODIFIED:20250401T203531Z
UID:10040891-1744133400-1744137000@myflr.org
SUMMARY:Kindergarten Round-Up
DESCRIPTION:Do you have a kindergarten-aged child in the fall of 2025?\nAre you looking for Christ-centered learning for your child?\nJackson Christian School might just be looking for?\nJoin us on 4/8/25 at 5:30 PM to learn more about a Jackson Christian School.
URL:https://myflr.org/event/kindergarten-round-up/
LOCATION:Jackson Christian Elementary School (Jackson\, MI)\, 801 Halstead Blvd\, Jackson\, MI\, 49203\, United States
CATEGORIES:Michigan
ATTACH;FMTTYPE=image/png:https://eadn-wc05-15902914.nxedge.io/wp-content/uploads/2025/03/JCS_KindergartenRoundUp_SaveTheDateCard-002.png
END:VEVENT
END:VCALENDAR