
BEGIN:VCALENDAR
VERSION:2.0
PRODID:-//Family Life Radio - ECPv6.15.20//NONSGML v1.0//EN
CALSCALE:GREGORIAN
METHOD:PUBLISH
X-WR-CALNAME:Family Life Radio
X-ORIGINAL-URL:https://myflr.org
X-WR-CALDESC:Events for Family Life Radio
REFRESH-INTERVAL;VALUE=DURATION:PT1H
X-Robots-Tag:noindex
X-PUBLISHED-TTL:PT1H
BEGIN:VTIMEZONE
TZID:America/Phoenix
BEGIN:STANDARD
TZOFFSETFROM:-0700
TZOFFSETTO:-0700
TZNAME:MST
DTSTART:20240101T000000
END:STANDARD
END:VTIMEZONE
BEGIN:VEVENT
DTSTART;TZID=America/Phoenix:20260418T100000
DTEND;TZID=America/Phoenix:20260419T170000
DTSTAMP:20260420T133257
CREATED:20260314T014315Z
LAST-MODIFIED:20260314T014315Z
UID:10059025-1776506400-1776618000@myflr.org
SUMMARY:JET Spring Farm Fest! (Leavenworth\, KS)
DESCRIPTION:JET Spring Farm Fest! (Formerly our spring open house event)\nJET Farm Store\n26617 Tonganoxie Rd.\nLeavenworth\, KS \nSaturday April 18th 10-6\nSunday April 19th 1-5 \nAdmission is free! \nWhether you’ve been a customer for years\, or you’re brand new\, bring the whole family out to the farm for our Spring Open House and 2026 season kickoff! Come see the greenhouses full of flowers as you start to plan your flower beds\, take a tour to see the baby animals\, and even see our vegetable fields as they start to get planted for the year. We’ll be open 10-6 on Saturday and 1-5 on Sunday. Don’t forget to check out all the amazing vendors and browse the JET Farm Store while you’re here\, we carry products from over 30 local small businesses and vendors! \nCome visit the farm\, see the animals\, and get a free farm tour! \nGrab the whole family and head out to the farm to experience Kansas agriculture up close and in person! \nWe have a lot more vendors coming this year\, so be sure to check back as we will be adding them throughout the time leading up to JET Spring Farm Fest! \nVender list (check back as we are adding more!) \n* Bixby repair will be on site both days selling wood carvings and sharpening knives\, chainsaws\, etc\n* Daniel’s BBQ will be here on Saturday and Sunday\n* Alleyway Crafted Flavors food truck will be on site Saturday and Sunday\n* Max’s Kettle Korn will be on site Saturday and Sunday\n* Emma’s crocheted creations will be on site all day Saturday*\n* Alleyway Crafted Flavors will be on site both days with their food truck!\n* The Bean Patch jam will be set up on Saturday selling jams and preserves*\n* Deb’s Rocks will be selling beautiful painted rocks on Saturday only*\n* Bramble and Blossom will be selling fruit spreads on Saturday and Sunday all day\n* L’Ecuyer Homestead will be selling gluten free goodies on Saturday and Sunday\n* Bright Ideas will be selling artwork\, handmade earrings\, birdhouses\, woodworking\, and more Saturday and Sunday\n* The Red Hibiscus Juice Co will be set up selling their delicious juices and more Saturday and Sunday\n* The Spoiled Dog will be set up selling homemade dog treats on Saturday and Sunday (please do not bring your pets)\n* Hillside Honey will be set up selling honey and other goodies on Saturday only*\n* Layered Creations will be set up selling 3D printed art\, puzzles\, nightlights\, and more on Saturday only*\n* Lionberry will be set up selling their elderberry and lions mane products on Saturday and Sunday\n* Jeff and Brandon’s Woodshop will be set up selling their locally made wooden items on Saturday and Sunday\n* Candace Valverde will be set up selling her watercolors on Saturday and Sunday \nActivities\n* birdhouse gourd painting\n* Scavenger hunt\n* Find the golden egg\n* Face-paintingFacepainting\n* Corn pit\n* Baby animals\n* Animal observation area \nThe greenhouse is open and blooming\, get exciting ideas for spring planting! \nCheck back soon for more updates! \n 
URL:https://myflr.org/event/jet-spring-farm-fest-leavenworth-ks/
LOCATION:JET Produce and Meats\, 26617 \, Tonganoxie Rd\, Leavenworth\, KS\, 66048\, United States
CATEGORIES:Kansas,Missouri
ATTACH;FMTTYPE=image/jpeg:https://eadn-wc05-15902914.nxedge.io/wp-content/uploads/2026/02/1000000454.jpg
ORGANIZER;CN="JET Produce and Meats":MAILTO:harpforGod@gmail.com
END:VEVENT
BEGIN:VEVENT
DTSTART;TZID=America/Phoenix:20250405T100000
DTEND;TZID=America/Phoenix:20250406T170000
DTSTAMP:20260420T133257
CREATED:20250304T005550Z
LAST-MODIFIED:20250304T005550Z
UID:10040258-1743847200-1743958800@myflr.org
SUMMARY:Spring Farm Open House-Leavenworth\, KS
DESCRIPTION:JET Produce and Meats 2025 Open House! \nWhether you’ve been a customer for years\, or you’re brand new\, bring the whole family out to the farm for our Spring Open House and 2025 season kickoff! Come see the greenhouses full of flowers as you start to plan your flower beds\, take a tour to see the baby animals\, and even see our vegetable fields as they start to get planted for the year. We’ll be open 10-6 on Saturday and 1-5 on Sunday. Don’t forget to browse the JET Farm Store while you’re here\, we carry products from over 30 local small businesses and vendors! \nCome visit the farm\, see the animals\, and get a free farm tour! \nGrab the whole family and head out to the farm to experience Kansas agriculture up close and in person! \nEnjoy free samples of several locally produced foods! \nDennis Bixby with Bixby Repair will be on site both days selling wood carvings and sharpening knives\, chainsaws\, etc \nDaniel’s BBQ Sauce will be giving out samples and have products available on Saturday and Sunday \nThe Bean Patch will be sampling several flavors of jam on Saturday 10-6 \nFlint Hills Pints will be sampling ice cream on Sunday 1-5 \nBrendon with Ruta Maya Organic Coffee will be offering coffee samples from open to 12:30 on Saturday (this coffee was sold at the Santa Fe Bike Shop in Leavenworth) \nAlleyway Crafted Flavors food truck will be on site Saturday and Sunday \nMax’s KettleKorn will be on site Saturday and Sunday \nEmma’s crocheted creations will be on site all day Saturday \nThe greenhouse is open and blooming\, get exciting ideas for spring planting! \nWhere: JET Farm Store\n26617 Tonganoxie Rd.\nLeavenworth\, KS \nWhen:\nSaturday April 5th 10-6\nSunday April 6th 1-5 \nAdmission is free!
URL:https://myflr.org/event/spring-farm-open-house-leavenworth-ks/
LOCATION:JET Produce and Meats\, 26617 \, Tonganoxie Rd\, Leavenworth\, KS\, 66048\, United States
CATEGORIES:Kansas,Missouri
ATTACH;FMTTYPE=image/jpeg:https://eadn-wc05-15902914.nxedge.io/wp-content/uploads/2025/03/IMG_0166-scaled.jpeg
ORGANIZER;CN="JET Produce and Meats":MAILTO:harpforGod@gmail.com
END:VEVENT
END:VCALENDAR