
BEGIN:VCALENDAR
VERSION:2.0
PRODID:-//Family Life Radio - ECPv6.15.19//NONSGML v1.0//EN
CALSCALE:GREGORIAN
METHOD:PUBLISH
X-WR-CALNAME:Family Life Radio
X-ORIGINAL-URL:https://myflr.org
X-WR-CALDESC:Events for Family Life Radio
REFRESH-INTERVAL;VALUE=DURATION:PT1H
X-Robots-Tag:noindex
X-PUBLISHED-TTL:PT1H
BEGIN:VTIMEZONE
TZID:America/Phoenix
BEGIN:STANDARD
TZOFFSETFROM:-0700
TZOFFSETTO:-0700
TZNAME:MST
DTSTART:20250101T000000
END:STANDARD
END:VTIMEZONE
BEGIN:VEVENT
DTSTART;TZID=America/Phoenix:20260425T140000
DTEND;TZID=America/Phoenix:20260425T200000
DTSTAMP:20260419T160928
CREATED:20260417T190113Z
LAST-MODIFIED:20260417T190113Z
UID:10060311-1777125600-1777147200@myflr.org
SUMMARY:Healing 4 Tucson
DESCRIPTION:This is YOUR invitation to join us in prayer for the city of Tucson! All church’s and pastors\, every individual. United we can make a difference! \nCome join us as we lift up our city before the Lord! This event is to pray for a city wide revival and for souls to come to Christ. \nWe will be having worship and baptisms as well!!!! Please register at http://healing4tucson.com
URL:https://myflr.org/event/healing-4-tucson/
LOCATION:Kennedy Fiesta Park\, 3357 S La Cholla Blvd\, Tucson\, AZ\, 85713\, United States
CATEGORIES:Arizona
ATTACH;FMTTYPE=image/jpeg:https://eadn-wc05-15902914.nxedge.io/wp-content/uploads/2026/04/IMG_1854.jpeg
END:VEVENT
END:VCALENDAR