
BEGIN:VCALENDAR
VERSION:2.0
PRODID:-//Family Life Radio - ECPv6.15.20//NONSGML v1.0//EN
CALSCALE:GREGORIAN
METHOD:PUBLISH
X-ORIGINAL-URL:https://myflr.org
X-WR-CALDESC:Events for Family Life Radio
REFRESH-INTERVAL;VALUE=DURATION:PT1H
X-Robots-Tag:noindex
X-PUBLISHED-TTL:PT1H
BEGIN:VTIMEZONE
TZID:America/Phoenix
BEGIN:STANDARD
TZOFFSETFROM:-0700
TZOFFSETTO:-0700
TZNAME:MST
DTSTART:20250101T000000
END:STANDARD
END:VTIMEZONE
BEGIN:VEVENT
DTSTART;TZID=America/Phoenix:20260425T140000
DTEND;TZID=America/Phoenix:20260425T190000
DTSTAMP:20260421T041207
CREATED:20260414T183612Z
LAST-MODIFIED:20260414T183612Z
UID:10060277-1777125600-1777143600@myflr.org
SUMMARY:HEALING4TUCSON
DESCRIPTION:Tucson doesn’t need another event. Tucson needs a healing revival and an encounter with the presence of God. \nOn April 25\, 2025\, believers from across the city are gathering at Kennedy Park for a day of powerful corporate worship\, intercession\, and supernatural healing — completely free and open to everyone. \n“Whether you’ve been in church your whole life or have never stepped foot in one\, you belong here. Come hungry. Come expectant.”
URL:https://myflr.org/event/healing4tucson/
LOCATION:Kennedy Park Fiesta Area\, 3700 S. Mission Rd.\, Tucson\, AZ\, 85713\, United States
CATEGORIES:Arizona
ATTACH;FMTTYPE=image/png:https://eadn-wc05-15902914.nxedge.io/wp-content/uploads/2026/04/Screenshot-from-2026-04-12-18-29-09.png
END:VEVENT
END:VCALENDAR