
BEGIN:VCALENDAR
VERSION:2.0
PRODID:-//Family Life Radio - ECPv6.15.19//NONSGML v1.0//EN
CALSCALE:GREGORIAN
METHOD:PUBLISH
X-ORIGINAL-URL:https://myflr.org
X-WR-CALDESC:Events for Family Life Radio
REFRESH-INTERVAL;VALUE=DURATION:PT1H
X-Robots-Tag:noindex
X-PUBLISHED-TTL:PT1H
BEGIN:VTIMEZONE
TZID:America/Phoenix
BEGIN:STANDARD
TZOFFSETFROM:-0700
TZOFFSETTO:-0700
TZNAME:MST
DTSTART:20250101T000000
END:STANDARD
END:VTIMEZONE
BEGIN:VEVENT
DTSTART;VALUE=DATE:20260417
DTEND;VALUE=DATE:20260419
DTSTAMP:20260419T082715
CREATED:20260225T231826Z
LAST-MODIFIED:20260225T231826Z
UID:10059078-1776384000-1776556799@myflr.org
SUMMARY:Focus "The Masterpiece"
DESCRIPTION:Step boldly into the life you were created for with Lisa Bevere\, Char Stuart\, Diane Burton\, and more! \n“The Masterpiece” is A 2-day transformational experience for you to break through fear\, self-doubt\, and limitations.
URL:https://myflr.org/event/focus-the-masterpiece/
LOCATION:La Luz Event Center\, 10500 E. County Road 120\, Midland\, TX\, 79706\, United States
CATEGORIES:Texas
ATTACH;FMTTYPE=image/jpeg:https://eadn-wc05-15902914.nxedge.io/wp-content/uploads/2026/02/Official-Flyer-1.jpg
ORGANIZER;CN="AO Leadership":MAILTO:char@aoleadership.com
END:VEVENT
END:VCALENDAR