
BEGIN:VCALENDAR
VERSION:2.0
PRODID:-//Family Life Radio - ECPv6.15.20//NONSGML v1.0//EN
CALSCALE:GREGORIAN
METHOD:PUBLISH
X-WR-CALNAME:Family Life Radio
X-ORIGINAL-URL:https://myflr.org
X-WR-CALDESC:Events for Family Life Radio
REFRESH-INTERVAL;VALUE=DURATION:PT1H
X-Robots-Tag:noindex
X-PUBLISHED-TTL:PT1H
BEGIN:VTIMEZONE
TZID:America/Phoenix
BEGIN:STANDARD
TZOFFSETFROM:-0700
TZOFFSETTO:-0700
TZNAME:MST
DTSTART:20240101T000000
END:STANDARD
END:VTIMEZONE
BEGIN:VEVENT
DTSTART;TZID=America/Phoenix:20250709T180000
DTEND;TZID=America/Phoenix:20250711T200000
DTSTAMP:20260421T171554
CREATED:20250708T200205Z
LAST-MODIFIED:20250708T200205Z
UID:10048769-1752084000-1752264000@myflr.org
SUMMARY:VBS at Lifehouse Church
DESCRIPTION:Kingdom Quest: a three day VBS adventure for kids 6-11
URL:https://myflr.org/event/vbs-at-lifehouse-church/
LOCATION:Lifehouse Church (Santa Rosa Beach\, FL)\, 1144 N Co Hwy 395\, Santa Rosa Beach\, FL\, 32459\, United States
CATEGORIES:Florida
ATTACH;FMTTYPE=image/jpeg:https://eadn-wc05-15902914.nxedge.io/wp-content/uploads/2025/07/20250702_202917-scaled.jpg
END:VEVENT
END:VCALENDAR