
BEGIN:VCALENDAR
VERSION:2.0
PRODID:-//Family Life Radio - ECPv6.15.20//NONSGML v1.0//EN
CALSCALE:GREGORIAN
METHOD:PUBLISH
X-WR-CALNAME:Family Life Radio
X-ORIGINAL-URL:https://myflr.org
X-WR-CALDESC:Events for Family Life Radio
REFRESH-INTERVAL;VALUE=DURATION:PT1H
X-Robots-Tag:noindex
X-PUBLISHED-TTL:PT1H
BEGIN:VTIMEZONE
TZID:America/Detroit
BEGIN:DAYLIGHT
TZOFFSETFROM:-0500
TZOFFSETTO:-0400
TZNAME:EDT
DTSTART:20220313T070000
END:DAYLIGHT
BEGIN:STANDARD
TZOFFSETFROM:-0400
TZOFFSETTO:-0500
TZNAME:EST
DTSTART:20221106T060000
END:STANDARD
BEGIN:DAYLIGHT
TZOFFSETFROM:-0500
TZOFFSETTO:-0400
TZNAME:EDT
DTSTART:20230312T070000
END:DAYLIGHT
BEGIN:STANDARD
TZOFFSETFROM:-0400
TZOFFSETTO:-0500
TZNAME:EST
DTSTART:20231105T060000
END:STANDARD
BEGIN:DAYLIGHT
TZOFFSETFROM:-0500
TZOFFSETTO:-0400
TZNAME:EDT
DTSTART:20240310T070000
END:DAYLIGHT
BEGIN:STANDARD
TZOFFSETFROM:-0400
TZOFFSETTO:-0500
TZNAME:EST
DTSTART:20241103T060000
END:STANDARD
BEGIN:DAYLIGHT
TZOFFSETFROM:-0500
TZOFFSETTO:-0400
TZNAME:EDT
DTSTART:20250309T070000
END:DAYLIGHT
BEGIN:STANDARD
TZOFFSETFROM:-0400
TZOFFSETTO:-0500
TZNAME:EST
DTSTART:20251102T060000
END:STANDARD
BEGIN:DAYLIGHT
TZOFFSETFROM:-0500
TZOFFSETTO:-0400
TZNAME:EDT
DTSTART:20260308T070000
END:DAYLIGHT
BEGIN:STANDARD
TZOFFSETFROM:-0400
TZOFFSETTO:-0500
TZNAME:EST
DTSTART:20261101T060000
END:STANDARD
END:VTIMEZONE
BEGIN:VTIMEZONE
TZID:America/Phoenix
BEGIN:STANDARD
TZOFFSETFROM:-0700
TZOFFSETTO:-0700
TZNAME:MST
DTSTART:20220101T000000
END:STANDARD
END:VTIMEZONE
BEGIN:VEVENT
DTSTART;TZID=America/Detroit:20251227T193000
DTEND;TZID=America/Detroit:20251227T220000
DTSTAMP:20260421T130323
CREATED:20241023T134408Z
LAST-MODIFIED:20251113T170217Z
UID:10057302-1766863800-1766872800@myflr.org
SUMMARY:TRANS-SIBERIAN ORCHESTRA’S: The Ghosts of Christmas Eve – DETROIT
DESCRIPTION:Trans-Siberian Orchestra’s “The Ghosts of Christmas Eve” Winter Tour 2024.\nSaturday\, Dec 27th\n3:00 pm & 7:30 pm\nLittle Caesars Arena-2645 Woodward Ave\, Detroit\, MI 48201
URL:https://myflr.org/event/trans-siberian-orchestras-the-lost-christmas-eve-detroit/2025-12-27/2/
LOCATION:Little Caesars Arena (Detroit\, MI)\, 2645 Woodward Ave\, Detroit\, MI\, 48201\, United States
CATEGORIES:Featured,Michigan
ATTACH;FMTTYPE=image/jpeg:https://eadn-wc05-15902914.nxedge.io/wp-content/uploads/2024/10/Static_Digital-313Presents_1200x605_TSO_2025_Regional_LittleCaesarsArena_1227-3863d90852.jpg
END:VEVENT
BEGIN:VEVENT
DTSTART;TZID=America/Detroit:20251122T100000
DTEND;TZID=America/Detroit:20251122T160000
DTSTAMP:20260421T130323
CREATED:20250930T191801Z
LAST-MODIFIED:20251016T193418Z
UID:10056626-1763805600-1763827200@myflr.org
SUMMARY:Red Wings Faith and Family Day - Detroit
DESCRIPTION:Join us for Faith & Family Game at Little Caesars Arena for a day of fun\, fellowship\, friendship and cheering on the Red Wings! Enjoy pregame service\, testimonials\, and more before enjoying the game against the Columbus Blue Jackets on November 22. We look forward to seeing you and your congregation members at the game.
URL:https://myflr.org/event/red-wings-faith-and-family-day-detroit/
LOCATION:Little Caesars Arena (Detroit\, MI)\, 2645 Woodward Ave\, Detroit\, MI\, 48201\, United States
CATEGORIES:Featured,Michigan
ATTACH;FMTTYPE=image/jpeg:https://eadn-wc05-15902914.nxedge.io/wp-content/uploads/2025/09/Faith-Night-DRW.jpg
END:VEVENT
BEGIN:VEVENT
DTSTART;TZID=America/Phoenix:20250302T190000
DTEND;TZID=America/Phoenix:20250302T220000
DTSTAMP:20260421T130323
CREATED:20241002T205239Z
LAST-MODIFIED:20241216T224427Z
UID:10036653-1740942000-1740952800@myflr.org
SUMMARY:ELEVATION NIGHTS TOUR with Elevation Worship & Steven Furtick
DESCRIPTION:Tickets and info at https://www.ticketmaster.com/event/08006141334E60B6?CAMEFROM=CFC_TRANSPARENT_PRODUCTIONS_WEB_RADIO_1
URL:https://myflr.org/event/elevation-nights-tour-with-elevation-worship-steven-furtick/
LOCATION:Little Caesars Arena (Detroit\, MI)\, 2645 Woodward Ave\, Detroit\, MI\, 48201\, United States
CATEGORIES:Featured,Michigan
ATTACH;FMTTYPE=image/png:https://eadn-wc05-15902914.nxedge.io/wp-content/uploads/2024/10/EN25-1X1-MAR2-DETROIT.png
ORGANIZER;CN="TPR Live":MAILTO:info@tprlive.co
END:VEVENT
BEGIN:VEVENT
DTSTART;TZID=America/Detroit:20240801T190000
DTEND;TZID=America/Detroit:20240801T230000
DTSTAMP:20260421T130323
CREATED:20240320T150140Z
LAST-MODIFIED:20240320T205131Z
UID:10022808-1722538800-1722553200@myflr.org
SUMMARY:Phil Wickham and Brandon Lake: Summer Worship Nights Tour 2024 – Detroit
DESCRIPTION:Join Phil Wickham and Brandon Lake on the second year of the Summer Worship Nights Tour! Live with special guest Hulvey\, they’ll be hitting 17 cities this August. These events are powerful nights of authentic worship and prayer that will have lasting impact not just on the venues they are coming to\, but the cities and beyond – we hope you can join us! \nSCHEDULE (subject to change):\n5:30PM – Doors open\n7:00PM – Show Begins
URL:https://myflr.org/event/phil-wickham-and-brandon-lake-summer-worship-nights-tour-2024-detroit/
LOCATION:Little Caesars Arena (Detroit\, MI)\, 2645 Woodward Ave\, Detroit\, MI\, 48201\, United States
CATEGORIES:Featured,Michigan
ATTACH;FMTTYPE=image/jpeg:https://eadn-wc05-15902914.nxedge.io/wp-content/uploads/2024/03/c8ZGbkog.jpg
ORGANIZER;CN="Transparent Productions":MAILTO:info@transparentproductions.com
END:VEVENT
BEGIN:VEVENT
DTSTART;TZID=America/Detroit:20240529T190000
DTEND;TZID=America/Detroit:20240529T223000
DTSTAMP:20260421T130323
CREATED:20231102T170217Z
LAST-MODIFIED:20231227T164246Z
UID:10017397-1717009200-1717021800@myflr.org
SUMMARY:LAUREN DAIGLE – THE KALEIDOSCOPE TOUR – DETROIT
DESCRIPTION:After bursting onto the scene in 2015 with her platinum-selling debut album How Can It Be\, Lauren Daigle returns with a brand new album\, Look Up Child. From catchy melodies\, to reggae jive\, sweeping orchestral ballads to back beat vibe\, the latest release has transcribed the pulse of Lauren’s veins into a soulful collection of 13 new songs. Influenced by her Louisiana roots\, Daigle has forged a unique sound that is reminiscent of the soulful\, heart-in-throat vulnerability of Adele mixed with the raw power of Roberta Flack and Aretha Franklin. Her ability to connect with her audience has captured critical acclaim and recognition as the fastest-selling new artist for her genre of the last decade and earned several accolades\, including two GRAMMY nominations\, two Billboard Music Awards\, an American Music Award\, RIAA Platinum certification for How Can it Be and three certified Gold singles.
URL:https://myflr.org/event/lauren-daigle-the-kaleidoscope-tour-detroit/
LOCATION:Little Caesars Arena (Detroit\, MI)\, 2645 Woodward Ave\, Detroit\, MI\, 48201\, United States
CATEGORIES:Featured,Michigan
ATTACH;FMTTYPE=image/jpeg:https://eadn-wc05-15902914.nxedge.io/wp-content/uploads/2023/11/0529-Detroit-LaurenDaigle-1200x1200-1.jpg
END:VEVENT
BEGIN:VEVENT
DTSTART;TZID=America/Detroit:20240123T163000
DTEND;TZID=America/Detroit:20240123T163000
DTSTAMP:20260421T130323
CREATED:20231212T162808Z
LAST-MODIFIED:20231227T163644Z
UID:10018684-1706027400-1706027400@myflr.org
SUMMARY:RED WINGS FAITH NIGHT DETROIT
DESCRIPTION:Join us for Faith Night at Little Caesars Arena for a night of fun and fellowship while cheering on your Detroit Red Wings! Enjoy a pregame concert and testimonial by Grammy-nominated singer/songwriter Matt Hammitt\, former Detroit Lion Cody Wilson and his collective Living Army\, and local Detroit artist Trey Simon! Doors for the concert open at 4:30pm EST. \nGroups of 10 or more purchasing together can save on fees and ensure their seats are together by emailing Marcus.Hill@Olyent.com
URL:https://myflr.org/event/detroit-red-wings-faith-night-detroit/
LOCATION:Little Caesars Arena (Detroit\, MI)\, 2645 Woodward Ave\, Detroit\, MI\, 48201\, United States
CATEGORIES:Featured,Michigan
ATTACH;FMTTYPE=image/png:https://eadn-wc05-15902914.nxedge.io/wp-content/uploads/2023/12/With-FLR-LOGO.png
END:VEVENT
BEGIN:VEVENT
DTSTART;TZID=America/Phoenix:20231223T193000
DTEND;TZID=America/Phoenix:20231223T220000
DTSTAMP:20260421T130323
CREATED:20231030T121528Z
LAST-MODIFIED:20231030T122120Z
UID:10017380-1703359800-1703368800@myflr.org
SUMMARY:TRANS-SIBERIAN ORCHESTRA – DETROIT
DESCRIPTION:Trans-Siberian Orchestra\nThe Ghosts of Christmas Past – The Best of TSO & More!\nDetroit – Little Ceasars Arena\nDecember 23rd\n3:00 pm & 7:30 pm \nThe holidays rock a whole lot harder than they ever have thanks to Trans-Siberian Orchestra. By infusing seasonal classics with rock flamboyance\, a symphonic sense of scope\, and an eye-popping visual presentation complete with lasers and pyrotechnics\, what began as a side project for a veteran group of American hard rockers has grown into one of today’s top-selling acts\, with over 10 million concert tickets sold since 1999.  Now\, to celebrate the band’s 20th year on the road\, Trans-Siberian Orchestra is mounting an all-new production of the show that first turned them into an arena-rock phenomenon. \nEvent info at: https://www.trans-siberian.com/tour \nTicket info at: https://www.ticketmaster.com/transsiberian-orchestra-the-ghosts-of-christmas-detroit-michigan-12-23-2023/event/08005F0C124E59D2
URL:https://myflr.org/event/trans-siberian-orchestra-detroit/
LOCATION:Little Caesars Arena (Detroit\, MI)\, 2645 Woodward Ave\, Detroit\, MI\, 48201\, United States
CATEGORIES:Featured,Michigan
ATTACH;FMTTYPE=image/jpeg:https://eadn-wc05-15902914.nxedge.io/wp-content/uploads/2023/10/TSO2023_WinterTour_Admat_Square_Detroit-MI-Little-Caesars-Arena.jpg
END:VEVENT
BEGIN:VEVENT
DTSTART;TZID=America/Detroit:20231112T190000
DTEND;TZID=America/Detroit:20231112T230000
DTSTAMP:20260421T130323
CREATED:20230908T194616Z
LAST-MODIFIED:20230908T194714Z
UID:10013724-1699815600-1699830000@myflr.org
SUMMARY:TOBYMAC – MERCYME – ZACH WILLIAMS (DETROIT)
DESCRIPTION:Get ready to experience the ultimate Christian music event of the year! For the first time ever\, three of the biggest names in Christian music – TobyMac\, MercyMe and Zach Williams – are teaming up for an unforgettable concert tour. With chart-topping hits\, passionate lyrics\, and a commitment to spreading God’s love through music\, TobyMac\, MercyMe and Zach Williams take the stage to perform fan favorites and deliver an uplifting experience that will leave you feeling inspired. Get your tickets now\, and get ready to sing\, dance\, and worship with TobyMac\, MercyMe and Zach Williams!
URL:https://myflr.org/event/tobymac-mercyme-zach-williams-detroit/
LOCATION:Little Caesars Arena (Detroit\, MI)\, 2645 Woodward Ave\, Detroit\, MI\, 48201\, United States
CATEGORIES:Featured,Michigan
ATTACH;FMTTYPE=image/jpeg:https://eadn-wc05-15902914.nxedge.io/wp-content/uploads/2023/09/dyTtVgPQ.jpeg
ORGANIZER;CN="Awakening Events":MAILTO:https://www.awakeningevents.com/email
END:VEVENT
BEGIN:VEVENT
DTSTART;TZID=America/Phoenix:20231019T190000
DTEND;TZID=America/Phoenix:20231019T230000
DTSTAMP:20260421T130323
CREATED:20230911T194402Z
LAST-MODIFIED:20230911T194402Z
UID:10015312-1697742000-1697756400@myflr.org
SUMMARY:The Reunion Tour – Detroit
DESCRIPTION:The Reunion Tour starring Kirk Franklin\, Tye Tribbett\, The Clark Sisters\, David and Tamela Mann and Israel Houghton comes to Little Caesars Arena on Thursday\, October 19 at 7 p.m. \n  \nTicket Link: https://www.ticketmaster.com/the-reunion-tour-detroit-michigan-10-19-2023/event/08005EC9BB8048DF \n  \nEvent Page: https://www.313presents.com/events/detail/kirk-franklin
URL:https://myflr.org/event/the-reunion-tour-detroit/
LOCATION:Little Caesars Arena (Detroit\, MI)\, 2645 Woodward Ave\, Detroit\, MI\, 48201\, United States
CATEGORIES:Featured,Michigan
ATTACH;FMTTYPE=image/jpeg:https://eadn-wc05-15902914.nxedge.io/wp-content/uploads/2023/09/Static_Social-Instagram_1080x1080_KirkFranklin_2023_Regional_LittleCaesarsArena_1019.jpeg
END:VEVENT
END:VCALENDAR