
BEGIN:VCALENDAR
VERSION:2.0
PRODID:-//Family Life Radio - ECPv6.15.20//NONSGML v1.0//EN
CALSCALE:GREGORIAN
METHOD:PUBLISH
X-WR-CALNAME:Family Life Radio
X-ORIGINAL-URL:https://myflr.org
X-WR-CALDESC:Events for Family Life Radio
REFRESH-INTERVAL;VALUE=DURATION:PT1H
X-Robots-Tag:noindex
X-PUBLISHED-TTL:PT1H
BEGIN:VTIMEZONE
TZID:America/Detroit
BEGIN:DAYLIGHT
TZOFFSETFROM:-0500
TZOFFSETTO:-0400
TZNAME:EDT
DTSTART:20240310T070000
END:DAYLIGHT
BEGIN:STANDARD
TZOFFSETFROM:-0400
TZOFFSETTO:-0500
TZNAME:EST
DTSTART:20241103T060000
END:STANDARD
BEGIN:DAYLIGHT
TZOFFSETFROM:-0500
TZOFFSETTO:-0400
TZNAME:EDT
DTSTART:20250309T070000
END:DAYLIGHT
BEGIN:STANDARD
TZOFFSETFROM:-0400
TZOFFSETTO:-0500
TZNAME:EST
DTSTART:20251102T060000
END:STANDARD
BEGIN:DAYLIGHT
TZOFFSETFROM:-0500
TZOFFSETTO:-0400
TZNAME:EDT
DTSTART:20260308T070000
END:DAYLIGHT
BEGIN:STANDARD
TZOFFSETFROM:-0400
TZOFFSETTO:-0500
TZNAME:EST
DTSTART:20261101T060000
END:STANDARD
END:VTIMEZONE
BEGIN:VEVENT
DTSTART;TZID=America/Detroit:20251025T090000
DTEND;TZID=America/Detroit:20251025T120000
DTSTAMP:20260421T154448
CREATED:20250902T132538Z
LAST-MODIFIED:20250912T203413Z
UID:10051520-1761382800-1761393600@myflr.org
SUMMARY:THE ULTIMATE MARRIAGE WEEKEND: FIGHTING FOR US WITH JAY AND LAURA LAFOON
DESCRIPTION:Does it feel like it’s you and your spouse against the world? You’re not alone!\nJoin Jay and Laura Laffoon for The Ultimate Date Night: Fighting for Us!—a weekend of laughter\, music\, and Biblical truth designed to help couples grow closer together. Engage in fun activities\, gain practical tools grounded in God’s Word\, and take time to connect with your spouse away from everyday distractions. Whether you’re newlyweds or celebrating decades together\, this event has something for every couple looking to invest in their marriage. \nThe event will be held at Lockwood Community Church\, 202 E Lockwood Rd\, Coldwater\, Michigan\, on Friday\, October 24\, from 7 to 8:30 pm\, and Saturday\, October 25\, from 9 am to noon. Tickets are $45 or $55 per couple\, with Early Bird pricing available until September 17. Purchase your tickets online at lockwoodchurch.org/events. \nCome be part of this inspiring weekend and give your marriage the gift it deserves!
URL:https://myflr.org/event/the-ultimate-marriage-weekend-fighting-for-us-with-jay-and-laura-lafoon/2025-10-25/
LOCATION:Lockwood Community Church (Coldwater\, MI)\, 202 E Lockwood Rd\, Coldwater\, MI\, 49036\, United States
CATEGORIES:Featured,Michigan
ATTACH;FMTTYPE=image/png:https://eadn-wc05-15902914.nxedge.io/wp-content/uploads/2025/08/DateNightRadio.png
END:VEVENT
END:VCALENDAR