
BEGIN:VCALENDAR
VERSION:2.0
PRODID:-//Family Life Radio - ECPv6.15.19//NONSGML v1.0//EN
CALSCALE:GREGORIAN
METHOD:PUBLISH
X-ORIGINAL-URL:https://myflr.org
X-WR-CALDESC:Events for Family Life Radio
REFRESH-INTERVAL;VALUE=DURATION:PT1H
X-Robots-Tag:noindex
X-PUBLISHED-TTL:PT1H
BEGIN:VTIMEZONE
TZID:America/Phoenix
BEGIN:STANDARD
TZOFFSETFROM:-0700
TZOFFSETTO:-0700
TZNAME:MST
DTSTART:20250101T000000
END:STANDARD
END:VTIMEZONE
BEGIN:VEVENT
DTSTART;TZID=America/Phoenix:20260425T123000
DTEND;TZID=America/Phoenix:20260425T153000
DTSTAMP:20260419T142717
CREATED:20260406T170639Z
LAST-MODIFIED:20260406T170639Z
UID:10060081-1777120200-1777131000@myflr.org
SUMMARY:Bowling fundraiser - Belleville
DESCRIPTION:Come have a family night out bowling and supporting Under 1 youth ministries. This fundraiser will help students pay for summer camp coming in June. For $25 per person you can get 2 games of bowling\, shoes\, pizza and pop. This findraiser will be April 25 at 12:30 check in time 1pm start time. This fundraiser will take place at Lodge Lanes in Belleville.
URL:https://myflr.org/event/bowling-fundraiser-belleville/
LOCATION:Lodge lanes Belleville Mi\, 46255 S Interstate 94 Service Dr\, Belleville\, MI\, 48111\, United States
CATEGORIES:Michigan
ATTACH;FMTTYPE=image/jpeg:https://eadn-wc05-15902914.nxedge.io/wp-content/uploads/2026/04/image.jpg
ORGANIZER;CN="Debbie Fitzgerald":MAILTO:drfitzgerald08@gmail.com
END:VEVENT
END:VCALENDAR