
BEGIN:VCALENDAR
VERSION:2.0
PRODID:-//Family Life Radio - ECPv6.15.20//NONSGML v1.0//EN
CALSCALE:GREGORIAN
METHOD:PUBLISH
X-WR-CALNAME:Family Life Radio
X-ORIGINAL-URL:https://myflr.org
X-WR-CALDESC:Events for Family Life Radio
REFRESH-INTERVAL;VALUE=DURATION:PT1H
X-Robots-Tag:noindex
X-PUBLISHED-TTL:PT1H
BEGIN:VTIMEZONE
TZID:America/Phoenix
BEGIN:STANDARD
TZOFFSETFROM:-0700
TZOFFSETTO:-0700
TZNAME:MST
DTSTART:20220101T000000
END:STANDARD
END:VTIMEZONE
BEGIN:VEVENT
DTSTART;TZID=America/Phoenix:20240608T100000
DTEND;TZID=America/Phoenix:20240608T120000
DTSTAMP:20260421T172420
CREATED:20240520T181834Z
LAST-MODIFIED:20240520T181834Z
UID:10026498-1717840800-1717848000@myflr.org
SUMMARY:‘Cram the Crib Open House Baby Shower Party’-Care Net of Los Lunas
DESCRIPTION:Family Life Radio 91.5 FM personally invites you along with Los Lunas-Care Net Pregnancy Center to our ‘Cram the Crib Open House Baby Shower Party’! \nIt’s the Care Net Pregnancy Center of Albuquerque-Come see the location-tour the center\, meet the staff\, enjoy food truck\, music\, prizes and special gift from Family Life Radio! Let’s Cram the Crib with new baby items for this Pregnancy Center in our community! Your gift makes a huge impact in the lives of mom’s\, babies & dad’s. \nLos Lunas-Care Net Pregnancy Center \nSaturday\, June 8\, 2024\n10:00 am – 12:00 pm\n601 Main Street SE Suite 26\nLos Lunas\, NM  87031 \nBaby Items needed: White Onesies\, boy/girls outfits\, sleepers/pajamas\, booties\, shoes\, bottle brushes\, hairbrushes\, combs\, shorts\, pants\, shampoo\, baby wash\, lotion (Travel size set only)\, unscented baby wipes\, diaper sizes 3\,4\,5\,6\, All items’ Sizes NB\, 0-3 Months\, 3-6 Months\, New in box infant car seats. \nwww.MyFLR.org/babyshower for more drop off locations\, hours and more details!
URL:https://myflr.org/event/cram-the-crib-open-house-baby-shower-party-care-net-of-los-lunas/
LOCATION:LOS LUNAS Care Net\, 601 Main Street SE Suite 26\, Los Lunas\, NM\, 87031\, United States
CATEGORIES:Featured,New Mexico
ATTACH;FMTTYPE=image/png:https://eadn-wc05-15902914.nxedge.io/wp-content/uploads/2024/05/1X1-Social-CARE-NET-ABQ-UPDATED-June-8-2024-Party.png
END:VEVENT
BEGIN:VEVENT
DTSTART;TZID=America/Phoenix:20230603T100000
DTEND;TZID=America/Phoenix:20230603T120000
DTSTAMP:20260421T172420
CREATED:20230502T215837Z
LAST-MODIFIED:20230502T215837Z
UID:10008947-1685786400-1685793600@myflr.org
SUMMARY:LOS LUNAS-Cram the Crib Open House Party (6/3/23)
DESCRIPTION:LOS LUNAS-Cram the Crib Open House Party \nSaturday\, June 3\, 2023 \n10:00AM-12:00PM \nLOS LUNAS Care Net- 601 Main Street SE Suite 26 Los Lunas\, NM  87031 \nYou’re invited to stop by to Celebrate LIFE\, MOM’s & Babies by dropping off your baby items\, tour LOS LUNAS Care Net facility\, meet the staff & eat cupcakes.  FLR will have music\, baby games and more! We can’t wait to Celebrate Life with you and see you! \nBaby Items Needed: \nCar Seats \nDiaper Bags \nStrollers \nNewborn Baby Bouncers \nSmall Play Pens \nClothing: Outfits\, sleepers\, onesies\, socks\, hats \nBlankets \nTowel Sets \nSmall Baby Toys (Teethers) \nBaby Hygiene Items \nThermometers \nMonitors \nNail Clippers
URL:https://myflr.org/event/los-lunas-cram-the-crib-open-house-party-6-3-23/
LOCATION:LOS LUNAS Care Net\, 601 Main Street SE Suite 26\, Los Lunas\, NM\, 87031\, United States
CATEGORIES:Featured,New Mexico
ATTACH;FMTTYPE=image/png:https://eadn-wc05-15902914.nxedge.io/wp-content/uploads/2023/05/Los-Lunas-Invite-2023-myflr.orgshower.png
END:VEVENT
END:VCALENDAR