
BEGIN:VCALENDAR
VERSION:2.0
PRODID:-//Family Life Radio - ECPv6.15.20//NONSGML v1.0//EN
CALSCALE:GREGORIAN
METHOD:PUBLISH
X-WR-CALNAME:Family Life Radio
X-ORIGINAL-URL:https://myflr.org
X-WR-CALDESC:Events for Family Life Radio
REFRESH-INTERVAL;VALUE=DURATION:PT1H
X-Robots-Tag:noindex
X-PUBLISHED-TTL:PT1H
BEGIN:VTIMEZONE
TZID:America/Phoenix
BEGIN:STANDARD
TZOFFSETFROM:-0700
TZOFFSETTO:-0700
TZNAME:MST
DTSTART:20220101T000000
END:STANDARD
END:VTIMEZONE
BEGIN:VEVENT
DTSTART;TZID=America/Phoenix:20240109T113000
DTEND;TZID=America/Phoenix:20240109T133000
DTSTAMP:20260421T191414
CREATED:20240102T234428Z
LAST-MODIFIED:20240102T234428Z
UID:10018730-1704799800-1704807000@myflr.org
SUMMARY:Sips of Joy\, Tea at High Noon
DESCRIPTION:Lubbock Christian Women’s Connection pauses for High Tea and a message from Karen Dane\, of Lubbock\, who will be asking\, “Who Are You Anyway”? She will have her beautiful book available for sale\, entitled\, “Sips of Joy”.\nTuesday\, January 9\, 2024\, 11:30-1:30pm\nBuffet lunch\, program\, chance to win door prizes\, total cost is $23\nLubbock Country Club\, 3400 Mesa Road\nRSVP by Jan 5 to Sharen 806-392-0264 or LubbockCWC@gmail.com\nPlease honor reservations or cancel by Jan 5
URL:https://myflr.org/event/sips-of-joy-tea-at-high-noon/
LOCATION:LUBBOCK COUNTRY CLUB\, 3400 MESA DRIVE\, Lubbock\, TX\, United States
CATEGORIES:Texas
END:VEVENT
BEGIN:VEVENT
DTSTART;TZID=America/Phoenix:20231212T113000
DTEND;TZID=America/Phoenix:20231212T133000
DTSTAMP:20260421T191414
CREATED:20231201T231643Z
LAST-MODIFIED:20231201T231643Z
UID:10018627-1702380600-1702387800@myflr.org
SUMMARY:A Country Christmas
DESCRIPTION:Lubbock Christian Women’s Connection is pleased to feature the wonderful music of Brazos West and our inspirational speaker Shelley Templin from Flower Mound\, TX telling her story through “The Best “C” Word”.\nWe will enjoy the music\, program\, a buffet lunch and a chance to win door prizes.\nLubbock Country Club\, 3400 Mesa Road\nRSVP by Dec 8 to Sharen 806-392-0264 or Lubbock CWC@gmail.com\nWe appreciate an RSVP so that our chef can prepare enough food and you have a place to join us.
URL:https://myflr.org/event/a-country-christmas/
LOCATION:LUBBOCK COUNTRY CLUB\, 3400 MESA DRIVE\, Lubbock\, TX\, United States
CATEGORIES:Texas
END:VEVENT
BEGIN:VEVENT
DTSTART;TZID=America/Phoenix:20231010T103000
DTEND;TZID=America/Phoenix:20231010T133000
DTSTAMP:20260421T191414
CREATED:20230929T172319Z
LAST-MODIFIED:20230929T172324Z
UID:10015819-1696933800-1696944600@myflr.org
SUMMARY:Going Going Gone\, Silent Auction for Lubbock Christian Women’s Connection
DESCRIPTION:Join the Lubbock Christian Women’s Connection for their annual silent auction\, Tuesday\, October 10\, from 10:30 – 1:30 pm.\nGoodies are gift cards\, baked and canned goods\, gift baskets\, a wreath filled with $200 worth of gift cards\, women’s fashion tops\,\nHomemade candies\, craft items\, Christmas items\, home decor\, artwork\, and so much more.\nProceeds benefit Stonecroft Ministries.\nBuffet lunch\, program & chance to win door prizes. Cost is $23\nSpecial inspirational speaker:  Melody Grace of Amarillo\, TX sharing her story of “A Gift for You and Me”\nRSVP by Oct 6th to Sharen at 806-392-0264 or LubbockCWC@gmail.com\nLubbock Country Club\, 3400 Mesa Road\nPlease honor reservations or cancel by Oct.6
URL:https://myflr.org/event/going-going-gone-silent-auction-for-lubbock-christian-womens-connection/
LOCATION:LUBBOCK COUNTRY CLUB\, 3400 MESA DRIVE\, Lubbock\, TX\, United States
END:VEVENT
BEGIN:VEVENT
DTSTART;TZID=America/Phoenix:20230912T113000
DTEND;TZID=America/Phoenix:20230912T130000
DTSTAMP:20260421T191414
CREATED:20230906T171150Z
LAST-MODIFIED:20230906T171150Z
UID:10013638-1694518200-1694523600@myflr.org
SUMMARY:Seasonal Changes with the Lubbock Christian Women’s Connection
DESCRIPTION:Please join us on Tuesday\, September 12\, 2023\, for a buffet lunch\, program\, & chance to win door prizes. Special music by recording artist and songwriter\, Bruce Fellers. Our speaker is Julie Altemas of Carrollton\, TX who will share her story of “Journey from Darkness to Light”.\nLubbock Country Club\, 3400 Mesa Road\nCost is $23\nRSVP by Sept 8th to Sharen 806.392.0264 or LubbockCWC@gmail.com\nPlease honor reservations or cancel by Sept 8th.
URL:https://myflr.org/event/seasonal-changes-with-the-lubbock-christian-womens-connection/
LOCATION:LUBBOCK COUNTRY CLUB\, 3400 MESA DRIVE\, Lubbock\, TX\, United States
CATEGORIES:Texas
END:VEVENT
BEGIN:VEVENT
DTSTART;TZID=America/Phoenix:20230808T113000
DTEND;TZID=America/Phoenix:20230808T130000
DTSTAMP:20260421T191414
CREATED:20230726T183810Z
LAST-MODIFIED:20230726T183810Z
UID:10013074-1691494200-1691499600@myflr.org
SUMMARY:Life is a Love Song
DESCRIPTION:Please join the Lubbock Christian Women’s Connection as Yvonne Karlin of Willis\, TX shares about “Making Every Day a Love Song”.\nDillard’s will present a style show with live models.\nBuffet lunch\, program & chance to win door prizes.\nRSVP: August 4th\nContact Sharen: 806.392.0264\nor LubbockCWC@gmail.com
URL:https://myflr.org/event/life-is-a-love-song/
LOCATION:LUBBOCK COUNTRY CLUB\, 3400 MESA DRIVE\, Lubbock\, TX\, United States
CATEGORIES:Texas
ATTACH;FMTTYPE=image/jpeg:https://eadn-wc05-15902914.nxedge.io/wp-content/uploads/2023/07/unnamed-12.jpg
END:VEVENT
BEGIN:VEVENT
DTSTART;TZID=America/Phoenix:20230711T113000
DTEND;TZID=America/Phoenix:20230711T133000
DTSTAMP:20260421T191414
CREATED:20230621T211504Z
LAST-MODIFIED:20230621T211504Z
UID:10011303-1689075000-1689082200@myflr.org
SUMMARY:Let Freedom Ring-Lubbock Christian Women’s Connection Luncheon
DESCRIPTION:Please join the Lubbock Christian Women’s Connection as we Let Freedom Ring celebrating our veterans on Tues\, July 11th. \nOur speaker\, Lt. Cmdr Fred Salee\, USN\, of Lubbock\, will share how his life has been “Transformed Through Tragedy”. \nSpecial patriotic music will be provided by local artists\, Russ & Linda Murphy. \n*****Men are invited ——–Men are invited.***** \nWe meet at the Lubbock Country Club\, 3400 Mesa Road from 11:30 to 1:30. The cost is $23 for a buffet lunch\, program and a chance to win a door prize.\nPlease contact Sharen at 806-392-0264 or LubbockCWC@gmail.com to make a reservation\, the deadline is July 7th. Payment is at the door. While we always accept walkins we would prefer that you make a reservation to ensure seating and quantity of food.\nRosemarie Dailey\n44kdailey@gmail.com\n903.219.1847
URL:https://myflr.org/event/let-freedom-ring-lubbock-christian-womens-connection-luncheon/
LOCATION:LUBBOCK COUNTRY CLUB\, 3400 MESA DRIVE\, Lubbock\, TX\, United States
CATEGORIES:Texas
END:VEVENT
BEGIN:VEVENT
DTSTART;TZID=America/Phoenix:20230613T113000
DTEND;TZID=America/Phoenix:20230613T133000
DTSTAMP:20260421T191414
CREATED:20230522T172936Z
LAST-MODIFIED:20230522T172936Z
UID:10009502-1686655800-1686663000@myflr.org
SUMMARY:The Closet is Calling
DESCRIPTION:Lubbock Christian Women’s Connection is hosting Debbie Monahan of Lewisville\, TX.  She will share and demonstrate how to become the organized woman you would like to be\, physically and spiritually.
URL:https://myflr.org/event/the-closet-is-calling-2/
LOCATION:LUBBOCK COUNTRY CLUB\, 3400 MESA DRIVE\, Lubbock\, TX\, United States
CATEGORIES:Texas
END:VEVENT
BEGIN:VEVENT
DTSTART;TZID=America/Phoenix:20230613T113000
DTEND;TZID=America/Phoenix:20230613T133000
DTSTAMP:20260421T191414
CREATED:20230518T012446Z
LAST-MODIFIED:20230518T012446Z
UID:10009494-1686655800-1686663000@myflr.org
SUMMARY:The Closet is Calling
DESCRIPTION:Is your “Closet Calling” you to organize and sort out your life? If so\, join the Lubbock Christian Women’s Connection on Tues\, June 13th. Our speaker\, Debbie Monahan\, will fly in from Lewisville Tx and demonstrate how to be the organized woman you’ve always wanted to be! We meet at the Lubbock Country Club\, 3400 Mesa Road\, from 11:30 to 1:30. The cost is $23 for a buffet lunch\, program and a chance to win a door prize. Please contact Sharen at 806-392-0264 or LubbockCWC@gmail.com to make a reservation\, the deadline is June 9th. Payment is at the door. While we always accept walk-ins we would prefer you to make a reservation to ensure seating and quantity of food.
URL:https://myflr.org/event/the-closet-is-calling/
LOCATION:LUBBOCK COUNTRY CLUB\, 3400 MESA DRIVE\, Lubbock\, TX\, United States
CATEGORIES:Texas
ATTACH;FMTTYPE=image/png:https://eadn-wc05-15902914.nxedge.io/wp-content/uploads/2023/05/logo-and-Stonecroft.png
END:VEVENT
BEGIN:VEVENT
DTSTART;TZID=America/Phoenix:20230509T113000
DTEND;TZID=America/Phoenix:20230509T133000
DTSTAMP:20260421T191414
CREATED:20230502T175621Z
LAST-MODIFIED:20230502T175621Z
UID:10008821-1683631800-1683639000@myflr.org
SUMMARY:Queen for A Day
DESCRIPTION:The Lubbock CWC will hold it’s next luncheon on\nTuesday\, May 9th from 11:30 to 1:30 at the Lubbock Country Club located at 3400 Mesa Road.\nChanda Allen of Antiqueology\, near Indiana and 116th street\, will present The Perfect Mix of Old and New: showcasing their “history-inspired collectables\, décor\, gifts\, and furniture.”\nPaula Abbot from Terrell Tx\, will inspire us with her talk of “Condemned- Do Not Enter”\nBuffet lunch\, program and chance to win a door prize is $23. Reservations deadline is Friday\, May 5th. Call Sharen @806-392-0264 or email name to LubbockCWC@gmail.com. Please strive to turn in reservations by deadline so we can have preparations ready for you!
URL:https://myflr.org/event/queen-for-a-day/
LOCATION:LUBBOCK COUNTRY CLUB\, 3400 MESA DRIVE\, Lubbock\, TX\, United States
CATEGORIES:Texas
END:VEVENT
END:VCALENDAR