
BEGIN:VCALENDAR
VERSION:2.0
PRODID:-//Family Life Radio - ECPv6.15.20//NONSGML v1.0//EN
CALSCALE:GREGORIAN
METHOD:PUBLISH
X-ORIGINAL-URL:https://myflr.org
X-WR-CALDESC:Events for Family Life Radio
REFRESH-INTERVAL;VALUE=DURATION:PT1H
X-Robots-Tag:noindex
X-PUBLISHED-TTL:PT1H
BEGIN:VTIMEZONE
TZID:America/Phoenix
BEGIN:STANDARD
TZOFFSETFROM:-0700
TZOFFSETTO:-0700
TZNAME:MST
DTSTART:20220101T000000
END:STANDARD
END:VTIMEZONE
BEGIN:VEVENT
DTSTART;VALUE=DATE:20251206
DTEND;VALUE=DATE:20251207
DTSTAMP:20260421T134326
CREATED:20251119T220946Z
LAST-MODIFIED:20251119T221404Z
UID:10057603-1764979200-1765065599@myflr.org
SUMMARY:TOY DRIVE 2025-Lubbock Dream Center
DESCRIPTION:🎁 Toy Drive 2025 – Lubbock Dream CenterHelp us bless at-risk youth (ages 7–18) and support families walking through a season of rebuilding and hope. \n📍 Drop-Off Location:Lubbock Dream Center1111 30th St\, Lubbock\, TX 79411📞 (806) 793-3336 \nEvery year\, the Lubbock Dream Center partners with the New Legacy Home to provide Christmas gift baskets for the ladies in the program and to help care for their families while they are on their 15-month healing and restoration journey.We have a special brother/sister relationship with NLH\, and together we want to ensure these families feel loved\, supported\, and remembered this Christmas. \n🎄 How You Can Help:• Donate new\, unwrapped toys for youth ages 7–18• Give family-friendly items like board games and puzzles that bring families together•  Help to bless 25 nominated families with Christmas gifts and support \nAll toy donations can be dropped off directly at the Lubbock Dream Center.Thank you for helping us bring hope\, joy\, and the love of Jesus to families who need it most this Christmas!
URL:https://myflr.org/event/toy-drive-2025-lubbock-dream-center/
LOCATION:Lubbock Dream Center\, 1111 30th Street\, Lubbock\, TX\, 79416\, United States
CATEGORIES:Featured,Texas
ATTACH;FMTTYPE=image/jpeg:https://eadn-wc05-15902914.nxedge.io/wp-content/uploads/2025/11/90.1-TX-Toy-Drive-Social-Post-1x1-2.jpg
END:VEVENT
BEGIN:VEVENT
DTSTART;VALUE=DATE:20241208
DTEND;VALUE=DATE:20241209
DTSTAMP:20260421T134326
CREATED:20241106T011934Z
LAST-MODIFIED:20241106T012350Z
UID:10037411-1733616000-1733702399@myflr.org
SUMMARY:Family Life Radio’s TOY DRIVE 2024-LUBBOCK
DESCRIPTION:FLR Toy Drive 2024 for Lubbock Dream Center\nFamily Life Radio Toy Drive 2024\nNov 4 – Dec 8\nFor kids 4-18 years old  in Lubbock\, TX\nLubbock Dream  has been ministering in this area to families since 2010 & they are Family Life Radio‘s non-profit benefiting these donations of Toys\, Socks\, gloves\, Beanies & scarves!\n\nDonate Unwrapped Toys In-Person: www.MyFLR.org/ToyDrive/\n\nShop from Your Phone via our Amazon Wishlist\n\n\n\nLet’s make a difference together this season for kids & love like Jesus\n\n\nFor some children\, the only gift they get this Christmas might be from you!\n\n\n\n\n\nLet’s make a difference together this season for kids & love like Jesus!\nTHANK YOU for helping us help kids and families Experience Hope this Christmas!
URL:https://myflr.org/event/family-life-radios-toy-drive-2024-lubbock/
LOCATION:Lubbock Dream Center\, 1111 30th Street\, Lubbock\, TX\, 79416\, United States
CATEGORIES:Featured,Texas
ATTACH;FMTTYPE=image/jpeg:https://eadn-wc05-15902914.nxedge.io/wp-content/uploads/2024/11/90.1-TX-Toy-Drive-Social-Post-1x1-1.jpg
END:VEVENT
BEGIN:VEVENT
DTSTART;TZID=America/Phoenix:20231203T080000
DTEND;TZID=America/Phoenix:20231203T170000
DTSTAMP:20260421T134326
CREATED:20231115T234204Z
LAST-MODIFIED:20231115T234204Z
UID:10018485-1701590400-1701622800@myflr.org
SUMMARY:Toy Drive 2023 w/ Family Life Radio NOW until Dec 3rd! (Lubbock\, TX)
DESCRIPTION:Life can be difficult for many kids. Now more than ever\, we are ready to spread the joy and spirit of Christmas to these disadvantaged kids and families. It may look like a simple toy\, but to a child in need this Christmas\, it is a sign that someone loves and cares for them. \nThis year we’ve partnered with Lubbock Dream Center\, to reach the kids and families in Lubbock\, TX area for Christmas! Every year the Lubbock Dream Center adopts the New Legacy Home ladies for Christmas and creates gift baskets for them and their families. We have a brother/sister relationship with the NLH and we want to make sure that while the ladies are in this fifteen month long program their children are taken care of as they stay with parents/grandparents during this reset season in their life. https://lubbockdreamcenter.org/family-to-family-christmas/ \nYou can participate by dropping off a NEW\, unwrapped toy\, sports balls\, games or gift card at any participating drop-off location\, by going to: www.MyFLR.org/ToyDrive/  \nChoose TEXAS \nFor more information contact:https://lubbockdreamcenter.org/ \nTHANK YOU for providing a toy and helping a child in need experience hope this Christmas!
URL:https://myflr.org/event/toy-drive-2023-w-family-life-radio-now-until-dec-3rd-lubbock-tx/
LOCATION:Lubbock Dream Center\, 1111 30th Street\, Lubbock\, TX\, 79416\, United States
CATEGORIES:Featured,Texas
ATTACH;FMTTYPE=image/png:https://eadn-wc05-15902914.nxedge.io/wp-content/uploads/2023/11/11-X-17-TOY-DRIVE-90.1-FM-2023.png
END:VEVENT
END:VCALENDAR