
BEGIN:VCALENDAR
VERSION:2.0
PRODID:-//Family Life Radio - ECPv6.15.20//NONSGML v1.0//EN
CALSCALE:GREGORIAN
METHOD:PUBLISH
X-ORIGINAL-URL:https://myflr.org
X-WR-CALDESC:Events for Family Life Radio
REFRESH-INTERVAL;VALUE=DURATION:PT1H
X-Robots-Tag:noindex
X-PUBLISHED-TTL:PT1H
BEGIN:VTIMEZONE
TZID:America/Phoenix
BEGIN:STANDARD
TZOFFSETFROM:-0700
TZOFFSETTO:-0700
TZNAME:MST
DTSTART:20230101T000000
END:STANDARD
END:VTIMEZONE
BEGIN:VTIMEZONE
TZID:America/Detroit
BEGIN:DAYLIGHT
TZOFFSETFROM:-0500
TZOFFSETTO:-0400
TZNAME:EDT
DTSTART:20240310T070000
END:DAYLIGHT
BEGIN:STANDARD
TZOFFSETFROM:-0400
TZOFFSETTO:-0500
TZNAME:EST
DTSTART:20241103T060000
END:STANDARD
BEGIN:DAYLIGHT
TZOFFSETFROM:-0500
TZOFFSETTO:-0400
TZNAME:EDT
DTSTART:20250309T070000
END:DAYLIGHT
BEGIN:STANDARD
TZOFFSETFROM:-0400
TZOFFSETTO:-0500
TZNAME:EST
DTSTART:20251102T060000
END:STANDARD
BEGIN:DAYLIGHT
TZOFFSETFROM:-0500
TZOFFSETTO:-0400
TZNAME:EDT
DTSTART:20260308T070000
END:DAYLIGHT
BEGIN:STANDARD
TZOFFSETFROM:-0400
TZOFFSETTO:-0500
TZNAME:EST
DTSTART:20261101T060000
END:STANDARD
END:VTIMEZONE
BEGIN:VEVENT
DTSTART;TZID=America/Phoenix:20260215T193000
DTEND;TZID=America/Phoenix:20260215T210000
DTSTAMP:20260421T102145
CREATED:20260204T180058Z
LAST-MODIFIED:20260204T180058Z
UID:10058927-1771183800-1771189200@myflr.org
SUMMARY:Guest Pianist and Alum Matthew Kimbley in Concert - Collegedale
DESCRIPTION:The School of Music welcomes guest pianist and alum Matthew Kimbley for a free concert celebrating African American classical composers on Sunday\, February 15\, at 7:30 p.m. in Mabel Wood Hall’s Ackerman Auditorium. For live streaming and other information\, visit southern.edu/musicevents.
URL:https://myflr.org/event/guest-pianist-and-alum-matthew-kimbley-in-concert-collegedale/
LOCATION:Mabel Wood Hall’s Ackerman Auditorium (Collegedale\, TN)\, Southern Adventist University\, Collegedale\, TN\, 37315\, United States
CATEGORIES:Tennesee
ATTACH;FMTTYPE=image/png:https://eadn-wc05-15902914.nxedge.io/wp-content/uploads/2026/02/Screenshot-2026-02-04-at-11.36.31-AM.png
ORGANIZER;CN="Southern Adventist University":MAILTO:tina@southern.edu
END:VEVENT
BEGIN:VEVENT
DTSTART;TZID=America/Detroit:20250503T210000
DTEND;TZID=America/Detroit:20250503T223000
DTSTAMP:20260421T102145
CREATED:20250403T144733Z
LAST-MODIFIED:20250403T144733Z
UID:10040915-1746306000-1746311400@myflr.org
SUMMARY:Jazz Ensemble Concert at Southern Adventist University – Collegedale
DESCRIPTION:Southern Adventist University’s Jazz Ensemble from the School of Music presents a jazz ensemble concert directed by Ken Parsons. The concert is set for Saturday\, May 3\, at 9 p.m. in Mabel Wood Hall’s Ackerman Auditorium on campus. This free event also will be livestreamed. For additional details\, visit southern.edu/musicevents or call 423.236.2880.
URL:https://myflr.org/event/jazz-ensemble-concert-at-southern-adventist-university-collegedale/
LOCATION:Mabel Wood Hall’s Ackerman Auditorium (Collegedale\, TN)\, Southern Adventist University\, Collegedale\, TN\, 37315\, United States
CATEGORIES:Tennesee
ATTACH;FMTTYPE=image/png:https://eadn-wc05-15902914.nxedge.io/wp-content/uploads/2025/04/SAU_JazzEnsemble.png
ORGANIZER;CN="Southern Adventist University":MAILTO:tina@southern.edu
END:VEVENT
BEGIN:VEVENT
DTSTART;TZID=America/Phoenix:20250428T193000
DTEND;TZID=America/Phoenix:20250428T203000
DTSTAMP:20260421T102145
CREATED:20250326T170118Z
LAST-MODIFIED:20250326T170118Z
UID:10040487-1745868600-1745872200@myflr.org
SUMMARY:Horn Ensemble Concert at Southern Adventist University – Collegedale
DESCRIPTION:The School of Music at Southern Adventist University invites the community to a performance by the Horn Ensemble\, conducted by Gordon James\, on Monday\, April 28\, at 7:30 p.m. in Mabel Wood Hall’s Ackerman Auditorium on campus. This free event also will be livestreamed. For additional details\, visit southern.edu/musicevents or call 423.236.2880.
URL:https://myflr.org/event/horn-ensemble-concert-at-southern-adventist-university-collegedale/
LOCATION:Mabel Wood Hall’s Ackerman Auditorium (Collegedale\, TN)\, Southern Adventist University\, Collegedale\, TN\, 37315\, United States
CATEGORIES:Tennesee
ATTACH;FMTTYPE=image/png:https://eadn-wc05-15902914.nxedge.io/wp-content/uploads/2025/03/SAU_HornEnsemble.png
ORGANIZER;CN="Southern Adventist University":MAILTO:tina@southern.edu
END:VEVENT
BEGIN:VEVENT
DTSTART;TZID=America/Phoenix:20250421T193000
DTEND;TZID=America/Phoenix:20250421T203000
DTSTAMP:20260421T102145
CREATED:20250403T144814Z
LAST-MODIFIED:20250403T144814Z
UID:10040913-1745263800-1745267400@myflr.org
SUMMARY:Steel Band Concert at Southern Adventist University – Collegedale
DESCRIPTION:Southern Adventist University’s School of Music invites the community to a concert by its Steel Band in Mabel Wood Hall’s Ackerman Auditorium on Monday\, April 21\, at 7:30 p.m. For more information on this free concert\, visit southern.edu/musicevents or call 423.236.2880.
URL:https://myflr.org/event/steel-band-concert-at-southern-adventist-university-collegedale/
LOCATION:Mabel Wood Hall’s Ackerman Auditorium (Collegedale\, TN)\, Southern Adventist University\, Collegedale\, TN\, 37315\, United States
CATEGORIES:Tennesee
ATTACH;FMTTYPE=image/png:https://eadn-wc05-15902914.nxedge.io/wp-content/uploads/2025/04/SAU_SteelBand.png
ORGANIZER;CN="Southern Adventist University":MAILTO:tina@southern.edu
END:VEVENT
BEGIN:VEVENT
DTSTART;TZID=America/Phoenix:20250403T193000
DTEND;TZID=America/Phoenix:20250403T203000
DTSTAMP:20260421T102145
CREATED:20250328T151554Z
LAST-MODIFIED:20250328T151554Z
UID:10040507-1743708600-1743712200@myflr.org
SUMMARY:Southern Adventist University’s School of Music Presents Alan Shikoh Recital – Collegedale
DESCRIPTION:Southern Adventist University’s School of Music invites the community to a recital by adjunct instructor and classical guitarist Alan Shikoh on Thursday\, April 3\, at 7:30 p.m. in Mabel Wood Hall’s Ackerman Auditorium. To livestream the free performance\, visit southern.edu/musicevents.
URL:https://myflr.org/event/southern-adventist-universitys-school-of-music-presents-alan-shikoh-recital-collegedale/
LOCATION:Mabel Wood Hall’s Ackerman Auditorium (Collegedale\, TN)\, Southern Adventist University\, Collegedale\, TN\, 37315\, United States
CATEGORIES:Tennesee
ATTACH;FMTTYPE=image/png:https://eadn-wc05-15902914.nxedge.io/wp-content/uploads/2025/03/SAU_AlanShikoh_04-03-25.png
ORGANIZER;CN="Southern Adventist University":MAILTO:tina@southern.edu
END:VEVENT
BEGIN:VEVENT
DTSTART;TZID=America/Phoenix:20250116T193000
DTEND;TZID=America/Phoenix:20250116T203000
DTSTAMP:20260421T102145
CREATED:20241029T155105Z
LAST-MODIFIED:20241029T155105Z
UID:10037369-1737055800-1737059400@myflr.org
SUMMARY:Percussionist Michael Yeung in Concert at Southern Adventist University
DESCRIPTION:Southern Adventist University welcomes guest percussionist Michael Yeung to perform on Thursday\, January 16\, at 7:30 p.m. in Mabel Wood Hall’s Ackerman Auditorium on the university campus as part of this year’s Performing Arts Series. This event is open to the public. Admission for community guests is $10 per person and can be paid at the door. For more information\, visit southern.edu/southernevents.
URL:https://myflr.org/event/percussionist-michael-yeung-in-concert-at-southern-adventist-university/
LOCATION:Mabel Wood Hall’s Ackerman Auditorium (Collegedale\, TN)\, Southern Adventist University\, Collegedale\, TN\, 37315\, United States
CATEGORIES:Tennesee
ATTACH;FMTTYPE=image/jpeg:https://eadn-wc05-15902914.nxedge.io/wp-content/uploads/2024/10/SAU_MichaelYeung_01-16-25-scaled.jpeg
ORGANIZER;CN="Southern Adventist University":MAILTO:tina@southern.edu
END:VEVENT
BEGIN:VEVENT
DTSTART;TZID=America/Phoenix:20241214T193000
DTEND;TZID=America/Phoenix:20241214T203000
DTSTAMP:20260421T102145
CREATED:20241029T155746Z
LAST-MODIFIED:20241029T155746Z
UID:10037358-1734204600-1734208200@myflr.org
SUMMARY:School of Music Christmas Concert at Southern Adventist University
DESCRIPTION:Southern Adventist University’s School of Music presents a sacred Christmas program featuring J.S. Bach’s Magnificat\, a highly celebrated work for five-part chorus conducted by Gennevieve Brown-Kibble and Laurie Redmer Cadwallader\, on Saturday\, December 14\, at 4 p.m. in Collegedale Church of Seventh-day Adventists on campus. Come early to hear the Southern Ringtones usher in the season with sing-along carols and organ accompaniment. Choirs and the Symphony Orchestra will be joined by an alumni cast of soloists. This free event is open to the public and will be livestreamed. For additional details\, visit southern.edu/musicevents or call 423.236.2880.
URL:https://myflr.org/event/school-of-music-christmas-concert-at-southern-adventist-university/
LOCATION:Mabel Wood Hall’s Ackerman Auditorium (Collegedale\, TN)\, Southern Adventist University\, Collegedale\, TN\, 37315\, United States
CATEGORIES:Tennesee
ATTACH;FMTTYPE=image/jpeg:https://eadn-wc05-15902914.nxedge.io/wp-content/uploads/2024/10/SAU_iCantori_4-27-24.jpg
ORGANIZER;CN="Southern Adventist University":MAILTO:tina@southern.edu
END:VEVENT
BEGIN:VEVENT
DTSTART;TZID=America/Phoenix:20241209T193000
DTEND;TZID=America/Phoenix:20241209T203000
DTSTAMP:20260421T102145
CREATED:20241121T162539Z
LAST-MODIFIED:20241121T162539Z
UID:10037454-1733772600-1733776200@myflr.org
SUMMARY:Horn Ensemble Concert at Southern Adventist University
DESCRIPTION:The School of Music at Southern Adventist University invites the community to a performance by the Horn Ensemble\, conducted by Gordon James\, on Monday\, December 9\, at 7:30 p.m. in Mabel Wood Hall’s Ackerman Auditorium. This free event also will be livestreamed. For additional details\, visit southern.edu/musicevents or call 423.236.2880.
URL:https://myflr.org/event/horn-ensemble-concert-at-southern-adventist-university-2/
LOCATION:Mabel Wood Hall’s Ackerman Auditorium (Collegedale\, TN)\, Southern Adventist University\, Collegedale\, TN\, 37315\, United States
CATEGORIES:Tennesee
ATTACH;FMTTYPE=image/png:https://eadn-wc05-15902914.nxedge.io/wp-content/uploads/2024/11/SAU_HornEnsemble.png
ORGANIZER;CN="Southern Adventist University":MAILTO:tina@southern.edu
END:VEVENT
BEGIN:VEVENT
DTSTART;TZID=America/Phoenix:20241103T193000
DTEND;TZID=America/Phoenix:20241103T203000
DTSTAMP:20260421T102145
CREATED:20240930T143609Z
LAST-MODIFIED:20240930T143609Z
UID:10036360-1730662200-1730665800@myflr.org
SUMMARY:“PDQ Bach” Schickele Memorial Concert at Southern Adventist University
DESCRIPTION:Students from the School of Music at Southern Adventist University invite the community to a free concert honoring the late composer Peter Schickele\, a multi-Grammy-award-winning musical satirist\, on Sunday\, November 3\, at 7:30 p.m. in Mabel Wood Hall’s Ackerman Auditorium on campus. For more information about this free event\, visit southern.edu/musicevents or call 423.236.2880.
URL:https://myflr.org/event/pdq-bach-schickele-memorial-concert-at-southern-adventist-university/
LOCATION:Mabel Wood Hall’s Ackerman Auditorium (Collegedale\, TN)\, Southern Adventist University\, Collegedale\, TN\, 37315\, United States
CATEGORIES:Tennesee
ATTACH;FMTTYPE=image/jpeg:https://eadn-wc05-15902914.nxedge.io/wp-content/uploads/2024/09/SAU_PDQ-Bach_11-3-24.jpg
ORGANIZER;CN="Southern Adventist University":MAILTO:tina@southern.edu
END:VEVENT
BEGIN:VEVENT
DTSTART;TZID=America/Phoenix:20240427T210000
DTEND;TZID=America/Phoenix:20240427T220000
DTSTAMP:20260421T102145
CREATED:20240320T212501Z
LAST-MODIFIED:20240320T212501Z
UID:10022810-1714251600-1714255200@myflr.org
SUMMARY:Jazz Ensemble Concert at Southern Adventist University
DESCRIPTION:Southern Adventist University’s School of Music presents “Happy Birthday\, Duke\,” a Jazz Ensemble concert\, as a tribute to Duke Ellington. Directed by Ken Parsons\, the ensemble will perform in Mabel Wood Hall’s Ackerman Auditorium on Saturday\, April 27\, at 9 p.m. The repertoire will feature Ellington’s Satin Doll and Mood Indigo\, among other songs. Allyson Stirewalt\, sophomore music major\, and Natalie Jensen\, senior music education major\, will be featured as vocalists. This free event also will be livestreamed. For additional details\, visit southern.edu/musicevents or call 423.236.2880.
URL:https://myflr.org/event/jazz-ensemble-concert-at-southern-adventist-university/
LOCATION:Mabel Wood Hall’s Ackerman Auditorium (Collegedale\, TN)\, Southern Adventist University\, Collegedale\, TN\, 37315\, United States
CATEGORIES:Tennesee
ATTACH;FMTTYPE=image/jpeg:https://eadn-wc05-15902914.nxedge.io/wp-content/uploads/2024/03/SAU_Jazz-Band_4-27-24-scaled.jpg
END:VEVENT
BEGIN:VEVENT
DTSTART;TZID=America/Phoenix:20240422T193000
DTEND;TZID=America/Phoenix:20240422T203000
DTSTAMP:20260421T102145
CREATED:20240307T142513Z
LAST-MODIFIED:20240307T142513Z
UID:10020880-1713814200-1713817800@myflr.org
SUMMARY:Horn Ensemble Concert at Southern Adventist University
DESCRIPTION:Southern Adventist University’s School of Music invites the community to a Horn Ensemble Concert\, under the direction of Gordon James\, on Monday\, April 22\, at 7:30 p.m. in Mabel Wood Hall’s Ackerman Auditorium. Repertoire will include arrangements by Bach\, Gounod\, and Henry Mancini\, in addition to modern pieces and timeless classics. This event is free and open to the community. For more information\, visit southern.edu/musicevents or call 423.236.2880.
URL:https://myflr.org/event/horn-ensemble-concert-at-southern-adventist-university/
LOCATION:Mabel Wood Hall’s Ackerman Auditorium (Collegedale\, TN)\, Southern Adventist University\, Collegedale\, TN\, 37315\, United States
CATEGORIES:Tennesee
ATTACH;FMTTYPE=image/jpeg:https://eadn-wc05-15902914.nxedge.io/wp-content/uploads/2024/03/SAU_Horn-Ensemble_04-22-24-scaled.jpg
END:VEVENT
BEGIN:VEVENT
DTSTART;TZID=America/Phoenix:20240417T193000
DTEND;TZID=America/Phoenix:20240417T203000
DTSTAMP:20260421T102145
CREATED:20240307T142808Z
LAST-MODIFIED:20240307T142808Z
UID:10020877-1713382200-1713385800@myflr.org
SUMMARY:Steel Band Concert at Southern Adventist University
DESCRIPTION:Southern Adventist University’s School of Music invites the community to a concert by its Steel Band in Mabel Wood Hall’s Ackerman Auditorium on Wednesday\, April 17\, at 7:30 p.m. The repertoire will be a mixed variety of songs written specifically for steel pans along with arrangements of folk music and popular music\, including Day-O (Banana Boat Song)\, Kokomo\, Late in the Evening\, The Point of Focus\, El Montuno\, and Hard Times. This free concert is open to the public. For more information\, visit southern.edu/musicevents or call 423.236.2880.
URL:https://myflr.org/event/steel-band-concert-at-southern-adventist-university/
LOCATION:Mabel Wood Hall’s Ackerman Auditorium (Collegedale\, TN)\, Southern Adventist University\, Collegedale\, TN\, 37315\, United States
CATEGORIES:Tennesee
ATTACH;FMTTYPE=image/jpeg:https://eadn-wc05-15902914.nxedge.io/wp-content/uploads/2024/03/SAU_SteelBand_4-17-24.jpg
END:VEVENT
BEGIN:VEVENT
DTSTART;TZID=America/Phoenix:20240407T193000
DTEND;TZID=America/Phoenix:20240407T203000
DTSTAMP:20260421T102145
CREATED:20240304T191330Z
LAST-MODIFIED:20240304T191330Z
UID:10020809-1712518200-1712521800@myflr.org
SUMMARY:Choirs Spring Concert at Southern Adventist University
DESCRIPTION:The School of Music at Southern Adventist University invites the community to a Spring Concert on Sunday\, April 7\, at 7:30 p.m. in Mabel Wood Hall’s Ackerman Auditorium on campus. Directed by Gennevieve Brown-Kibble\, the concert will feature Southern’s choral ensembles\, Bel Canto\, Die Meistersinger\, and I Cantori. The repertoire will include excerpts from musical theater\, including Les Misérables\, South Pacific\, and The Sound of Music. This free event also will be livestreamed. For additional details\, visit southern.edu/musicevents or call 423.236.2880.
URL:https://myflr.org/event/choirs-spring-concert-at-southern-adventist-university/
LOCATION:Mabel Wood Hall’s Ackerman Auditorium (Collegedale\, TN)\, Southern Adventist University\, Collegedale\, TN\, 37315\, United States
CATEGORIES:Tennesee
ATTACH;FMTTYPE=image/jpeg:https://eadn-wc05-15902914.nxedge.io/wp-content/uploads/2024/03/SAU_Choirs_4-7-23-2-scaled.jpg
END:VEVENT
END:VCALENDAR