
BEGIN:VCALENDAR
VERSION:2.0
PRODID:-//Family Life Radio - ECPv6.15.20//NONSGML v1.0//EN
CALSCALE:GREGORIAN
METHOD:PUBLISH
X-ORIGINAL-URL:https://myflr.org
X-WR-CALDESC:Events for Family Life Radio
REFRESH-INTERVAL;VALUE=DURATION:PT1H
X-Robots-Tag:noindex
X-PUBLISHED-TTL:PT1H
BEGIN:VTIMEZONE
TZID:America/Phoenix
BEGIN:STANDARD
TZOFFSETFROM:-0700
TZOFFSETTO:-0700
TZNAME:MST
DTSTART:20230101T000000
END:STANDARD
END:VTIMEZONE
BEGIN:VEVENT
DTSTART;TZID=America/Phoenix:20240504T190000
DTEND;TZID=America/Phoenix:20240504T210000
DTSTAMP:20260421T191331
CREATED:20240319T213222Z
LAST-MODIFIED:20240319T221428Z
UID:10022803-1714849200-1714856400@myflr.org
SUMMARY:Family Life Radio Listener Appreciation Tour: An Evening with Mike Donehey from Tenth Avenue North!
DESCRIPTION:Family Life Radio’s Listener Appreciation Tour!\nFeaturing Mike Donehey: The Voice of Tenth Avenue North\n★ Performing the hits of his Platinum & Gold Selling band\, TENTH AVENUE NORTH\, we are thrilled to welcome award-winning singer and songwriter Mike Donehey! Mike will deliver you a night full of classics you know and love\, plus stories and worship. As the lead singer and founder of Tenth Avenue North\, Mike has voiced 12 Top-10 Hits on Christian Radio\, including signature anthems such as “Control (Somehow You Want Me)”\, “By Your Side”\, “You Are More”\, “Worn”\, “I Have This Hope”\, and many more! On May 4th\, he’s coming for a special night of stories and songs and we would love for you to come sing along and worship with us.\nGeneral Admission tickets are only $10 and VIP tickets are $20. Can’t wait to see you there!
URL:https://myflr.org/event/family-life-radio-exclusive-an-evening-with-mike-donehey-from-tenth-avenue-north-and-stephen-stanley-2/
LOCATION:McDowell Mountain Community Church\, 10700 N 124th St Central Scottsdale\, Scottsdale\, Arizona\, 85259\, United States
CATEGORIES:Arizona,Featured
ATTACH;FMTTYPE=image/png:https://eadn-wc05-15902914.nxedge.io/wp-content/uploads/2024/03/Mike-Donehey-Scottsdale-revised-1.png
END:VEVENT
END:VCALENDAR