
BEGIN:VCALENDAR
VERSION:2.0
PRODID:-//Family Life Radio - ECPv6.15.20//NONSGML v1.0//EN
CALSCALE:GREGORIAN
METHOD:PUBLISH
X-WR-CALNAME:Family Life Radio
X-ORIGINAL-URL:https://myflr.org
X-WR-CALDESC:Events for Family Life Radio
REFRESH-INTERVAL;VALUE=DURATION:PT1H
X-Robots-Tag:noindex
X-PUBLISHED-TTL:PT1H
BEGIN:VTIMEZONE
TZID:America/Detroit
BEGIN:DAYLIGHT
TZOFFSETFROM:-0500
TZOFFSETTO:-0400
TZNAME:EDT
DTSTART:20240310T070000
END:DAYLIGHT
BEGIN:STANDARD
TZOFFSETFROM:-0400
TZOFFSETTO:-0500
TZNAME:EST
DTSTART:20241103T060000
END:STANDARD
BEGIN:DAYLIGHT
TZOFFSETFROM:-0500
TZOFFSETTO:-0400
TZNAME:EDT
DTSTART:20250309T070000
END:DAYLIGHT
BEGIN:STANDARD
TZOFFSETFROM:-0400
TZOFFSETTO:-0500
TZNAME:EST
DTSTART:20251102T060000
END:STANDARD
BEGIN:DAYLIGHT
TZOFFSETFROM:-0500
TZOFFSETTO:-0400
TZNAME:EDT
DTSTART:20260308T070000
END:DAYLIGHT
BEGIN:STANDARD
TZOFFSETFROM:-0400
TZOFFSETTO:-0500
TZNAME:EST
DTSTART:20261101T060000
END:STANDARD
END:VTIMEZONE
BEGIN:VEVENT
DTSTART;TZID=America/Detroit:20251207T190000
DTEND;TZID=America/Detroit:20251207T203000
DTSTAMP:20260421T135728
CREATED:20251203T212509Z
LAST-MODIFIED:20251203T212509Z
UID:10057797-1765134000-1765139400@myflr.org
SUMMARY:Men of Music Christmas Concert
DESCRIPTION:The Men of Music’s annual Christmas concert will be held at 2 & 7pm on Sunday\, December 7\, with Memorial Presbyterian Church at 1310 Ashman Street in Midland serving as the host. A freewill offering taken during this free community concert will benefit the Midland County Food Assistance Network. No ticket required. \nThe “Men of Music” chorus has been singing in the Midland\, Michigan\, area since 1936 (originally known as the Dow Male Chorus). The current membership consists of over 50 men. Our director is Grace Marra\, and our accompanist is Joan Kinnett. In the last 20 years\, over $67\,000 has been raised for the Food Assistance Network. Well over $100\,000 has been raised over the years for local charities.
URL:https://myflr.org/event/men-of-music-christmas-concert-2/2025-12-07/2/
LOCATION:Memorial Presbyterian Church (Midland\, MI)\, 1310 Ashman Street\, Midland\, MI\, 48640\, United States
CATEGORIES:Michigan
ATTACH;FMTTYPE=image/jpeg:https://eadn-wc05-15902914.nxedge.io/wp-content/uploads/2025/11/MOM-2025-Christmas-Concert-Flyer-V1c.jpg
ORGANIZER;CN="Men of Music":MAILTO:menofmusicmi@gmail.com
END:VEVENT
END:VCALENDAR