
BEGIN:VCALENDAR
VERSION:2.0
PRODID:-//Family Life Radio - ECPv6.15.20//NONSGML v1.0//EN
CALSCALE:GREGORIAN
METHOD:PUBLISH
X-ORIGINAL-URL:https://myflr.org
X-WR-CALDESC:Events for Family Life Radio
REFRESH-INTERVAL;VALUE=DURATION:PT1H
X-Robots-Tag:noindex
X-PUBLISHED-TTL:PT1H
BEGIN:VTIMEZONE
TZID:America/Phoenix
BEGIN:STANDARD
TZOFFSETFROM:-0700
TZOFFSETTO:-0700
TZNAME:MST
DTSTART:20230101T000000
END:STANDARD
END:VTIMEZONE
BEGIN:VEVENT
DTSTART;TZID=America/Phoenix:20240529T190000
DTEND;TZID=America/Phoenix:20240529T220000
DTSTAMP:20260421T210215
CREATED:20230919T135745Z
LAST-MODIFIED:20230919T135745Z
UID:10015425-1717009200-1717020000@myflr.org
SUMMARY:NEEDTOBREATHE – THE CAVES WORLD TOUR – STERLING HEIGHTS
DESCRIPTION:NEEDTOBREATHE: THE CAVES WORLD TOUR\nWed May 29\, 2024 7:00 PM \nMichigan Lottery Amphitheatre at Freedom Hill | Sterling Heights\, MI\n\nTickets on sale September 22\, 2023 at https://www.ticketmaster.com/needtobreathe-the-caves-world-tour-sterling-heights-michigan-05-29-2024/event/08005F261A254645
URL:https://myflr.org/event/needtobreathe-the-caves-world-tour-sterling-heights/
LOCATION:Michigan Lottery Amphitheatre at Freedom Hill\, 14900 Metro Pkwy\, Sterling Heights\, MI\, 48312\, United States
CATEGORIES:Featured,Michigan
ATTACH;FMTTYPE=image/jpeg:https://eadn-wc05-15902914.nxedge.io/wp-content/uploads/2023/09/needtobreathe-caves-world-tour-1x1-1.jpg
END:VEVENT
END:VCALENDAR