
BEGIN:VCALENDAR
VERSION:2.0
PRODID:-//Family Life Radio - ECPv6.15.20//NONSGML v1.0//EN
CALSCALE:GREGORIAN
METHOD:PUBLISH
X-WR-CALNAME:Family Life Radio
X-ORIGINAL-URL:https://myflr.org
X-WR-CALDESC:Events for Family Life Radio
REFRESH-INTERVAL;VALUE=DURATION:PT1H
X-Robots-Tag:noindex
X-PUBLISHED-TTL:PT1H
BEGIN:VTIMEZONE
TZID:America/Detroit
BEGIN:DAYLIGHT
TZOFFSETFROM:-0500
TZOFFSETTO:-0400
TZNAME:EDT
DTSTART:20230312T070000
END:DAYLIGHT
BEGIN:STANDARD
TZOFFSETFROM:-0400
TZOFFSETTO:-0500
TZNAME:EST
DTSTART:20231105T060000
END:STANDARD
BEGIN:DAYLIGHT
TZOFFSETFROM:-0500
TZOFFSETTO:-0400
TZNAME:EDT
DTSTART:20240310T070000
END:DAYLIGHT
BEGIN:STANDARD
TZOFFSETFROM:-0400
TZOFFSETTO:-0500
TZNAME:EST
DTSTART:20241103T060000
END:STANDARD
BEGIN:DAYLIGHT
TZOFFSETFROM:-0500
TZOFFSETTO:-0400
TZNAME:EDT
DTSTART:20250309T070000
END:DAYLIGHT
BEGIN:STANDARD
TZOFFSETFROM:-0400
TZOFFSETTO:-0500
TZNAME:EST
DTSTART:20251102T060000
END:STANDARD
BEGIN:DAYLIGHT
TZOFFSETFROM:-0500
TZOFFSETTO:-0400
TZNAME:EDT
DTSTART:20260308T070000
END:DAYLIGHT
BEGIN:STANDARD
TZOFFSETFROM:-0400
TZOFFSETTO:-0500
TZNAME:EST
DTSTART:20261101T060000
END:STANDARD
BEGIN:DAYLIGHT
TZOFFSETFROM:-0500
TZOFFSETTO:-0400
TZNAME:EDT
DTSTART:20270314T070000
END:DAYLIGHT
BEGIN:STANDARD
TZOFFSETFROM:-0400
TZOFFSETTO:-0500
TZNAME:EST
DTSTART:20271107T060000
END:STANDARD
END:VTIMEZONE
BEGIN:VEVENT
DTSTART;TZID=America/Detroit:20260220T190000
DTEND;TZID=America/Detroit:20260220T220000
DTSTAMP:20260421T135307
CREATED:20250912T150141Z
LAST-MODIFIED:20250912T150141Z
UID:10052254-1771614000-1771624800@myflr.org
SUMMARY:NEEDTOBREATHE - The Barely Elegant Acoustic Tour
DESCRIPTION:Despite a 20-year history filled with accolades\, GRAMMY-nominated\, multi-platinum band\nNEEDTOBREATHE approached their latest studio album with a renewed mindset — a band still\nfeeling they have something to prove. Over the years\, they’ve carved out a distinctive space across\nmultiple genres\, blending modern rock\, purpose-driven soul\, and pop appeal into a rare and\nimpressive track record. With five Number One albums spanning the Billboard Rock\, Alternative\, and\nother charts\, over three billion career streams\, and multi-platinum hits like “Brother”\, “Who Am I\,” and\n“Let’s Stay Home Tonight\,” NEEDTOBREATHE has captivated audiences worldwide. Their music\nreflects two decades of masterful songwriting and musicianship\, exploring life’s profound emotions\nand experiences. Their most recent effort continues this journey\, exploring themes of personal\nstruggle\, redemption\, and resilience.
URL:https://myflr.org/event/needtobreathe-the-barely-elegant-acoustic-tour/
LOCATION:Michigan Theater – Ann Arbor\, 603 Liberty St\, Ann Arbor\, MI\, 48104\, United States
CATEGORIES:Featured,Michigan
ATTACH;FMTTYPE=image/jpeg:https://eadn-wc05-15902914.nxedge.io/wp-content/uploads/2025/09/Static_Social-Instagram_1080x1080_NEEDTOBREATHE_2025_Regional_MichiganTheaterAnnArbor_0220.jpg
END:VEVENT
BEGIN:VEVENT
DTSTART;TZID=America/Detroit:20250508T190000
DTEND;TZID=America/Detroit:20250508T213000
DTSTAMP:20260421T135307
CREATED:20250318T180609Z
LAST-MODIFIED:20250318T180609Z
UID:10040369-1746730800-1746739800@myflr.org
SUMMARY:Rend Collective Folk! Tour – Ann Arbor
DESCRIPTION:Coming to the Michigan Theater this spring – The FOLK! TOUR with Rend Collective! Join the band on their headlining tour this May\, supporting their new record FOLK! plus favorites like My Lighthouse\, Counting Every Blessing\, Build Your Kingdom Here. \nHailing from a small town off the coast of Northern Ireland\, Rend Collective wants to be known as a celebration band\, worshiping for God’s Glory and fame. Since the release of their first album\, Organic Family Hymnal\, the group’s authentic and energetic style of worship has attracted an international audience\, with career sales of more than 300\,000 albums. The group saw early success as their first ever single “Build Your Kingdom Here\,” peaked at No. 12 on the National Christian Audience Chart. \nSCHEDULE (subject to change):5:00 PM – Deluxe doors6:00 PM – Early Entry doors6:15 PM – General Admission doors open7:00 PM – Show begins
URL:https://myflr.org/event/rend-collective-folk-tour-ann-arbor/
LOCATION:Michigan Theater – Ann Arbor\, 603 Liberty St\, Ann Arbor\, MI\, 48104\, United States
CATEGORIES:Featured,Michigan
ATTACH;FMTTYPE=image/jpeg:https://eadn-wc05-15902914.nxedge.io/wp-content/uploads/2025/03/eY4Tju7Q.jpeg
ORGANIZER;CN="Echo Concerts":MAILTO:matt@echoconcerts.com
END:VEVENT
BEGIN:VEVENT
DTSTART;TZID=America/Detroit:20241015T193000
DTEND;TZID=America/Detroit:20241015T220000
DTSTAMP:20260421T135307
CREATED:20240821T145241Z
LAST-MODIFIED:20240821T145241Z
UID:10033491-1729020600-1729029600@myflr.org
SUMMARY:Amy Grant Live in Concert – Ann Arbor
DESCRIPTION:Amy Grant performs at the Michigan Theater in Ann Arbor reaching back through 45 years of our favorite songs. \nTuesday\, October 15 at 7:30 PM | Main Auditorium\n$59-$75
URL:https://myflr.org/event/amy-grant-live-in-concert-ann-arbor/
LOCATION:Michigan Theater – Ann Arbor\, 603 Liberty St\, Ann Arbor\, MI\, 48104\, United States
CATEGORIES:Featured,Michigan
ATTACH;FMTTYPE=image/jpeg:https://eadn-wc05-15902914.nxedge.io/wp-content/uploads/2024/08/437934246_1013635436798149_2016256050162090159_n.jpg
END:VEVENT
END:VCALENDAR