
BEGIN:VCALENDAR
VERSION:2.0
PRODID:-//Family Life Radio - ECPv6.15.20//NONSGML v1.0//EN
CALSCALE:GREGORIAN
METHOD:PUBLISH
X-ORIGINAL-URL:https://myflr.org
X-WR-CALDESC:Events for Family Life Radio
REFRESH-INTERVAL;VALUE=DURATION:PT1H
X-Robots-Tag:noindex
X-PUBLISHED-TTL:PT1H
BEGIN:VTIMEZONE
TZID:America/Phoenix
BEGIN:STANDARD
TZOFFSETFROM:-0700
TZOFFSETTO:-0700
TZNAME:MST
DTSTART:20220101T000000
END:STANDARD
END:VTIMEZONE
BEGIN:VEVENT
DTSTART;TZID=America/Phoenix:20240214T120000
DTEND;TZID=America/Phoenix:20240214T140000
DTSTAMP:20260421T180605
CREATED:20231226T135810Z
LAST-MODIFIED:20231226T135810Z
UID:10018735-1707912000-1707919200@myflr.org
SUMMARY:Midland Christian Women’s Connection “Love Is In The Air” Luncheon
DESCRIPTION:All ladies are invited and welcome to attend! Our feature\, Tammy Stevens\, Executive Director of Labor of Love MidMichigan\, a volunteer birth and postpartum doula organization\, will share how they serve mothers in need of support during and after pregnancy. Our inspirational speaker\, Lucille Van Aken\, of Hillsdale\, MI\, will share her inspirational story “Demolishing the Rocks of Inferiority\, Intimidation\, Fear of Failure and Anxiety”. \nLocation: Midland Country Club\, 1120 West St. Andrews Rd.\nDeadline for reservations: Sunday\, Feb. 11; email Lori at mcwcres@gmail.com (979-299-9831)\nCost: $18.00/payable at the door
URL:https://myflr.org/event/midland-christian-womens-connection-love-is-in-the-air-luncheon/
LOCATION:Midland Country Club (Midland\, MI)\, 1120 West St. Andrews Rd.\, Midland\, MI\, 48640\, United States
CATEGORIES:Michigan
ATTACH;FMTTYPE=image/jpeg:https://eadn-wc05-15902914.nxedge.io/wp-content/uploads/2023/12/Love.jpg
END:VEVENT
BEGIN:VEVENT
DTSTART;TZID=America/Phoenix:20240117T120000
DTEND;TZID=America/Phoenix:20240117T140000
DTSTAMP:20260421T180605
CREATED:20231226T134033Z
LAST-MODIFIED:20231226T134033Z
UID:10018733-1705492800-1705500000@myflr.org
SUMMARY:Midland (MI) Christian Women’s Connection “Happy New Year” Luncheon
DESCRIPTION:All ladies are invited and welcome to join us! Our feature Nicole Webster\, owner of Simply Smile Cakes\, is sharing love and kindness with the world\, one bite at a time. Nicole’s cakes are elegant\, delicious\, and affordable! Our inspirational speaker\, Larry Wyman\, from Clare\, MI\, will present his talk titled “Harassed – Happy Husband”. \nLocation: Midland Country Club\, 1120 West St. Andrews Rd.\nDeadline for reservations: Sunday\, January 14; email Lori at: mcwcres@gmail.com (979-299-9831)\nCost is $18.00/payable at the door.
URL:https://myflr.org/event/midland-mi-christian-womens-connection-happy-new-year-luncheon/
LOCATION:Midland Country Club (Midland\, MI)\, 1120 West St. Andrews Rd.\, Midland\, MI\, 48640\, United States
CATEGORIES:Michigan
ATTACH;FMTTYPE=image/jpeg:https://eadn-wc05-15902914.nxedge.io/wp-content/uploads/2023/12/New-year.jpg
END:VEVENT
BEGIN:VEVENT
DTSTART;TZID=America/Phoenix:20231213T120000
DTEND;TZID=America/Phoenix:20231213T140000
DTSTAMP:20260421T180605
CREATED:20231030T114440Z
LAST-MODIFIED:20231030T114440Z
UID:10017103-1702468800-1702476000@myflr.org
SUMMARY:Midland Christian Women’s Connection “Holiday Music” Luncheon
DESCRIPTION:All ladies are welcome and invited to attend! The “Holiday Music” luncheon will be held on Wednesday\, December 13 from noon – 2:00 p.m. Feature: Jonathan Harper\, Associate Pastor at Clare Assembly of God\, is a talented music writer and can play multiple instruments. He will fill our ears with holiday music at this festive luncheon. Inspirational Speaker: Lisa Haley\, West Salem\, OH\, will present “Surviving Life’s Surprises”. Lisa compares her rafting accident to life’s struggles. Her focus is on the grace of God. \nCost: $18.00/payable at the door\nDeadline for reservations: Sunday\, December 19; email Lori at: mcwcres@gmail.com
URL:https://myflr.org/event/midland-christian-womens-connection-holiday-music-luncheon/
LOCATION:Midland Country Club (Midland\, MI)\, 1120 West St. Andrews Rd.\, Midland\, MI\, 48640\, United States
CATEGORIES:Michigan
ATTACH;FMTTYPE=image/jpeg:https://eadn-wc05-15902914.nxedge.io/wp-content/uploads/2023/10/christmas-music-clip-art.jpg
END:VEVENT
BEGIN:VEVENT
DTSTART;TZID=America/Phoenix:20231108T120000
DTEND;TZID=America/Phoenix:20231108T140000
DTSTAMP:20260421T180605
CREATED:20231023T132817Z
LAST-MODIFIED:20231023T132817Z
UID:10017058-1699444800-1699452000@myflr.org
SUMMARY:Midland Christian Women’s Connection “Fashion Show” Luncheon
DESCRIPTION:All ladies are invited and welcome to attend. The fashion show luncheon is Wednesday\, November 8\, from noon to 2:00 p.m. at the Midland Country Club. \nFeature: Deb Keister\, Twice is Nice Resale Boutique\, in downtown Midland\, and our very own models will hit the runway with cute fashions! The fashion show is always popular so register today! You may be inspired for a new outfit! \nInspirational Speaker: Kathie Siudyla\, Grand Rapids\, MI\, will share “What’s love got to do with it?” Hear the story of how an abused\, rejected\, bitter woman found that genuine love has everything to do with mending a broken heart. \nCost: $18.00; payable at the door\nLocation: Midland Country Club\, 1120 West St. Andrews Rd\, Midland\, MI\nDeadline for reservations: Sunday\, November 5; email Lori at: mcwcres@gmail.com
URL:https://myflr.org/event/midland-christian-womens-connection-fashion-show-luncheon/
LOCATION:Midland Country Club (Midland\, MI)\, 1120 West St. Andrews Rd.\, Midland\, MI\, 48640\, United States
CATEGORIES:Michigan
ATTACH;FMTTYPE=image/jpeg:https://eadn-wc05-15902914.nxedge.io/wp-content/uploads/2023/10/fashion-show-clip-art.jpg
END:VEVENT
BEGIN:VEVENT
DTSTART;TZID=America/Phoenix:20231011T120000
DTEND;TZID=America/Phoenix:20231011T140000
DTSTAMP:20260421T180605
CREATED:20230918T161949Z
LAST-MODIFIED:20230918T161949Z
UID:10015397-1697025600-1697032800@myflr.org
SUMMARY:Midland Christian Women’s Connection – “Fall Fundraiser” Luncheon
DESCRIPTION:All women are welcome and invited to attend! It’s Fall fundraiser time again! Guests will be able to big and purchase gift baskets\, gift certificates\, and other delights as the group raises money for Stonecroft Ministries\, which helps women. \nLaura Loveberry\, Quincy\, MI\, will present “Queen of Quite A Lot”. Laura shares sparkling jewels of encouragement for your everyday living as princess to the King of Kings former Mrs. Michigan (2007). Laura adds sign language drama set to music. \nLocation: Midland Country Club\, 1120 West St. Andrews Rd.\, Midland\, MI \nCost: $18.00; payable at the door\nDeadline for reservations: Sunday\, October 8; email Lori at: mcwcres@gmail.com
URL:https://myflr.org/event/midland-christian-womens-connection-fall-fundraiser-luncheon/
LOCATION:Midland Country Club (Midland\, MI)\, 1120 West St. Andrews Rd.\, Midland\, MI\, 48640\, United States
CATEGORIES:Michigan
END:VEVENT
BEGIN:VEVENT
DTSTART;TZID=America/Phoenix:20230913T120000
DTEND;TZID=America/Phoenix:20230913T140000
DTSTAMP:20260421T180605
CREATED:20230828T224920Z
LAST-MODIFIED:20230828T224920Z
UID:10013641-1694606400-1694613600@myflr.org
SUMMARY:Christian Women’s “Beautiful Music” Luncheon
DESCRIPTION:All ladies are invited and welcome to attend! R.S.V.P. today!! Rhonda Lehman\, of Ft. Wayne\, Indiana\, will present “But Not For Me”. Sometimes it seems that good things in life are not for me. Rhonda is a singer/songwriter and former news radio show host. Her presentation will include a mini concert of her beautiful music. \nLocation: Midland Country Club\, 1120 West St. Andrews Rd.\, Midland\, MI \nCost: $18.00 (payable by cash or check at the door) \nDeadline for reservations: Sunday\, September 10; email Carol at cjsweebe@gmail.com
URL:https://myflr.org/event/christian-womens-beautiful-music-luncheon/
LOCATION:Midland Country Club (Midland\, MI)\, 1120 West St. Andrews Rd.\, Midland\, MI\, 48640\, United States
CATEGORIES:Michigan
ATTACH;FMTTYPE=image/jpeg:https://eadn-wc05-15902914.nxedge.io/wp-content/uploads/2023/08/music.jpg
END:VEVENT
BEGIN:VEVENT
DTSTART;TZID=America/Phoenix:20230913T120000
DTEND;TZID=America/Phoenix:20230913T140000
DTSTAMP:20260421T180605
CREATED:20230823T152827Z
LAST-MODIFIED:20230823T152827Z
UID:10013619-1694606400-1694613600@myflr.org
SUMMARY:Midland Christian Women’s “Beautiful Music” Luncheon
DESCRIPTION:Rhonda Lehman\, of Ft. Wayne\, IN\, will present “But Not For Me”. Sometimes it seems that good things in life are not for me. Rhonda is a singer/songwriter and former news radio show host. Her presentation will include a mini concert of her beautiful music. \nLocation: Midland Country Club\, 1120 West St. Andrews in Midland\, MI\nCost $18.00\nDeadline for reservations: Sunday\, September 10; email Carol at cjsweebe@gmail.com
URL:https://myflr.org/event/midland-christian-womens-beautiful-music-luncheon/
LOCATION:Midland Country Club (Midland\, MI)\, 1120 West St. Andrews Rd.\, Midland\, MI\, 48640\, United States
CATEGORIES:Texas
ATTACH;FMTTYPE=image/jpeg:https://eadn-wc05-15902914.nxedge.io/wp-content/uploads/2023/08/Religious-Music.jpg
END:VEVENT
BEGIN:VEVENT
DTSTART;TZID=America/Phoenix:20230412T120000
DTEND;TZID=America/Phoenix:20230412T140000
DTSTAMP:20260421T180605
CREATED:20230324T172519Z
LAST-MODIFIED:20230324T172519Z
UID:10007882-1681300800-1681308000@myflr.org
SUMMARY:Midland Christian Women’s Connection Luncheon
DESCRIPTION:“Earth Day Luncheon” – Esther Williams\, Executive Director of Midland Recyclers\, serving the Great Lakes Bay Region\, accepts “Hard to Recycle” items. She will share volunteer and work training opportunities for all ages and abilities. Inspirational Speaker – Alice Smith\, of Frankenmuth\, MI\, will present “Beginning Again & Again & Again”. Alice will share answers to three of life’s basic questions that can equip us to deal with continual changes in our life. \nLocation: Midland Country Club\, 1120 West St. Andrews Rd.\, Midland\, MI\nCost: $17.00\nDeadline for reservations: Sunday\, April 9; send email to Carol to register: cjsweebe@gmail.com
URL:https://myflr.org/event/midland-christian-womens-connection-luncheon-2/
LOCATION:Midland Country Club (Midland\, MI)\, 1120 West St. Andrews Rd.\, Midland\, MI\, 48640\, United States
CATEGORIES:Michigan
END:VEVENT
END:VCALENDAR