
BEGIN:VCALENDAR
VERSION:2.0
PRODID:-//Family Life Radio - ECPv6.15.20//NONSGML v1.0//EN
CALSCALE:GREGORIAN
METHOD:PUBLISH
X-WR-CALNAME:Family Life Radio
X-ORIGINAL-URL:https://myflr.org
X-WR-CALDESC:Events for Family Life Radio
REFRESH-INTERVAL;VALUE=DURATION:PT1H
X-Robots-Tag:noindex
X-PUBLISHED-TTL:PT1H
BEGIN:VTIMEZONE
TZID:America/Phoenix
BEGIN:STANDARD
TZOFFSETFROM:-0700
TZOFFSETTO:-0700
TZNAME:MST
DTSTART:20220101T000000
END:STANDARD
END:VTIMEZONE
BEGIN:VEVENT
DTSTART;TZID=America/Phoenix:20231213T183000
DTEND;TZID=America/Phoenix:20231213T190000
DTSTAMP:20260421T193244
CREATED:20231031T171036Z
LAST-MODIFIED:20231031T171036Z
UID:10017066-1702492200-1702494000@myflr.org
SUMMARY:Midwest Medical Center Auxiliary Foundation Tree of Love
DESCRIPTION:The Midwest Medical Center Auxiliary invites you honor someone special by sponsoring a holiday ornament personalized with their name and hung on the 2023 Tree of Love. The Tree of Love will be on display the second week of November through January 1 in the hospital lobby at Midwest Medical Center\, One Medical Center Drive\, in Galena\, Illinois. \nOrnament sponsorships are available in four different levels: $10\, $20\, $30\, and $40. Donations of all amounts are welcome. \nIn addition to your someone special’s name being on the ornament\, their name will also be listed on a commemorative poster also on display in the hospital lobby and in an acknowledgement in the Galena Gazette. \nA special tree lighting celebration will be held on Wednesday\, December 13 at 6:30 PM; the public is welcome to attend.
URL:https://myflr.org/event/midwest-medical-center-auxiliary-foundation-tree-of-love/
LOCATION:Midwest Medical Center\, 1 Medical Center Dr\, Galena\, IL\, 61036-8118\, United States
CATEGORIES:Iowa,Wisconsin
ATTACH;FMTTYPE=image/jpeg:https://eadn-wc05-15902914.nxedge.io/wp-content/uploads/2023/10/2023-Tree-of-Love-_-Family-Life-Radio.jpg
END:VEVENT
END:VCALENDAR