
BEGIN:VCALENDAR
VERSION:2.0
PRODID:-//Family Life Radio - ECPv6.15.20//NONSGML v1.0//EN
CALSCALE:GREGORIAN
METHOD:PUBLISH
X-ORIGINAL-URL:https://myflr.org
X-WR-CALDESC:Events for Family Life Radio
REFRESH-INTERVAL;VALUE=DURATION:PT1H
X-Robots-Tag:noindex
X-PUBLISHED-TTL:PT1H
BEGIN:VTIMEZONE
TZID:America/Phoenix
BEGIN:STANDARD
TZOFFSETFROM:-0700
TZOFFSETTO:-0700
TZNAME:MST
DTSTART:20230101T000000
END:STANDARD
END:VTIMEZONE
BEGIN:VEVENT
DTSTART;TZID=America/Phoenix:20240505T180000
DTEND;TZID=America/Phoenix:20240505T200000
DTSTAMP:20260421T203757
CREATED:20240405T184141Z
LAST-MODIFIED:20240405T184141Z
UID:10022910-1714932000-1714939200@myflr.org
SUMMARY:Johnny Rowlett Concert
DESCRIPTION:Free concert with the dynamic speaker and inspirational Nashville recording artist/songwriter Johnny Rowlett.
URL:https://myflr.org/event/johnny-rowlett-concert-2/
LOCATION:Mount Hope Assembly of God (Wickenburg\, AZ)\, 550 Penn Lane\, Wickenburg\, AZ\, 85390\, United States
CATEGORIES:Arizona
ATTACH;FMTTYPE=image/png:https://eadn-wc05-15902914.nxedge.io/wp-content/uploads/2024/03/Screenshot_20230207_023357.png
END:VEVENT
BEGIN:VEVENT
DTSTART;TZID=America/Phoenix:20240505T180000
DTEND;TZID=America/Phoenix:20240505T200000
DTSTAMP:20260421T203757
CREATED:20240404T202955Z
LAST-MODIFIED:20240404T202955Z
UID:10022949-1714932000-1714939200@myflr.org
SUMMARY:Johnny Rowlett Concert
DESCRIPTION:Free Concert by Inspirational Singer and Dynamic Speaker Johnny Rowlett. His Christian country music has a message of restoration for all people who would like to turn around their lives and put God first. Johnny was named the 2016\, 2018\, and 2020 “Music Evangelist of the Year.”
URL:https://myflr.org/event/johnny-rowlett-concert/
LOCATION:Mount Hope Assembly of God (Wickenburg\, AZ)\, 550 Penn Lane\, Wickenburg\, AZ\, 85390\, United States
CATEGORIES:Arizona
ATTACH;FMTTYPE=image/png:https://eadn-wc05-15902914.nxedge.io/wp-content/uploads/2024/04/Screenshot_20230220_120623.png
END:VEVENT
END:VCALENDAR