
BEGIN:VCALENDAR
VERSION:2.0
PRODID:-//Family Life Radio - ECPv6.15.20//NONSGML v1.0//EN
CALSCALE:GREGORIAN
METHOD:PUBLISH
X-ORIGINAL-URL:https://myflr.org
X-WR-CALDESC:Events for Family Life Radio
REFRESH-INTERVAL;VALUE=DURATION:PT1H
X-Robots-Tag:noindex
X-PUBLISHED-TTL:PT1H
BEGIN:VTIMEZONE
TZID:America/Detroit
BEGIN:DAYLIGHT
TZOFFSETFROM:-0500
TZOFFSETTO:-0400
TZNAME:EDT
DTSTART:20250309T070000
END:DAYLIGHT
BEGIN:STANDARD
TZOFFSETFROM:-0400
TZOFFSETTO:-0500
TZNAME:EST
DTSTART:20251102T060000
END:STANDARD
BEGIN:DAYLIGHT
TZOFFSETFROM:-0500
TZOFFSETTO:-0400
TZNAME:EDT
DTSTART:20260308T070000
END:DAYLIGHT
BEGIN:STANDARD
TZOFFSETFROM:-0400
TZOFFSETTO:-0500
TZNAME:EST
DTSTART:20261101T060000
END:STANDARD
BEGIN:DAYLIGHT
TZOFFSETFROM:-0500
TZOFFSETTO:-0400
TZNAME:EDT
DTSTART:20270314T070000
END:DAYLIGHT
BEGIN:STANDARD
TZOFFSETFROM:-0400
TZOFFSETTO:-0500
TZNAME:EST
DTSTART:20271107T060000
END:STANDARD
END:VTIMEZONE
BEGIN:VEVENT
DTSTART;TZID=America/Detroit:20260514T093000
DTEND;TZID=America/Detroit:20260516T120000
DTSTAMP:20260421T054326
CREATED:20260408T145319Z
LAST-MODIFIED:20260408T145319Z
UID:10060243-1778751000-1778932800@myflr.org
SUMMARY:INSPIRATIONAL NETWORKING CONFERENCE FOR HOMESCHOOLERS: INCH 2026
DESCRIPTION:May 14-16\, 2026\nMount Hope Church\, Lansing\, MI\nHomeschooling in today’s world can feel confusing and overwhelming. But as parents\, we’re called to teach our children clear\, unshakable truths. AND you don’t have to do it alone! \nJoin hundreds of Michigan homeschool families at INCH 2026\, Michigan’s 42nd Annual Statewide Homeschool Conference\, hosted by MiCHN. Together\, we’ll find strength\, encouragement\, connections\, and resources to help you thrive in your homeschooling journey. \nAt INCH\, you’ll be inspired\, informed\, and equipped—not just in homeschooling\, but also in discipleship\, parenting\, marriage\, and more. \nWhat makes INCH special?\nIt’s one of the nation’s longest-running and most vibrant homeschool conferences\, featuring:\n-Authentic Speakers with life-changing vision and practical strategies.\n-Passionate Exhibitors ready to equip you with tools\, resources\, and ideas for success. \nRegister today at MICHN.org\nSponsored by MICHN\, the MIchigan Christian Homeschool Network\, a non-profit organization
URL:https://myflr.org/event/inspirational-networking-conference-for-homeschoolers-inch-2026/
LOCATION:Mount Hope Church (Lansing\, MI)\, 202 S Creyts Rd\, Lansing\, MI\, 48917\, United States
CATEGORIES:Featured,Michigan
ATTACH;FMTTYPE=image/png:https://eadn-wc05-15902914.nxedge.io/wp-content/uploads/2026/04/eefadf3fdf494f06a9ef00d7a0ddaa0b-42ndannualinchfinal.png
END:VEVENT
END:VCALENDAR