
BEGIN:VCALENDAR
VERSION:2.0
PRODID:-//Family Life Radio - ECPv6.15.20//NONSGML v1.0//EN
CALSCALE:GREGORIAN
METHOD:PUBLISH
X-WR-CALNAME:Family Life Radio
X-ORIGINAL-URL:https://myflr.org
X-WR-CALDESC:Events for Family Life Radio
REFRESH-INTERVAL;VALUE=DURATION:PT1H
X-Robots-Tag:noindex
X-PUBLISHED-TTL:PT1H
BEGIN:VTIMEZONE
TZID:America/Phoenix
BEGIN:STANDARD
TZOFFSETFROM:-0700
TZOFFSETTO:-0700
TZNAME:MST
DTSTART:20250101T000000
END:STANDARD
END:VTIMEZONE
BEGIN:VEVENT
DTSTART;TZID=America/Phoenix:20261003T190000
DTEND;TZID=America/Phoenix:20261003T220000
DTSTAMP:20260420T152432
CREATED:20260420T150258Z
LAST-MODIFIED:20260420T150258Z
UID:10060326-1791054000-1791064800@myflr.org
SUMMARY:MATTHEW WEST - JESUS IS KING TOUR - PHOENIX
DESCRIPTION:Jesus Is King Tour\nOct 3\, 2026 – 7:00PM\nMountain Park Church\, 16461 S 48th St\, Phoenix\, AZ \nSCHEDULE (subject to change):\n5:00PM – VIP doors open\n6:00PM – Early Entry doors open\n6:15PM – General Admission doors open\n7:00PM – Event begins \nPre-sale tickets available Wednesday\, April 22nd\, 2026 at 10AM local with promo code: RADIO @ https://www.ticketweb.com/event/matthew-west-jesus-is-king-mountain-park-church-tickets/14850893?pl=TPR&REFID=radio \nPublic sale tickets available Friday\, April 24th\, 2026 at 10AM local @ https://www.ticketweb.com/event/matthew-west-jesus-is-king-mountain-park-church-tickets/14850893?pl=TPR&REFID=radio
URL:https://myflr.org/event/matthew-west-jesus-is-king-tour-phoenix/
LOCATION:Mountain Park Church\, 16461 S 48th St.\, Phoenix\, AZ\, 85048\, United States
CATEGORIES:Arizona,Featured
ATTACH;FMTTYPE=image/jpeg:https://eadn-wc05-15902914.nxedge.io/wp-content/uploads/2026/04/MW_JesusIsKing_Phoenix_1080x1080.jpg
ORGANIZER;CN="TPR.":MAILTO:info@tprlive.co
END:VEVENT
END:VCALENDAR