
BEGIN:VCALENDAR
VERSION:2.0
PRODID:-//Family Life Radio - ECPv6.15.20//NONSGML v1.0//EN
CALSCALE:GREGORIAN
METHOD:PUBLISH
X-ORIGINAL-URL:https://myflr.org
X-WR-CALDESC:Events for Family Life Radio
REFRESH-INTERVAL;VALUE=DURATION:PT1H
X-Robots-Tag:noindex
X-PUBLISHED-TTL:PT1H
BEGIN:VTIMEZONE
TZID:America/Detroit
BEGIN:DAYLIGHT
TZOFFSETFROM:-0500
TZOFFSETTO:-0400
TZNAME:EDT
DTSTART:20220313T070000
END:DAYLIGHT
BEGIN:STANDARD
TZOFFSETFROM:-0400
TZOFFSETTO:-0500
TZNAME:EST
DTSTART:20221106T060000
END:STANDARD
BEGIN:DAYLIGHT
TZOFFSETFROM:-0500
TZOFFSETTO:-0400
TZNAME:EDT
DTSTART:20230312T070000
END:DAYLIGHT
BEGIN:STANDARD
TZOFFSETFROM:-0400
TZOFFSETTO:-0500
TZNAME:EST
DTSTART:20231105T060000
END:STANDARD
BEGIN:DAYLIGHT
TZOFFSETFROM:-0500
TZOFFSETTO:-0400
TZNAME:EDT
DTSTART:20240310T070000
END:DAYLIGHT
BEGIN:STANDARD
TZOFFSETFROM:-0400
TZOFFSETTO:-0500
TZNAME:EST
DTSTART:20241103T060000
END:STANDARD
END:VTIMEZONE
BEGIN:VEVENT
DTSTART;TZID=America/Detroit:20231021T130000
DTEND;TZID=America/Detroit:20231021T193000
DTSTAMP:20260421T121112
CREATED:20230923T183223Z
LAST-MODIFIED:20231021T165515Z
UID:10015814-1697893200-1697916600@myflr.org
SUMMARY:CANCELED – FAMILY LIFE RADIO’s FAMILY FRIENDLY TAILGATE
DESCRIPTION:Due to unforeseen circumstances\, FLR’s Family Friendly Tailgate has been canceled.  If you’d like\, you can join us at Youth Haven’s Harvest Festival instead… 3:00-7:00 pm.  Also\, because of the cancellation\, we’re giving EVERYBODY a chance to win the MSU and UofM Bluetooth Coolers.  All you have to do is text “MSU is Cooler” or “UofM is Cooler” to 58326 before the end of the day Sunday 10/22 (msg & data rates may apply).  We’ll announce the winners on Monday.  Sorry for any inconvenience.  Hope to see you soon! \nJoin Family Life Radio Saturday\, October 21st before the big game between MSU and UofM.  We’ll be in MSU Parking Lot 89 at the NW corner of Mt Hope Rd & Farm Ln up until kickoff (exact schedule TBD).  We’ll have music\, games\, prizes\, and FREE apple cider and donuts from The Country Mill.  PLUS… you can look for us anytime we’re “on location” between now and then with a chance for you to win a MSU or UofM Bluetooth Cooler.
URL:https://myflr.org/event/family-life-radios-family-friendly-tailgate/
LOCATION:MSU Parking Lot 89 (East Lansing\, MI)\, Mt Hope Rd & Farm Ln\, East Lansing\, 48823\, United States
CATEGORIES:Featured,Michigan
ATTACH;FMTTYPE=image/jpeg:https://eadn-wc05-15902914.nxedge.io/wp-content/uploads/2023/09/4-SQ-IMAGE-2.jpg
ORGANIZER;CN="Family Life Radio (Michigan)":MAILTO:michigan@flc.org
END:VEVENT
END:VCALENDAR