
BEGIN:VCALENDAR
VERSION:2.0
PRODID:-//Family Life Radio - ECPv6.15.20//NONSGML v1.0//EN
CALSCALE:GREGORIAN
METHOD:PUBLISH
X-WR-CALNAME:Family Life Radio
X-ORIGINAL-URL:https://myflr.org
X-WR-CALDESC:Events for Family Life Radio
REFRESH-INTERVAL;VALUE=DURATION:PT1H
X-Robots-Tag:noindex
X-PUBLISHED-TTL:PT1H
BEGIN:VTIMEZONE
TZID:America/Phoenix
BEGIN:STANDARD
TZOFFSETFROM:-0700
TZOFFSETTO:-0700
TZNAME:MST
DTSTART:20230101T000000
END:STANDARD
END:VTIMEZONE
BEGIN:VEVENT
DTSTART;TZID=America/Phoenix:20241221T183000
DTEND;TZID=America/Phoenix:20241221T203000
DTSTAMP:20260421T210220
CREATED:20241217T194531Z
LAST-MODIFIED:20241217T194531Z
UID:10037558-1734805800-1734813000@myflr.org
SUMMARY:An Advent Concert of Sacred Music by Floriani
DESCRIPTION:On Saturday\, December 21st\, acclaimed vocal ensemble\, Floriani\, will be presenting an evening of sacred music for Advent and Christmas at the Chapel of the Nativity of the Blessed Virgin Mary. With exquisite carols\, chants\, music well-known and rarely heard\, and even original compositions\, this concert will be a beautiful way to wrap up the Advent season and prepare for the celebration of Christmas. In addition to supporting Floriani’s mission\, this concert will also help to raise money for the restoration of the beautiful chapel. Suggested donation for entry is $20.
URL:https://myflr.org/event/an-advent-concert-of-sacred-music-by-floriani/
LOCATION:Nativity of the Blessed Virgin Mary Chapel\, 16 W Cherry Ave\, Flagstaff\, AZ\, 86001\, United States
CATEGORIES:Arizona
ATTACH;FMTTYPE=image/png:https://eadn-wc05-15902914.nxedge.io/wp-content/uploads/2024/12/FLORIANI-BULLETIN-AD-002.png
ORGANIZER;CN="San Francisco de Asis Catholic Parish":MAILTO:church@sfdaparish.org
END:VEVENT
BEGIN:VEVENT
DTSTART;TZID=America/Phoenix:20241213T193000
DTEND;TZID=America/Phoenix:20241213T210000
DTSTAMP:20260421T210220
CREATED:20241210T182101Z
LAST-MODIFIED:20241210T182101Z
UID:10037556-1734118200-1734123600@myflr.org
SUMMARY:A Festival of Nine Lessons and Carols
DESCRIPTION:Please join us for a Beautiful Advent concert performed by the Sedona Academy of Chamber Singers.
URL:https://myflr.org/event/a-festival-of-nine-lessons-and-carols/
LOCATION:Nativity of the Blessed Virgin Mary Chapel\, 16 W Cherry Ave\, Flagstaff\, AZ\, 86001\, United States
CATEGORIES:Arizona
ATTACH;FMTTYPE=image/jpeg:https://eadn-wc05-15902914.nxedge.io/wp-content/uploads/2024/12/advent2candles.jpg
ORGANIZER;CN="San Francisco de Asis Catholic Parish":MAILTO:church@sfdaparish.org
END:VEVENT
END:VCALENDAR