
BEGIN:VCALENDAR
VERSION:2.0
PRODID:-//Family Life Radio - ECPv6.15.20//NONSGML v1.0//EN
CALSCALE:GREGORIAN
METHOD:PUBLISH
X-ORIGINAL-URL:https://myflr.org
X-WR-CALDESC:Events for Family Life Radio
REFRESH-INTERVAL;VALUE=DURATION:PT1H
X-Robots-Tag:noindex
X-PUBLISHED-TTL:PT1H
BEGIN:VTIMEZONE
TZID:America/Chicago
BEGIN:DAYLIGHT
TZOFFSETFROM:-0600
TZOFFSETTO:-0500
TZNAME:CDT
DTSTART:20240310T080000
END:DAYLIGHT
BEGIN:STANDARD
TZOFFSETFROM:-0500
TZOFFSETTO:-0600
TZNAME:CST
DTSTART:20241103T070000
END:STANDARD
BEGIN:DAYLIGHT
TZOFFSETFROM:-0600
TZOFFSETTO:-0500
TZNAME:CDT
DTSTART:20250309T080000
END:DAYLIGHT
BEGIN:STANDARD
TZOFFSETFROM:-0500
TZOFFSETTO:-0600
TZNAME:CST
DTSTART:20251102T070000
END:STANDARD
BEGIN:DAYLIGHT
TZOFFSETFROM:-0600
TZOFFSETTO:-0500
TZNAME:CDT
DTSTART:20260308T080000
END:DAYLIGHT
BEGIN:STANDARD
TZOFFSETFROM:-0500
TZOFFSETTO:-0600
TZNAME:CST
DTSTART:20261101T070000
END:STANDARD
END:VTIMEZONE
BEGIN:VTIMEZONE
TZID:America/Detroit
BEGIN:DAYLIGHT
TZOFFSETFROM:-0500
TZOFFSETTO:-0400
TZNAME:EDT
DTSTART:20240310T070000
END:DAYLIGHT
BEGIN:STANDARD
TZOFFSETFROM:-0400
TZOFFSETTO:-0500
TZNAME:EST
DTSTART:20241103T060000
END:STANDARD
BEGIN:DAYLIGHT
TZOFFSETFROM:-0500
TZOFFSETTO:-0400
TZNAME:EDT
DTSTART:20250309T070000
END:DAYLIGHT
BEGIN:STANDARD
TZOFFSETFROM:-0400
TZOFFSETTO:-0500
TZNAME:EST
DTSTART:20251102T060000
END:STANDARD
BEGIN:DAYLIGHT
TZOFFSETFROM:-0500
TZOFFSETTO:-0400
TZNAME:EDT
DTSTART:20260308T070000
END:DAYLIGHT
BEGIN:STANDARD
TZOFFSETFROM:-0400
TZOFFSETTO:-0500
TZNAME:EST
DTSTART:20261101T060000
END:STANDARD
END:VTIMEZONE
BEGIN:VTIMEZONE
TZID:America/Phoenix
BEGIN:STANDARD
TZOFFSETFROM:-0700
TZOFFSETTO:-0700
TZNAME:MST
DTSTART:20220101T000000
END:STANDARD
END:VTIMEZONE
BEGIN:VEVENT
DTSTART;TZID=America/Chicago:20251101T090000
DTEND;TZID=America/Chicago:20251101T233000
DTSTAMP:20260421T092941
CREATED:20251020T201208Z
LAST-MODIFIED:20251020T201208Z
UID:10056996-1761987600-1762039800@myflr.org
SUMMARY:New Church Food Drop
DESCRIPTION:Having a food drop on November 1st at 9am at 3317 New Church Rd Panama City FL
URL:https://myflr.org/event/new-church-food-drop/
LOCATION:New Church (Panama City\, FL)\, 3317 New Church Road\, Panama City\, FL\, 32409\, United States
CATEGORIES:Florida
END:VEVENT
BEGIN:VEVENT
DTSTART;TZID=America/Detroit:20250802T080000
DTEND;TZID=America/Detroit:20250802T110000
DTSTAMP:20260421T092941
CREATED:20250722T141724Z
LAST-MODIFIED:20250722T141724Z
UID:10049239-1754121600-1754132400@myflr.org
SUMMARY:New Church of Panama City Food Drop
DESCRIPTION:Free Community Food Drop\nNew Church\n3317 New Church Rd\,\nPanama City\, Florida \nDrive thru food drop. We will continue serving until all food is distributed.
URL:https://myflr.org/event/new-church-of-panama-city-food-drop/
LOCATION:New Church (Panama City\, FL)\, 3317 New Church Road\, Panama City\, FL\, 32409\, United States
CATEGORIES:Florida
END:VEVENT
BEGIN:VEVENT
DTSTART;TZID=America/Phoenix:20230719T180000
DTEND;TZID=America/Phoenix:20230721T203000
DTSTAMP:20260421T092941
CREATED:20230710T144040Z
LAST-MODIFIED:20230710T144040Z
UID:10012401-1689789600-1689971400@myflr.org
SUMMARY:Pool Party VBS
DESCRIPTION:Get ready to make a splash with Jesus during our 2023 Pool Party VBS! Music\, skits\, games\, inflatables\, crafts\, snacks\, and more! Kids are sure to have a FUN time “diving” into God’s word! We can not wait for this epic summer event! \nJuly 19\, 20\, 21 – VBS\n6:00 pm – 8:30 pm (Sign in starts at 5:30 pm.)\n4 years old to graduated 5th graders \nJuly 22 – VBS Family Water Day\n11 am – 2 pm\nThe whole family is invited to join us for a Family Water Day! We will have water games\, water slides\, snow cones\, and a free hotdog lunch! \nNew Church\n3317 New Church Road\nPanama City\, FL 32409
URL:https://myflr.org/event/pool-party-vbs/
LOCATION:New Church (Panama City\, FL)\, 3317 New Church Road\, Panama City\, FL\, 32409\, United States
CATEGORIES:Florida
ATTACH;FMTTYPE=image/jpeg:https://eadn-wc05-15902914.nxedge.io/wp-content/uploads/2023/07/Pool-Party-VBS-c.jpg
END:VEVENT
END:VCALENDAR