
BEGIN:VCALENDAR
VERSION:2.0
PRODID:-//Family Life Radio - ECPv6.15.20//NONSGML v1.0//EN
CALSCALE:GREGORIAN
METHOD:PUBLISH
X-WR-CALNAME:Family Life Radio
X-ORIGINAL-URL:https://myflr.org
X-WR-CALDESC:Events for Family Life Radio
REFRESH-INTERVAL;VALUE=DURATION:PT1H
X-Robots-Tag:noindex
X-PUBLISHED-TTL:PT1H
BEGIN:VTIMEZONE
TZID:America/Detroit
BEGIN:DAYLIGHT
TZOFFSETFROM:-0500
TZOFFSETTO:-0400
TZNAME:EDT
DTSTART:20240310T070000
END:DAYLIGHT
BEGIN:STANDARD
TZOFFSETFROM:-0400
TZOFFSETTO:-0500
TZNAME:EST
DTSTART:20241103T060000
END:STANDARD
BEGIN:DAYLIGHT
TZOFFSETFROM:-0500
TZOFFSETTO:-0400
TZNAME:EDT
DTSTART:20250309T070000
END:DAYLIGHT
BEGIN:STANDARD
TZOFFSETFROM:-0400
TZOFFSETTO:-0500
TZNAME:EST
DTSTART:20251102T060000
END:STANDARD
BEGIN:DAYLIGHT
TZOFFSETFROM:-0500
TZOFFSETTO:-0400
TZNAME:EDT
DTSTART:20260308T070000
END:DAYLIGHT
BEGIN:STANDARD
TZOFFSETFROM:-0400
TZOFFSETTO:-0500
TZNAME:EST
DTSTART:20261101T060000
END:STANDARD
END:VTIMEZONE
BEGIN:VTIMEZONE
TZID:America/Phoenix
BEGIN:STANDARD
TZOFFSETFROM:-0700
TZOFFSETTO:-0700
TZNAME:MST
DTSTART:20230101T000000
END:STANDARD
END:VTIMEZONE
BEGIN:VEVENT
DTSTART;TZID=America/Detroit:20251101T090000
DTEND;TZID=America/Detroit:20251101T140000
DTSTAMP:20260421T172104
CREATED:20250916T201929Z
LAST-MODIFIED:20250916T201929Z
UID:10055880-1761987600-1762005600@myflr.org
SUMMARY:New Harvest Corn Maze
DESCRIPTION:Join us Saturdays in October between 12-5 and see long it takes your group to get out of the corn maze! Suggested donation of $10/adults and $5 for kids under 18.
URL:https://myflr.org/event/new-harvest-corn-maze-2/2025-11-01/
LOCATION:New Harvest Church (Dexter\, MI)\, 11875 Jackson Rd\, Dexter\, MI\, 48130\, United States
CATEGORIES:Michigan
ATTACH;FMTTYPE=image/jpeg:https://eadn-wc05-15902914.nxedge.io/wp-content/uploads/2025/09/Corn-Maze-JPG.jpg
ORGANIZER;CN="New Harvest Church":MAILTO:laurariddle@new-harvest.co
END:VEVENT
BEGIN:VEVENT
DTSTART;TZID=America/Phoenix:20241026T110000
DTEND;TZID=America/Phoenix:20241026T160000
DTSTAMP:20260421T172104
CREATED:20240904T221421Z
LAST-MODIFIED:20240904T221421Z
UID:10033822-1729940400-1729958400@myflr.org
SUMMARY:New Harvest Corn Maze
DESCRIPTION:Come out and join the fun! New Harvest Church in Dexter is hosting a corn maze. Suggested Donation of $10 a person for those 18 and over and $5 a person for those under 18. Donations go toward not-for-profit organizations in the Chelsea-Dexter area.
URL:https://myflr.org/event/new-harvest-corn-maze/2024-10-26/
LOCATION:New Harvest Church (Dexter\, MI)\, 11875 Jackson Rd\, Dexter\, MI\, 48130\, United States
CATEGORIES:Michigan
ORGANIZER;CN="New Harvest Church":MAILTO:laurariddle@new-harvest.co
END:VEVENT
END:VCALENDAR