
BEGIN:VCALENDAR
VERSION:2.0
PRODID:-//Family Life Radio - ECPv6.15.19//NONSGML v1.0//EN
CALSCALE:GREGORIAN
METHOD:PUBLISH
X-ORIGINAL-URL:https://myflr.org
X-WR-CALDESC:Events for Family Life Radio
REFRESH-INTERVAL;VALUE=DURATION:PT1H
X-Robots-Tag:noindex
X-PUBLISHED-TTL:PT1H
BEGIN:VTIMEZONE
TZID:America/Detroit
BEGIN:DAYLIGHT
TZOFFSETFROM:-0500
TZOFFSETTO:-0400
TZNAME:EDT
DTSTART:20250309T070000
END:DAYLIGHT
BEGIN:STANDARD
TZOFFSETFROM:-0400
TZOFFSETTO:-0500
TZNAME:EST
DTSTART:20251102T060000
END:STANDARD
BEGIN:DAYLIGHT
TZOFFSETFROM:-0500
TZOFFSETTO:-0400
TZNAME:EDT
DTSTART:20260308T070000
END:DAYLIGHT
BEGIN:STANDARD
TZOFFSETFROM:-0400
TZOFFSETTO:-0500
TZNAME:EST
DTSTART:20261101T060000
END:STANDARD
BEGIN:DAYLIGHT
TZOFFSETFROM:-0500
TZOFFSETTO:-0400
TZNAME:EDT
DTSTART:20270314T070000
END:DAYLIGHT
BEGIN:STANDARD
TZOFFSETFROM:-0400
TZOFFSETTO:-0500
TZNAME:EST
DTSTART:20271107T060000
END:STANDARD
END:VTIMEZONE
BEGIN:VEVENT
DTSTART;TZID=America/Detroit:20260529T180000
DTEND;TZID=America/Detroit:20260529T200000
DTSTAMP:20260419T100745
CREATED:20260323T134346Z
LAST-MODIFIED:20260324T141719Z
UID:10060011-1780077600-1780084800@myflr.org
SUMMARY:FREE Holy and Hilarious Co-Ed Comedy - Southgate
DESCRIPTION:Join us at New Points Church in Southgate\, MI for a Holy & Hilarious Co-Ed Comedy Event on Friday\, May 29th with Christian Comedian\, Janice (Rigel) Henriquez and special opener\, Ann Marie Jarvis! Janice’s husband Danny will be our fun & hilarious emcee for the night! \n⏰ Doors open at 6pm\, show starts at 6:30pm.\n🎟Tickets are free. Love offering will be taken at the event. Please register through the ticket link to save your seat.\n🍽 Concession items will be available for purchase.\n🛍 Janice will have her books and merch available for purchase. \nAn event filled with music\, laughter\, ministry & more! Perfect for a date night\, a night out with friends or just a reason to get out and laugh! \nFor more information about Janice & Holy & Hilarious\, visit www.journeywithjanice.com/comedy. \nWhat People Are Saying: \n“Janice is a natural at combining both faith and fun! Her stories are relatable across men and women and will make you belly laugh like you’ve been needing! She keeps you smiling long after the show is over and your heart will surely be encouraged! She is the real deal!” \n“Janice doesn’t come to disappoint! I laughed so hard that my cheeks and belly hurt when I left! If you have not ever seen her\, you are missing out! Run to her next performance! She will not disappoint you!!” \n“My husband and I absolutely had the best time!! We had not laughed that hard in a long time!!”
URL:https://myflr.org/event/free-holy-and-hilarious-co-ed-comedy-southgate/
LOCATION:New Points Church (Southgate\, MI)\, 14250 Reeck Rd\, Southgate\, MI\, 48195\, United States
CATEGORIES:Featured,Michigan
ATTACH;FMTTYPE=image/jpeg:https://eadn-wc05-15902914.nxedge.io/wp-content/uploads/2026/03/IMG_1966.jpeg
ORGANIZER;CN="Journey with Janice":MAILTO:thejourneywithjanice@gmail.com
END:VEVENT
END:VCALENDAR