
BEGIN:VCALENDAR
VERSION:2.0
PRODID:-//Family Life Radio - ECPv6.15.20//NONSGML v1.0//EN
CALSCALE:GREGORIAN
METHOD:PUBLISH
X-ORIGINAL-URL:https://myflr.org
X-WR-CALDESC:Events for Family Life Radio
REFRESH-INTERVAL;VALUE=DURATION:PT1H
X-Robots-Tag:noindex
X-PUBLISHED-TTL:PT1H
BEGIN:VTIMEZONE
TZID:America/Phoenix
BEGIN:STANDARD
TZOFFSETFROM:-0700
TZOFFSETTO:-0700
TZNAME:MST
DTSTART:20230101T000000
END:STANDARD
END:VTIMEZONE
BEGIN:VEVENT
DTSTART;TZID=America/Phoenix:20240803T070000
DTEND;TZID=America/Phoenix:20240803T080000
DTSTAMP:20260421T195624
CREATED:20240802T211418Z
LAST-MODIFIED:20241003T210922Z
UID:10031865-1722668400-1722672000@myflr.org
SUMMARY:Men’ Discipleship Group
DESCRIPTION:Our men’s ministry encourages and empowers men to be excellent for Christ at home\, work\, and in the community…so no man walks alone! Our guiding principle is based on Proverbs 27:17 which states\, “As Iron Sharpens Iron\, so One Man Sharpens Another.”
URL:https://myflr.org/event/men-discipleship-group/
LOCATION:North Bible\, 15678 N Greenway Hayden Loop #101\, Scottsdale\, AZ\, 85260\, United States
CATEGORIES:Arizona
ATTACH;FMTTYPE=image/png:https://eadn-wc05-15902914.nxedge.io/wp-content/uploads/2024/08/Primary-Logo_ScottsdaleChapter_Red_Black.png
ORGANIZER;CN="Iron Sharpens Iron Men&#8217%3Bs Ministry":MAILTO:info@isimensministry.com
END:VEVENT
END:VCALENDAR