
BEGIN:VCALENDAR
VERSION:2.0
PRODID:-//Family Life Radio - ECPv6.15.20//NONSGML v1.0//EN
CALSCALE:GREGORIAN
METHOD:PUBLISH
X-WR-CALNAME:Family Life Radio
X-ORIGINAL-URL:https://myflr.org
X-WR-CALDESC:Events for Family Life Radio
REFRESH-INTERVAL;VALUE=DURATION:PT1H
X-Robots-Tag:noindex
X-PUBLISHED-TTL:PT1H
BEGIN:VTIMEZONE
TZID:America/Phoenix
BEGIN:STANDARD
TZOFFSETFROM:-0700
TZOFFSETTO:-0700
TZNAME:MST
DTSTART:20220101T000000
END:STANDARD
END:VTIMEZONE
BEGIN:VEVENT
DTSTART;TZID=America/Phoenix:20241213T173000
DTEND;TZID=America/Phoenix:20241213T203000
DTSTAMP:20260421T193237
CREATED:20241203T141817Z
LAST-MODIFIED:20241203T141817Z
UID:10037527-1734111000-1734121800@myflr.org
SUMMARY:Live Nativity at North Etowah Baptist Church
DESCRIPTION:We invite you to experience something wonderful\, miraculous\, and joyful… the most significant event in human history that changed the world forever! Park and walk through the quietness and beauty of the serene and peaceful scene of the night of Christ’s birth while enjoying hot cider. Tell your friends and make this an event for your church to experience also.
URL:https://myflr.org/event/live-nativity-at-north-etowah-baptist-church-2/
LOCATION:North Etowah Baptist Church (Etowah\, TN)\, 231 Pennsylvania Avenue\, Etowah\, TN\, 37331\, United States
CATEGORIES:Tennesee
ATTACH;FMTTYPE=image/jpeg:https://eadn-wc05-15902914.nxedge.io/wp-content/uploads/2024/11/406467015_10233193795573402_437333999887161186_n.jpg
END:VEVENT
BEGIN:VEVENT
DTSTART;TZID=America/Phoenix:20231217T180000
DTEND;TZID=America/Phoenix:20231217T190000
DTSTAMP:20260421T193237
CREATED:20231208T153737Z
LAST-MODIFIED:20231208T153737Z
UID:10018676-1702836000-1702839600@myflr.org
SUMMARY:Worthy Is the Lamb Christmas Musical
DESCRIPTION:Join us for an evening of music celebrating the birth of Jesus Christ\, the perfect Lamb of God!
URL:https://myflr.org/event/worthy-is-the-lamb-christmas-musical/
LOCATION:North Etowah Baptist Church (Etowah\, TN)\, 231 Pennsylvania Avenue\, Etowah\, TN\, 37331\, United States
CATEGORIES:Tennesee
ATTACH;FMTTYPE=image/png:https://eadn-wc05-15902914.nxedge.io/wp-content/uploads/2023/12/Minimalist-Christmas-Concert-Event-Poster-1920-x-1080-px.png
END:VEVENT
BEGIN:VEVENT
DTSTART;TZID=America/Phoenix:20231209T170000
DTEND;TZID=America/Phoenix:20231209T200000
DTSTAMP:20260421T193237
CREATED:20231122T152512Z
LAST-MODIFIED:20231122T152512Z
UID:10018601-1702141200-1702152000@myflr.org
SUMMARY:Live Nativity at North Etowah Baptist Church
DESCRIPTION:Park and walk through our live nativity!
URL:https://myflr.org/event/live-nativity-at-north-etowah-baptist-church/
LOCATION:North Etowah Baptist Church (Etowah\, TN)\, 231 Pennsylvania Avenue\, Etowah\, TN\, 37331\, United States
CATEGORIES:Tennesee
ATTACH;FMTTYPE=image/png:https://eadn-wc05-15902914.nxedge.io/wp-content/uploads/2023/11/2023-Live-Nativity-1500-x-784-px.png
END:VEVENT
BEGIN:VEVENT
DTSTART;TZID=America/Phoenix:20231029T160000
DTEND;TZID=America/Phoenix:20231029T180000
DTSTAMP:20260421T193237
CREATED:20231024T125657Z
LAST-MODIFIED:20231024T125657Z
UID:10017064-1698595200-1698602400@myflr.org
SUMMARY:Fall Festival at North Etowah Baptist Church
DESCRIPTION:Live Music – Candy – Food – Bounce Houses – Dunk Tank – Trunk ‘N’ Treat
URL:https://myflr.org/event/fall-festival-at-north-etowah-baptist-church/
LOCATION:North Etowah Baptist Church (Etowah\, TN)\, 231 Pennsylvania Avenue\, Etowah\, TN\, 37331\, United States
CATEGORIES:Tennesee
ATTACH;FMTTYPE=image/png:https://eadn-wc05-15902914.nxedge.io/wp-content/uploads/2023/10/Fall-Festival-North-Etowah.png
END:VEVENT
BEGIN:VEVENT
DTSTART;TZID=America/Phoenix:20231004T190000
DTEND;TZID=America/Phoenix:20231004T200000
DTSTAMP:20260421T193237
CREATED:20230919T113856Z
LAST-MODIFIED:20230919T113856Z
UID:10015421-1696446000-1696449600@myflr.org
SUMMARY:Revival at North Etowah Baptist Church
DESCRIPTION:Do you know God’s heart? When was the last time you sincerely sought the heart of God? Join us for Revival with speakers Todd Stinnett\, Doug Plumlee\, Hollie Miller\, and Johnny Nix. \nSunday\, October 1\, at 6:00pm\nMonday-Wednesday\, October 2-4\, at 7:00pm
URL:https://myflr.org/event/revival-at-north-etowah-baptist-church/2023-10-04/
LOCATION:North Etowah Baptist Church (Etowah\, TN)\, 231 Pennsylvania Avenue\, Etowah\, TN\, 37331\, United States
CATEGORIES:Tennesee
ATTACH;FMTTYPE=image/png:https://eadn-wc05-15902914.nxedge.io/wp-content/uploads/2023/09/Fall-23-Morning-Fax-Big-Square.png
END:VEVENT
BEGIN:VEVENT
DTSTART;TZID=America/Phoenix:20230623T180000
DTEND;TZID=America/Phoenix:20230623T203000
DTSTAMP:20260421T193237
CREATED:20230516T125301Z
LAST-MODIFIED:20230516T182153Z
UID:10009465-1687543200-1687552200@myflr.org
SUMMARY:Vacation Bible School
DESCRIPTION:Following Jesus changes the game! Children who have just completed Grades K-6 and adults are invited to join us for LifeWay’s “Twists and Turns” Vacation Bible School!
URL:https://myflr.org/event/vacation-bible-school/2023-06-23/
LOCATION:North Etowah Baptist Church (Etowah\, TN)\, 231 Pennsylvania Avenue\, Etowah\, TN\, 37331\, United States
CATEGORIES:Tennesee
ATTACH;FMTTYPE=image/png:https://eadn-wc05-15902914.nxedge.io/wp-content/uploads/2023/05/logo_color_website.png
END:VEVENT
END:VCALENDAR