
BEGIN:VCALENDAR
VERSION:2.0
PRODID:-//Family Life Radio - ECPv6.15.20//NONSGML v1.0//EN
CALSCALE:GREGORIAN
METHOD:PUBLISH
X-ORIGINAL-URL:https://myflr.org
X-WR-CALDESC:Events for Family Life Radio
REFRESH-INTERVAL;VALUE=DURATION:PT1H
X-Robots-Tag:noindex
X-PUBLISHED-TTL:PT1H
BEGIN:VTIMEZONE
TZID:America/Phoenix
BEGIN:STANDARD
TZOFFSETFROM:-0700
TZOFFSETTO:-0700
TZNAME:MST
DTSTART:20240101T000000
END:STANDARD
END:VTIMEZONE
BEGIN:VEVENT
DTSTART;TZID=America/Phoenix:20250510T090000
DTEND;TZID=America/Phoenix:20250510T150000
DTSTAMP:20260421T123039
CREATED:20250211T213805Z
LAST-MODIFIED:20250211T213805Z
UID:10039344-1746867600-1746889200@myflr.org
SUMMARY:NMSC Craft and Vendor Show
DESCRIPTION:Join us for an exciting vendor event featuring over 40 talented artists and vendors! You’ll find a diverse range of direct-sale and handmade items\, perfect for supporting local businesses. Be sure to enter our raffle for a chance to win amazing prizes\, generously donated by our vendors. Best of all\, 100% of the proceeds will benefit the Monroe United Youth Retreat\, helping to support local youth programs. Don’t miss out on this opportunity to shop\, support\, and make a difference!
URL:https://myflr.org/event/nmsc-craft-and-vendor-show/
LOCATION:North Monroe Street Church\, 2393 N Monroe St\, Monroe\, MI\, 48162\, United States
CATEGORIES:Michigan
ATTACH;FMTTYPE=image/jpeg:https://eadn-wc05-15902914.nxedge.io/wp-content/uploads/2025/02/2025-show-cover.jpg
END:VEVENT
END:VCALENDAR