
BEGIN:VCALENDAR
VERSION:2.0
PRODID:-//Family Life Radio - ECPv6.15.20//NONSGML v1.0//EN
CALSCALE:GREGORIAN
METHOD:PUBLISH
X-ORIGINAL-URL:https://myflr.org
X-WR-CALDESC:Events for Family Life Radio
REFRESH-INTERVAL;VALUE=DURATION:PT1H
X-Robots-Tag:noindex
X-PUBLISHED-TTL:PT1H
BEGIN:VTIMEZONE
TZID:America/Phoenix
BEGIN:STANDARD
TZOFFSETFROM:-0700
TZOFFSETTO:-0700
TZNAME:MST
DTSTART:20250101T000000
END:STANDARD
END:VTIMEZONE
BEGIN:VTIMEZONE
TZID:America/Detroit
BEGIN:DAYLIGHT
TZOFFSETFROM:-0500
TZOFFSETTO:-0400
TZNAME:EDT
DTSTART:20250309T070000
END:DAYLIGHT
BEGIN:STANDARD
TZOFFSETFROM:-0400
TZOFFSETTO:-0500
TZNAME:EST
DTSTART:20251102T060000
END:STANDARD
BEGIN:DAYLIGHT
TZOFFSETFROM:-0500
TZOFFSETTO:-0400
TZNAME:EDT
DTSTART:20260308T070000
END:DAYLIGHT
BEGIN:STANDARD
TZOFFSETFROM:-0400
TZOFFSETTO:-0500
TZNAME:EST
DTSTART:20261101T060000
END:STANDARD
BEGIN:DAYLIGHT
TZOFFSETFROM:-0500
TZOFFSETTO:-0400
TZNAME:EDT
DTSTART:20270314T070000
END:DAYLIGHT
BEGIN:STANDARD
TZOFFSETFROM:-0400
TZOFFSETTO:-0500
TZNAME:EST
DTSTART:20271107T060000
END:STANDARD
END:VTIMEZONE
BEGIN:VEVENT
DTSTART;TZID=America/Phoenix:20260412T190000
DTEND;TZID=America/Phoenix:20260412T203000
DTSTAMP:20260420T204357
CREATED:20260312T205241Z
LAST-MODIFIED:20260407T140851Z
UID:10059592-1776020400-1776025800@myflr.org
SUMMARY:2026 Spring Revival - Ypsilanti
DESCRIPTION:If your heart has been heavy… if life has felt overwhelming… if you’ve been praying for a sign\, a touch\, a moment of peace—this is your invitation. \nOur Revival Services are a place to breathe again\, to feel God’s presence\, to remember you’re not alone. A place to pray together and praise Him. Come as you are—broken\, tired\, hopeful\, searching—and let God meet you in a real and personal way. \nBring someone who needs encouragement. Bring someone who needs hope. Or just bring your own hurting heart. God is moving\, and He has something beautiful for you.
URL:https://myflr.org/event/2026-spring-revival-ypsilanti/2026-04-12/2/
LOCATION:North Warren Free Will Baptist Church\, 3003 Chicago Road\, Warren\, MI\, 48092\, United States
CATEGORIES:Michigan
ATTACH;FMTTYPE=image/jpeg:https://eadn-wc05-15902914.nxedge.io/wp-content/uploads/2026/03/inbound3218431119844670972.jpg
ORGANIZER;CN="North Warren Free Will Baptist Church":MAILTO:info@northwarrenfwb.org
END:VEVENT
BEGIN:VEVENT
DTSTART;TZID=America/Detroit:20260405T110000
DTEND;TZID=America/Detroit:20260405T123000
DTSTAMP:20260420T204357
CREATED:20260306T134249Z
LAST-MODIFIED:20260306T134249Z
UID:10059531-1775386800-1775392200@myflr.org
SUMMARY:North Warren Easter Egg Hunt\, Crafts\, and Activities - Warren
DESCRIPTION:Celebrate the joy of Easter with us at North Warren Free Will Baptist Church! On Sunday\, April 5th\, our Junior Church is hosting a special Easter event filled with excitement\, creativity\, and meaningful fun for kids of all ages. \nFamilies are invited to join us for a morning packed with an Easter Egg Hunt\, hands‑on crafts\, interactive activities\, and plenty of laughter as we celebrate the hope and new life that Easter brings. \nThis event is free to attend and begins at 11 AM at 3003 Chicago Rd\, Warren\, MI 48092. Bring your kids\, bring their friends\, and get ready for a joyful time together as we make memories and celebrate the true meaning of Easter.
URL:https://myflr.org/event/north-warren-easter-egg-hunt-crafts-and-activities-warren/
LOCATION:North Warren Free Will Baptist Church\, 3003 Chicago Road\, Warren\, MI\, 48092\, United States
CATEGORIES:Michigan
ATTACH;FMTTYPE=image/jpeg:https://eadn-wc05-15902914.nxedge.io/wp-content/uploads/2026/03/Easter-Egg-Hunt.jpg
ORGANIZER;CN="North Warren Free Will Baptist Church":MAILTO:info@northwarrenfwb.org
END:VEVENT
END:VCALENDAR