
BEGIN:VCALENDAR
VERSION:2.0
PRODID:-//Family Life Radio - ECPv6.15.20//NONSGML v1.0//EN
CALSCALE:GREGORIAN
METHOD:PUBLISH
X-WR-CALNAME:Family Life Radio
X-ORIGINAL-URL:https://myflr.org
X-WR-CALDESC:Events for Family Life Radio
REFRESH-INTERVAL;VALUE=DURATION:PT1H
X-Robots-Tag:noindex
X-PUBLISHED-TTL:PT1H
BEGIN:VTIMEZONE
TZID:America/Phoenix
BEGIN:STANDARD
TZOFFSETFROM:-0700
TZOFFSETTO:-0700
TZNAME:MST
DTSTART:20230101T000000
END:STANDARD
END:VTIMEZONE
BEGIN:VEVENT
DTSTART;TZID=America/Phoenix:20240425T190000
DTEND;TZID=America/Phoenix:20240425T223000
DTSTAMP:20260421T172159
CREATED:20231212T160847Z
LAST-MODIFIED:20231214T183825Z
UID:10018683-1714071600-1714084200@myflr.org
SUMMARY:CASTING CROWNS 20TH ANNIVERSARY TOUR – PLYMOUTH
DESCRIPTION:Multi-platinum selling Grammy winners Casting Crowns will take their powerful live performances on the road this fall with The Casting Crowns 20thAnniversary Tour: A Live Symphony Experience. Featuring hit songs from the band’s current chart-topping Healer album (“Scars In Heaven\,” “Crazy People”)\, concert goers will also experience a night of worship like no other celebrating an incredible 20-year repertoire of songs like “Only Jesus\,” “Nobody\,” “Praise You In This Storm\,” “East To West” and many more. For the first time ever\, Casting Crowns will be joined by a live symphony on this special anniversary tour. With more than 12 million albums sold and multiple Grammy\, Dove and American Music Awards to their name\, Casting Crowns might be best known for their fan-favorite live concert events – and The Casting Crowns 20th Anniversary Tour promises to be no different and they will be in Plymouth\, MI at Northridge Church on April 25th! \nTickets on sale now!
URL:https://myflr.org/event/casting-crowns-20th-anniversary-tour-plymouth/
LOCATION:Northridge Church (Plymouth\, MI)\, 49555 N Territorial Rd\, Plymouth\, MI\, 48170\, United States
CATEGORIES:Featured,Michigan
ATTACH;FMTTYPE=image/png:https://eadn-wc05-15902914.nxedge.io/wp-content/uploads/2023/12/img_23-24_castingcrowns.png
END:VEVENT
END:VCALENDAR