
BEGIN:VCALENDAR
VERSION:2.0
PRODID:-//Family Life Radio - ECPv6.15.20//NONSGML v1.0//EN
CALSCALE:GREGORIAN
METHOD:PUBLISH
X-ORIGINAL-URL:https://myflr.org
X-WR-CALDESC:Events for Family Life Radio
REFRESH-INTERVAL;VALUE=DURATION:PT1H
X-Robots-Tag:noindex
X-PUBLISHED-TTL:PT1H
BEGIN:VTIMEZONE
TZID:America/Chicago
BEGIN:DAYLIGHT
TZOFFSETFROM:-0600
TZOFFSETTO:-0500
TZNAME:CDT
DTSTART:20240310T080000
END:DAYLIGHT
BEGIN:STANDARD
TZOFFSETFROM:-0500
TZOFFSETTO:-0600
TZNAME:CST
DTSTART:20241103T070000
END:STANDARD
BEGIN:DAYLIGHT
TZOFFSETFROM:-0600
TZOFFSETTO:-0500
TZNAME:CDT
DTSTART:20250309T080000
END:DAYLIGHT
BEGIN:STANDARD
TZOFFSETFROM:-0500
TZOFFSETTO:-0600
TZNAME:CST
DTSTART:20251102T070000
END:STANDARD
BEGIN:DAYLIGHT
TZOFFSETFROM:-0600
TZOFFSETTO:-0500
TZNAME:CDT
DTSTART:20260308T080000
END:DAYLIGHT
BEGIN:STANDARD
TZOFFSETFROM:-0500
TZOFFSETTO:-0600
TZNAME:CST
DTSTART:20261101T070000
END:STANDARD
END:VTIMEZONE
BEGIN:VEVENT
DTSTART;TZID=America/Chicago:20251224T163000
DTEND;TZID=America/Chicago:20251224T173000
DTSTAMP:20260421T164709
CREATED:20251222T200447Z
LAST-MODIFIED:20251222T200447Z
UID:10057860-1766593800-1766597400@myflr.org
SUMMARY:Northstar Church - Panama City
DESCRIPTION:Northstar Church – Panama City \nJoin us on Christmas Eve at 12:00pm\, 1:30pm\, 3:00pm or 4:30pm!\n—— \nCategory: Holiday\, Christmas
URL:https://myflr.org/event/northstar-church-panama-city/2025-12-24/3/
LOCATION:Northstar Church (Panama City\, Fl)\, 2440 St Andrews Blvd\, Panama City\, FL\, 32405\, United States
CATEGORIES:Florida
ATTACH;FMTTYPE=image/jpeg:https://eadn-wc05-15902914.nxedge.io/wp-content/uploads/2025/12/1000008266.jpg
END:VEVENT
END:VCALENDAR