
BEGIN:VCALENDAR
VERSION:2.0
PRODID:-//Family Life Radio - ECPv6.15.19//NONSGML v1.0//EN
CALSCALE:GREGORIAN
METHOD:PUBLISH
X-WR-CALNAME:Family Life Radio
X-ORIGINAL-URL:https://myflr.org
X-WR-CALDESC:Events for Family Life Radio
REFRESH-INTERVAL;VALUE=DURATION:PT1H
X-Robots-Tag:noindex
X-PUBLISHED-TTL:PT1H
BEGIN:VTIMEZONE
TZID:America/Phoenix
BEGIN:STANDARD
TZOFFSETFROM:-0700
TZOFFSETTO:-0700
TZNAME:MST
DTSTART:20250101T000000
END:STANDARD
END:VTIMEZONE
BEGIN:VEVENT
DTSTART;VALUE=DATE:20260425
DTEND;VALUE=DATE:20260428
DTSTAMP:20260419T143314
CREATED:20260311T173630Z
LAST-MODIFIED:20260311T173630Z
UID:10059113-1777075200-1777334399@myflr.org
SUMMARY:GODSPELL - Live on Stage!
DESCRIPTION:Arizona Chistian Theater and Oasis Community Church present GODSPELL \nConceived and Originally Directed by JOHN-MICHAEL TEBELAK\nMUSIC AND NEW LYRICS BY STEPHEN SCHWARTZ\nOriginally Produced on the New York Stage by EDGAR LANSBURY / STUART DUNCAN / JOSEPH BERUH \nOften confused with “Jesus Christ Superstar” which came out around the same time on Broadway\, “Godspell” sticks to the Biblical narrative. This musical is based on the book of St. Matthew with several rewritten episcopal hymns by “Wicked” composer\, Stephen Shwartz. \nJoin the cast in a fun romp through the New Testament with many of Jesus’ teachings and parables told in a fresh\, entertaining way. The show closes with an impactful passion week. It’s a great Easter event that will be enjoyed by the family! \nShows 3/26-3/28th beginning at 7pm
URL:https://myflr.org/event/godspell-live-on-stage/
LOCATION:North Mountain Church\, 10202 N Cave Creek Road\, Phoenix\, AZ\, 85020\, United States
CATEGORIES:Arizona
ATTACH;FMTTYPE=image/jpeg:https://eadn-wc05-15902914.nxedge.io/wp-content/uploads/2026/02/Godspell-Square.jpg
ORGANIZER;CN="Arizona Christian Arts Ministries":MAILTO:Steven@azcam.us
END:VEVENT
END:VCALENDAR