
BEGIN:VCALENDAR
VERSION:2.0
PRODID:-//Family Life Radio - ECPv6.15.19//NONSGML v1.0//EN
CALSCALE:GREGORIAN
METHOD:PUBLISH
X-ORIGINAL-URL:https://myflr.org
X-WR-CALDESC:Events for Family Life Radio
REFRESH-INTERVAL;VALUE=DURATION:PT1H
X-Robots-Tag:noindex
X-PUBLISHED-TTL:PT1H
BEGIN:VTIMEZONE
TZID:America/Detroit
BEGIN:DAYLIGHT
TZOFFSETFROM:-0500
TZOFFSETTO:-0400
TZNAME:EDT
DTSTART:20240310T070000
END:DAYLIGHT
BEGIN:STANDARD
TZOFFSETFROM:-0400
TZOFFSETTO:-0500
TZNAME:EST
DTSTART:20241103T060000
END:STANDARD
BEGIN:DAYLIGHT
TZOFFSETFROM:-0500
TZOFFSETTO:-0400
TZNAME:EDT
DTSTART:20250309T070000
END:DAYLIGHT
BEGIN:STANDARD
TZOFFSETFROM:-0400
TZOFFSETTO:-0500
TZNAME:EST
DTSTART:20251102T060000
END:STANDARD
BEGIN:DAYLIGHT
TZOFFSETFROM:-0500
TZOFFSETTO:-0400
TZNAME:EDT
DTSTART:20260308T070000
END:DAYLIGHT
BEGIN:STANDARD
TZOFFSETFROM:-0400
TZOFFSETTO:-0500
TZNAME:EST
DTSTART:20261101T060000
END:STANDARD
END:VTIMEZONE
BEGIN:VTIMEZONE
TZID:America/Phoenix
BEGIN:STANDARD
TZOFFSETFROM:-0700
TZOFFSETTO:-0700
TZNAME:MST
DTSTART:20230101T000000
END:STANDARD
END:VTIMEZONE
BEGIN:VEVENT
DTSTART;TZID=America/Detroit:20250510T090000
DTEND;TZID=America/Detroit:20250510T120000
DTSTAMP:20260419T112536
CREATED:20250327T205426Z
LAST-MODIFIED:20250327T205426Z
UID:10040503-1746867600-1746878400@myflr.org
SUMMARY:LIFE CHOICES WALK FOR LIFE 2025 – WEST BRANCH\, MI
DESCRIPTION:Join us for our annual Walk/Run for Life on Saturday\, May 10th. Registration begins at 9:00am.\nPledge forms are available through your church liaison\, on our website\, or stop in at the center.
URL:https://myflr.org/event/life-choices-walk-for-life-2025-west-branch-mi/
LOCATION:Ogemaw Heights High School (West Branch\, MI)\, 960 M-33\, West Branch\, MI\, 48661\, United States
CATEGORIES:Featured,Michigan
ATTACH;FMTTYPE=image/jpeg:https://eadn-wc05-15902914.nxedge.io/wp-content/uploads/2025/03/Life-Choices-Walk-For-Life-2025.jpg
END:VEVENT
BEGIN:VEVENT
DTSTART;TZID=America/Phoenix:20240511T090000
DTEND;TZID=America/Phoenix:20240511T143000
DTSTAMP:20260419T112536
CREATED:20240318T181332Z
LAST-MODIFIED:20240328T195918Z
UID:10020941-1715418000-1715437800@myflr.org
SUMMARY:LIFE CHOICES RESOURCE CENTER’S RUN/WALK FOR LIFE – WEST BRANCH
DESCRIPTION:Life Choices Resource Center’s annual Walk for Life is getting bigger and better! \nJoin Family Life Radio at Ogemaw Heights High School\, where there will not only be the walk for life…but this year there will also be a 5K cross country fun-run for life\, food trucks\, face painting\, and more! \nWe are so excited to see you there for a fun-filled day for the whole family! \nRegistration begins at 9:00am\, walk/run begins at 10:00am. Check with your church liaison to see if you have a “team” to register under.
URL:https://myflr.org/event/life-choices-resource-centers-annual-walk-run-for-life/
LOCATION:Ogemaw Heights High School (West Branch\, MI)\, 960 M-33\, West Branch\, MI\, 48661\, United States
CATEGORIES:Featured,Michigan
ATTACH;FMTTYPE=image/jpeg:https://eadn-wc05-15902914.nxedge.io/wp-content/uploads/2024/03/WalkRun-for-Life-Flyer-SQ.jpg
ORGANIZER;CN="Life Choices Resources Center (West Branch%2C MI)":MAILTO:centermanager@lcrc-wb.org
END:VEVENT
END:VCALENDAR