
BEGIN:VCALENDAR
VERSION:2.0
PRODID:-//Family Life Radio - ECPv6.15.19//NONSGML v1.0//EN
CALSCALE:GREGORIAN
METHOD:PUBLISH
X-WR-CALNAME:Family Life Radio
X-ORIGINAL-URL:https://myflr.org
X-WR-CALDESC:Events for Family Life Radio
REFRESH-INTERVAL;VALUE=DURATION:PT1H
X-Robots-Tag:noindex
X-PUBLISHED-TTL:PT1H
BEGIN:VTIMEZONE
TZID:America/Detroit
BEGIN:DAYLIGHT
TZOFFSETFROM:-0500
TZOFFSETTO:-0400
TZNAME:EDT
DTSTART:20250309T070000
END:DAYLIGHT
BEGIN:STANDARD
TZOFFSETFROM:-0400
TZOFFSETTO:-0500
TZNAME:EST
DTSTART:20251102T060000
END:STANDARD
BEGIN:DAYLIGHT
TZOFFSETFROM:-0500
TZOFFSETTO:-0400
TZNAME:EDT
DTSTART:20260308T070000
END:DAYLIGHT
BEGIN:STANDARD
TZOFFSETFROM:-0400
TZOFFSETTO:-0500
TZNAME:EST
DTSTART:20261101T060000
END:STANDARD
BEGIN:DAYLIGHT
TZOFFSETFROM:-0500
TZOFFSETTO:-0400
TZNAME:EDT
DTSTART:20270314T070000
END:DAYLIGHT
BEGIN:STANDARD
TZOFFSETFROM:-0400
TZOFFSETTO:-0500
TZNAME:EST
DTSTART:20271107T060000
END:STANDARD
END:VTIMEZONE
BEGIN:VEVENT
DTSTART;TZID=America/Detroit:20260530T090000
DTEND;TZID=America/Detroit:20260530T120000
DTSTAMP:20260419T112909
CREATED:20260408T150810Z
LAST-MODIFIED:20260413T111057Z
UID:10060244-1780131600-1780142400@myflr.org
SUMMARY:LIFE CHOICES WALK FOR LIFE 2026 – WEST BRANCH\, MI
DESCRIPTION:Our annual Walk/Run for Life is being held at Ogemaw Heights High School on May 30th\, 2026. Registration begins at 9:00am\, race begins at 10:00am. You can look forward to a day filled with fun for the whole family\, including our 5k walk/run\, games\, food\, and music from Family Life Radio. Follow us on Facebook or on our website for more details. We look forward to seeing you!\nPre-register here: https://forms.gle/xhwJ51H1x2872fXVA
URL:https://myflr.org/event/life-choices-walk-for-life-2026-west-branch-mi/
LOCATION:Ogemaw Heights High School (West Branch\, MI)\, 960 M-33\, West Branch\, MI\, 48661\, United States
CATEGORIES:Featured,Michigan
ATTACH;FMTTYPE=image/png:https://eadn-wc05-15902914.nxedge.io/wp-content/uploads/2026/04/Life-Choices-Walk-for-Life.png
END:VEVENT
END:VCALENDAR