
BEGIN:VCALENDAR
VERSION:2.0
PRODID:-//Family Life Radio - ECPv6.15.20//NONSGML v1.0//EN
CALSCALE:GREGORIAN
METHOD:PUBLISH
X-ORIGINAL-URL:https://myflr.org
X-WR-CALDESC:Events for Family Life Radio
REFRESH-INTERVAL;VALUE=DURATION:PT1H
X-Robots-Tag:noindex
X-PUBLISHED-TTL:PT1H
BEGIN:VTIMEZONE
TZID:America/Phoenix
BEGIN:STANDARD
TZOFFSETFROM:-0700
TZOFFSETTO:-0700
TZNAME:MST
DTSTART:20240101T000000
END:STANDARD
END:VTIMEZONE
BEGIN:VEVENT
DTSTART;VALUE=DATE:20250812
DTEND;VALUE=DATE:20260813
DTSTAMP:20260421T024618
CREATED:20250701T040351Z
LAST-MODIFIED:20250701T040351Z
UID:10046518-1754956800-1786579199@myflr.org
SUMMARY:DivorceCare for Kids led by Stephen Ministers
DESCRIPTION:We understand just how devastating and heart-breaking it is to experience the divorce of parents. Sharing this journey with other kids who are going through (or have gone through) divorce is extremely helpful. A child being able to share their emotions and experiences helps with the healing process. Parents are encouraged to stay involved with their children as they go through the program and each week a “Parent Page” is shared that covers what was learned and how to process next steps as a family. \nDC4K at Oro Valley Chruch of the Nazarene (OVCN) is led by Stephen Ministers who are loving and compassionate and the perfect listener. Through intensive training and their experiences\, they walk you through the burden of life such as divorce. This course is for kids age 5 through 12. \n  \nWeekly Event!
URL:https://myflr.org/event/divorcecare-for-kids-led-by-stephen-ministers-2/
LOCATION:Oro Valley Church of the Nazarene\, 500 W Calle Concordia\, Oro Valley\, AZ\, 85704\, United States
CATEGORIES:Arizona
ATTACH;FMTTYPE=image/png:https://eadn-wc05-15902914.nxedge.io/wp-content/uploads/2025/06/DC4K-Logo.png
ORGANIZER;CN="Stephen MInistry":MAILTO:StephenMinistry@OVCN.church
END:VEVENT
BEGIN:VEVENT
DTSTART;VALUE=DATE:20250812
DTEND;VALUE=DATE:20260813
DTSTAMP:20260421T024618
CREATED:20250701T040532Z
LAST-MODIFIED:20250701T040532Z
UID:10046583-1754956800-1786579199@myflr.org
SUMMARY:DivorceCare led by Stephen Ministers
DESCRIPTION:We understand just how devastating and heart-breaking it is to experience a divorce. Sharing this journey with others who are going through (or have gone through) divorce is extremely helpful. It makes the burden more tolerable. \nWe will also be offering DivorceCare for Kids (DC4Ks) at the same time as the as the DivorceCare meetings. \nWe are waiting to hear from you. Won’t you join us for a healing and uplifting experience?
URL:https://myflr.org/event/divorcecare-led-by-stephen-ministers/
LOCATION:Oro Valley Church of the Nazarene\, 500 W Calle Concordia\, Oro Valley\, AZ\, 85704\, United States
CATEGORIES:Arizona
ATTACH;FMTTYPE=image/png:https://eadn-wc05-15902914.nxedge.io/wp-content/uploads/2025/06/DivorceCare-Logo.png
ORGANIZER;CN="Stephen MInistry":MAILTO:StephenMinistry@OVCN.church
END:VEVENT
BEGIN:VEVENT
DTSTART;VALUE=DATE:20250814
DTEND;VALUE=DATE:20260815
DTSTAMP:20260421T024618
CREATED:20250701T040123Z
LAST-MODIFIED:20250701T040123Z
UID:10046453-1755129600-1786751999@myflr.org
SUMMARY:GriefShare led by Stephen Ministers
DESCRIPTION:We understand just how devastating and heart-breaking it is to experience the death of a loved one. Sharing this journey with others who are going through (or have gone through) grief is extremely helpful. It makes the burden more tolerable. GriefShare at Oro Valley Church of the Nazarene (OVCN) is led by Stephen Ministers who are loving and compassionate and the perfect listener. Through intense training and their experiences\, they walk you through the burdens of life such as the loss of a loved one. \n  \nThis is a weekly event!
URL:https://myflr.org/event/griefshare-led-by-stephen-ministers/
LOCATION:Oro Valley Church of the Nazarene\, 500 W Calle Concordia\, Oro Valley\, AZ\, 85704\, United States
CATEGORIES:Arizona
ATTACH;FMTTYPE=image/png:https://eadn-wc05-15902914.nxedge.io/wp-content/uploads/2025/06/gs_metallic.png
ORGANIZER;CN="Stephen MInistry":MAILTO:StephenMinistry@OVCN.church
END:VEVENT
BEGIN:VEVENT
DTSTART;VALUE=DATE:20260205
DTEND;VALUE=DATE:20270211
DTSTAMP:20260421T024618
CREATED:20260204T035812Z
LAST-MODIFIED:20260204T035812Z
UID:10058855-1770249600-1802303999@myflr.org
SUMMARY:GriefShare with Stephen Ministers
DESCRIPTION:We understand just how devastating and heart-breaking it is to experience the death of a loved one. Sharing this journey with others who are going through (or have gone through) grief is extremely helpful. It makes the burden more tolerable. GriefShare at Oro Valley Church of the Nazarene (OVCN) is led by Stephen Ministers who are loving and compassionate and the perfect listener. Through intense training and their experiences\, they walk you through the burdens of life such as the loss of a loved one. We are hoping to hear from you. Won’t you plan to join us for a healing and uplifting experience?
URL:https://myflr.org/event/griefshare-with-stephen-ministers/2026-02-05/
LOCATION:Oro Valley Church of the Nazarene\, 500 W Calle Concordia\, Oro Valley\, AZ\, 85704\, United States
CATEGORIES:Arizona
ATTACH;FMTTYPE=image/jpeg:https://eadn-wc05-15902914.nxedge.io/wp-content/uploads/2026/02/ovc_GriefShare-1.jpeg
ORGANIZER;CN="Oro Valley Church of the Nazarene":MAILTO:ovcn@ovcn.church
END:VEVENT
BEGIN:VEVENT
DTSTART;TZID=America/Phoenix:20260421T180000
DTEND;TZID=America/Phoenix:20260421T200000
DTSTAMP:20260421T024618
CREATED:20260208T014628Z
LAST-MODIFIED:20260208T014628Z
UID:10058280-1776794400-1776801600@myflr.org
SUMMARY:DivorceCare by Stephen Ministers
DESCRIPTION:We understand just how devastating and heart-breaking it is to experience a divorce. Sharing this journey with others who are going through (or have gone through) divorce is extremely helpful. It makes the burden more tolerable. Won’t you join us for a healing and uplifting experience?
URL:https://myflr.org/event/divorcecare-by-stephen-ministers/2026-04-21/
LOCATION:Oro Valley Church of the Nazarene\, 500 W Calle Concordia\, Oro Valley\, AZ\, 85704\, United States
CATEGORIES:Arizona
ATTACH;FMTTYPE=image/jpeg:https://eadn-wc05-15902914.nxedge.io/wp-content/uploads/2026/02/OVC_DivorceCare-2-2.jpeg
ORGANIZER;CN="Oro Valley Church of the Nazarene":MAILTO:ovcn@ovcn.church
END:VEVENT
END:VCALENDAR