
BEGIN:VCALENDAR
VERSION:2.0
PRODID:-//Family Life Radio - ECPv6.15.20//NONSGML v1.0//EN
CALSCALE:GREGORIAN
METHOD:PUBLISH
X-ORIGINAL-URL:https://myflr.org
X-WR-CALDESC:Events for Family Life Radio
REFRESH-INTERVAL;VALUE=DURATION:PT1H
X-Robots-Tag:noindex
X-PUBLISHED-TTL:PT1H
BEGIN:VTIMEZONE
TZID:America/Phoenix
BEGIN:STANDARD
TZOFFSETFROM:-0700
TZOFFSETTO:-0700
TZNAME:MST
DTSTART:20220101T000000
END:STANDARD
END:VTIMEZONE
BEGIN:VEVENT
DTSTART;TZID=America/Phoenix:20240509T180000
DTEND;TZID=America/Phoenix:20240509T200000
DTSTAMP:20260421T054418
CREATED:20240108T175748Z
LAST-MODIFIED:20240109T231639Z
UID:10019459-1715277600-1715284800@myflr.org
SUMMARY:GriefShare facilitated by Stephen Ministers at OVCN
DESCRIPTION:We understand just how devastating and heart-breaking it is to experience the death of a loved one. Sharing this journey with others who are going through (or have gone through) grief is extremely helpful. It makes the burden more tolerable. \nGriefShare at Oro Valley Church of the Nazarene (OVCN) is led by Stephen Ministers who are loving and compassionate and the perfect listener. Through intense training and their experiences\, they walk you through the burden of life such as the loss of a loved one.
URL:https://myflr.org/event/griefshare-facilitated-by-stephen-ministers-at-ovcn/2024-05-09/
LOCATION:Oro Valley Church of the Nazarene\, 500 W Calle Concordia\, Oro Valley\, AZ\, 85704\, United States
CATEGORIES:Arizona
ATTACH;FMTTYPE=image/png:https://eadn-wc05-15902914.nxedge.io/wp-content/uploads/2024/01/gs_metallic-1.png
END:VEVENT
BEGIN:VEVENT
DTSTART;TZID=America/Phoenix:20240502T180000
DTEND;TZID=America/Phoenix:20240502T200000
DTSTAMP:20260421T054418
CREATED:20240108T175748Z
LAST-MODIFIED:20240109T231639Z
UID:10019458-1714672800-1714680000@myflr.org
SUMMARY:GriefShare facilitated by Stephen Ministers at OVCN
DESCRIPTION:We understand just how devastating and heart-breaking it is to experience the death of a loved one. Sharing this journey with others who are going through (or have gone through) grief is extremely helpful. It makes the burden more tolerable. \nGriefShare at Oro Valley Church of the Nazarene (OVCN) is led by Stephen Ministers who are loving and compassionate and the perfect listener. Through intense training and their experiences\, they walk you through the burden of life such as the loss of a loved one.
URL:https://myflr.org/event/griefshare-facilitated-by-stephen-ministers-at-ovcn/2024-05-02/
LOCATION:Oro Valley Church of the Nazarene\, 500 W Calle Concordia\, Oro Valley\, AZ\, 85704\, United States
CATEGORIES:Arizona
ATTACH;FMTTYPE=image/png:https://eadn-wc05-15902914.nxedge.io/wp-content/uploads/2024/01/gs_metallic-1.png
END:VEVENT
BEGIN:VEVENT
DTSTART;TZID=America/Phoenix:20240502T073000
DTEND;TZID=America/Phoenix:20240502T083000
DTSTAMP:20260421T054418
CREATED:20240422T235308Z
LAST-MODIFIED:20240422T235308Z
UID:10024564-1714635000-1714638600@myflr.org
SUMMARY:National Day of Prayer Breakfast
DESCRIPTION:Everyone is invited for a meaningful morning of breakfast and prayer as we come together for the National Day of Prayer on May 2 at 7:30am. Join us in lifting up our community’s teachers\, first responders\, business owners\, as well as national politicians\, the military and more in prayer. Your presence and prayers matter. Let’s unite in faith and support for those who serve our community tirelessly. See you there!
URL:https://myflr.org/event/national-day-of-prayer-breakfast/
LOCATION:Oro Valley Church of the Nazarene\, 500 W Calle Concordia\, Oro Valley\, AZ\, 85704\, United States
CATEGORIES:Arizona
ATTACH;FMTTYPE=image/jpeg:https://eadn-wc05-15902914.nxedge.io/wp-content/uploads/2024/04/2024-National-Day-of-Prayer-.jpg
ORGANIZER;CN="Oro Valley Church of the Nazarene":MAILTO:ovcn@ovcn.church
END:VEVENT
BEGIN:VEVENT
DTSTART;TZID=America/Phoenix:20240425T180000
DTEND;TZID=America/Phoenix:20240425T200000
DTSTAMP:20260421T054418
CREATED:20240108T175748Z
LAST-MODIFIED:20240109T231639Z
UID:10019457-1714068000-1714075200@myflr.org
SUMMARY:GriefShare facilitated by Stephen Ministers at OVCN
DESCRIPTION:We understand just how devastating and heart-breaking it is to experience the death of a loved one. Sharing this journey with others who are going through (or have gone through) grief is extremely helpful. It makes the burden more tolerable. \nGriefShare at Oro Valley Church of the Nazarene (OVCN) is led by Stephen Ministers who are loving and compassionate and the perfect listener. Through intense training and their experiences\, they walk you through the burden of life such as the loss of a loved one.
URL:https://myflr.org/event/griefshare-facilitated-by-stephen-ministers-at-ovcn/2024-04-25/
LOCATION:Oro Valley Church of the Nazarene\, 500 W Calle Concordia\, Oro Valley\, AZ\, 85704\, United States
CATEGORIES:Arizona
ATTACH;FMTTYPE=image/png:https://eadn-wc05-15902914.nxedge.io/wp-content/uploads/2024/01/gs_metallic-1.png
END:VEVENT
BEGIN:VEVENT
DTSTART;TZID=America/Phoenix:20240418T180000
DTEND;TZID=America/Phoenix:20240418T200000
DTSTAMP:20260421T054418
CREATED:20240108T175748Z
LAST-MODIFIED:20240109T231639Z
UID:10019456-1713463200-1713470400@myflr.org
SUMMARY:GriefShare facilitated by Stephen Ministers at OVCN
DESCRIPTION:We understand just how devastating and heart-breaking it is to experience the death of a loved one. Sharing this journey with others who are going through (or have gone through) grief is extremely helpful. It makes the burden more tolerable. \nGriefShare at Oro Valley Church of the Nazarene (OVCN) is led by Stephen Ministers who are loving and compassionate and the perfect listener. Through intense training and their experiences\, they walk you through the burden of life such as the loss of a loved one.
URL:https://myflr.org/event/griefshare-facilitated-by-stephen-ministers-at-ovcn/2024-04-18/
LOCATION:Oro Valley Church of the Nazarene\, 500 W Calle Concordia\, Oro Valley\, AZ\, 85704\, United States
CATEGORIES:Arizona
ATTACH;FMTTYPE=image/png:https://eadn-wc05-15902914.nxedge.io/wp-content/uploads/2024/01/gs_metallic-1.png
END:VEVENT
BEGIN:VEVENT
DTSTART;TZID=America/Phoenix:20240411T180000
DTEND;TZID=America/Phoenix:20240411T200000
DTSTAMP:20260421T054418
CREATED:20240108T175748Z
LAST-MODIFIED:20240109T231639Z
UID:10019455-1712858400-1712865600@myflr.org
SUMMARY:GriefShare facilitated by Stephen Ministers at OVCN
DESCRIPTION:We understand just how devastating and heart-breaking it is to experience the death of a loved one. Sharing this journey with others who are going through (or have gone through) grief is extremely helpful. It makes the burden more tolerable. \nGriefShare at Oro Valley Church of the Nazarene (OVCN) is led by Stephen Ministers who are loving and compassionate and the perfect listener. Through intense training and their experiences\, they walk you through the burden of life such as the loss of a loved one.
URL:https://myflr.org/event/griefshare-facilitated-by-stephen-ministers-at-ovcn/2024-04-11/
LOCATION:Oro Valley Church of the Nazarene\, 500 W Calle Concordia\, Oro Valley\, AZ\, 85704\, United States
CATEGORIES:Arizona
ATTACH;FMTTYPE=image/png:https://eadn-wc05-15902914.nxedge.io/wp-content/uploads/2024/01/gs_metallic-1.png
END:VEVENT
BEGIN:VEVENT
DTSTART;TZID=America/Phoenix:20240404T180000
DTEND;TZID=America/Phoenix:20240404T200000
DTSTAMP:20260421T054418
CREATED:20240108T175748Z
LAST-MODIFIED:20240109T231639Z
UID:10019454-1712253600-1712260800@myflr.org
SUMMARY:GriefShare facilitated by Stephen Ministers at OVCN
DESCRIPTION:We understand just how devastating and heart-breaking it is to experience the death of a loved one. Sharing this journey with others who are going through (or have gone through) grief is extremely helpful. It makes the burden more tolerable. \nGriefShare at Oro Valley Church of the Nazarene (OVCN) is led by Stephen Ministers who are loving and compassionate and the perfect listener. Through intense training and their experiences\, they walk you through the burden of life such as the loss of a loved one.
URL:https://myflr.org/event/griefshare-facilitated-by-stephen-ministers-at-ovcn/2024-04-04/
LOCATION:Oro Valley Church of the Nazarene\, 500 W Calle Concordia\, Oro Valley\, AZ\, 85704\, United States
CATEGORIES:Arizona
ATTACH;FMTTYPE=image/png:https://eadn-wc05-15902914.nxedge.io/wp-content/uploads/2024/01/gs_metallic-1.png
END:VEVENT
BEGIN:VEVENT
DTSTART;TZID=America/Phoenix:20240330T090000
DTEND;TZID=America/Phoenix:20240330T120000
DTSTAMP:20260421T054418
CREATED:20240301T171743Z
LAST-MODIFIED:20240301T171743Z
UID:10020802-1711789200-1711800000@myflr.org
SUMMARY:Easter EGGSTRAVAGANZA at Oro Valley Church of the Nazarene
DESCRIPTION:Come join us for a free morning of:\n.Timed Easter egg hunts for 2yrs -K AND separate times hunts for 1-5th graders\n.Easter Hay wagon rides\n.Carnival games\n.Fun Easter arts and crafts\n.Face painting\n.Encounters with Jesus\n.Train Rides\n.Basketball Tournament\n.Petting zoo\n.Horse rides\n.Pictures with the Easter bunny\n.Easter Photo booth\n.Free food\n.Live music\n.Multiple Inflatables
URL:https://myflr.org/event/easter-eggstravaganza-at-oro-valley-church-of-the-nazarene-2/
LOCATION:Oro Valley Church of the Nazarene\, 500 W Calle Concordia\, Oro Valley\, AZ\, 85704\, United States
CATEGORIES:Arizona
ATTACH;FMTTYPE=image/jpeg:https://eadn-wc05-15902914.nxedge.io/wp-content/uploads/2024/02/Easter-Eggstravaganza-1.jpg
END:VEVENT
BEGIN:VEVENT
DTSTART;TZID=America/Phoenix:20240328T180000
DTEND;TZID=America/Phoenix:20240328T200000
DTSTAMP:20260421T054418
CREATED:20240108T175748Z
LAST-MODIFIED:20240109T231639Z
UID:10019453-1711648800-1711656000@myflr.org
SUMMARY:GriefShare facilitated by Stephen Ministers at OVCN
DESCRIPTION:We understand just how devastating and heart-breaking it is to experience the death of a loved one. Sharing this journey with others who are going through (or have gone through) grief is extremely helpful. It makes the burden more tolerable. \nGriefShare at Oro Valley Church of the Nazarene (OVCN) is led by Stephen Ministers who are loving and compassionate and the perfect listener. Through intense training and their experiences\, they walk you through the burden of life such as the loss of a loved one.
URL:https://myflr.org/event/griefshare-facilitated-by-stephen-ministers-at-ovcn/2024-03-28/
LOCATION:Oro Valley Church of the Nazarene\, 500 W Calle Concordia\, Oro Valley\, AZ\, 85704\, United States
CATEGORIES:Arizona
ATTACH;FMTTYPE=image/png:https://eadn-wc05-15902914.nxedge.io/wp-content/uploads/2024/01/gs_metallic-1.png
END:VEVENT
BEGIN:VEVENT
DTSTART;TZID=America/Phoenix:20240321T180000
DTEND;TZID=America/Phoenix:20240321T200000
DTSTAMP:20260421T054418
CREATED:20240108T175748Z
LAST-MODIFIED:20240109T231639Z
UID:10019452-1711044000-1711051200@myflr.org
SUMMARY:GriefShare facilitated by Stephen Ministers at OVCN
DESCRIPTION:We understand just how devastating and heart-breaking it is to experience the death of a loved one. Sharing this journey with others who are going through (or have gone through) grief is extremely helpful. It makes the burden more tolerable. \nGriefShare at Oro Valley Church of the Nazarene (OVCN) is led by Stephen Ministers who are loving and compassionate and the perfect listener. Through intense training and their experiences\, they walk you through the burden of life such as the loss of a loved one.
URL:https://myflr.org/event/griefshare-facilitated-by-stephen-ministers-at-ovcn/2024-03-21/
LOCATION:Oro Valley Church of the Nazarene\, 500 W Calle Concordia\, Oro Valley\, AZ\, 85704\, United States
CATEGORIES:Arizona
ATTACH;FMTTYPE=image/png:https://eadn-wc05-15902914.nxedge.io/wp-content/uploads/2024/01/gs_metallic-1.png
END:VEVENT
BEGIN:VEVENT
DTSTART;TZID=America/Phoenix:20240314T180000
DTEND;TZID=America/Phoenix:20240314T200000
DTSTAMP:20260421T054418
CREATED:20240108T175748Z
LAST-MODIFIED:20240109T231639Z
UID:10019451-1710439200-1710446400@myflr.org
SUMMARY:GriefShare facilitated by Stephen Ministers at OVCN
DESCRIPTION:We understand just how devastating and heart-breaking it is to experience the death of a loved one. Sharing this journey with others who are going through (or have gone through) grief is extremely helpful. It makes the burden more tolerable. \nGriefShare at Oro Valley Church of the Nazarene (OVCN) is led by Stephen Ministers who are loving and compassionate and the perfect listener. Through intense training and their experiences\, they walk you through the burden of life such as the loss of a loved one.
URL:https://myflr.org/event/griefshare-facilitated-by-stephen-ministers-at-ovcn/2024-03-14/
LOCATION:Oro Valley Church of the Nazarene\, 500 W Calle Concordia\, Oro Valley\, AZ\, 85704\, United States
CATEGORIES:Arizona
ATTACH;FMTTYPE=image/png:https://eadn-wc05-15902914.nxedge.io/wp-content/uploads/2024/01/gs_metallic-1.png
END:VEVENT
BEGIN:VEVENT
DTSTART;TZID=America/Phoenix:20240307T180000
DTEND;TZID=America/Phoenix:20240307T200000
DTSTAMP:20260421T054418
CREATED:20240108T175748Z
LAST-MODIFIED:20240109T231639Z
UID:10019450-1709834400-1709841600@myflr.org
SUMMARY:GriefShare facilitated by Stephen Ministers at OVCN
DESCRIPTION:We understand just how devastating and heart-breaking it is to experience the death of a loved one. Sharing this journey with others who are going through (or have gone through) grief is extremely helpful. It makes the burden more tolerable. \nGriefShare at Oro Valley Church of the Nazarene (OVCN) is led by Stephen Ministers who are loving and compassionate and the perfect listener. Through intense training and their experiences\, they walk you through the burden of life such as the loss of a loved one.
URL:https://myflr.org/event/griefshare-facilitated-by-stephen-ministers-at-ovcn/2024-03-07/
LOCATION:Oro Valley Church of the Nazarene\, 500 W Calle Concordia\, Oro Valley\, AZ\, 85704\, United States
CATEGORIES:Arizona
ATTACH;FMTTYPE=image/png:https://eadn-wc05-15902914.nxedge.io/wp-content/uploads/2024/01/gs_metallic-1.png
END:VEVENT
BEGIN:VEVENT
DTSTART;TZID=America/Phoenix:20240229T180000
DTEND;TZID=America/Phoenix:20240229T200000
DTSTAMP:20260421T054418
CREATED:20240108T175748Z
LAST-MODIFIED:20240109T231639Z
UID:10019449-1709229600-1709236800@myflr.org
SUMMARY:GriefShare facilitated by Stephen Ministers at OVCN
DESCRIPTION:We understand just how devastating and heart-breaking it is to experience the death of a loved one. Sharing this journey with others who are going through (or have gone through) grief is extremely helpful. It makes the burden more tolerable. \nGriefShare at Oro Valley Church of the Nazarene (OVCN) is led by Stephen Ministers who are loving and compassionate and the perfect listener. Through intense training and their experiences\, they walk you through the burden of life such as the loss of a loved one.
URL:https://myflr.org/event/griefshare-facilitated-by-stephen-ministers-at-ovcn/2024-02-29/
LOCATION:Oro Valley Church of the Nazarene\, 500 W Calle Concordia\, Oro Valley\, AZ\, 85704\, United States
CATEGORIES:Arizona
ATTACH;FMTTYPE=image/png:https://eadn-wc05-15902914.nxedge.io/wp-content/uploads/2024/01/gs_metallic-1.png
END:VEVENT
BEGIN:VEVENT
DTSTART;TZID=America/Phoenix:20240222T180000
DTEND;TZID=America/Phoenix:20240222T200000
DTSTAMP:20260421T054418
CREATED:20240108T175748Z
LAST-MODIFIED:20240109T231639Z
UID:10019448-1708624800-1708632000@myflr.org
SUMMARY:GriefShare facilitated by Stephen Ministers at OVCN
DESCRIPTION:We understand just how devastating and heart-breaking it is to experience the death of a loved one. Sharing this journey with others who are going through (or have gone through) grief is extremely helpful. It makes the burden more tolerable. \nGriefShare at Oro Valley Church of the Nazarene (OVCN) is led by Stephen Ministers who are loving and compassionate and the perfect listener. Through intense training and their experiences\, they walk you through the burden of life such as the loss of a loved one.
URL:https://myflr.org/event/griefshare-facilitated-by-stephen-ministers-at-ovcn/2024-02-22/
LOCATION:Oro Valley Church of the Nazarene\, 500 W Calle Concordia\, Oro Valley\, AZ\, 85704\, United States
CATEGORIES:Arizona
ATTACH;FMTTYPE=image/png:https://eadn-wc05-15902914.nxedge.io/wp-content/uploads/2024/01/gs_metallic-1.png
END:VEVENT
BEGIN:VEVENT
DTSTART;TZID=America/Phoenix:20240215T180000
DTEND;TZID=America/Phoenix:20240215T200000
DTSTAMP:20260421T054418
CREATED:20240108T175748Z
LAST-MODIFIED:20240109T231639Z
UID:10019447-1708020000-1708027200@myflr.org
SUMMARY:GriefShare facilitated by Stephen Ministers at OVCN
DESCRIPTION:We understand just how devastating and heart-breaking it is to experience the death of a loved one. Sharing this journey with others who are going through (or have gone through) grief is extremely helpful. It makes the burden more tolerable. \nGriefShare at Oro Valley Church of the Nazarene (OVCN) is led by Stephen Ministers who are loving and compassionate and the perfect listener. Through intense training and their experiences\, they walk you through the burden of life such as the loss of a loved one.
URL:https://myflr.org/event/griefshare-facilitated-by-stephen-ministers-at-ovcn/2024-02-15/
LOCATION:Oro Valley Church of the Nazarene\, 500 W Calle Concordia\, Oro Valley\, AZ\, 85704\, United States
CATEGORIES:Arizona
ATTACH;FMTTYPE=image/png:https://eadn-wc05-15902914.nxedge.io/wp-content/uploads/2024/01/gs_metallic-1.png
END:VEVENT
BEGIN:VEVENT
DTSTART;TZID=America/Phoenix:20231113T183000
DTEND;TZID=America/Phoenix:20231113T203000
DTSTAMP:20260421T054418
CREATED:20230914T221428Z
LAST-MODIFIED:20230914T221825Z
UID:10015341-1699900200-1699907400@myflr.org
SUMMARY:Biblical Citizenship in Modern America
DESCRIPTION:Now more than ever\, our nation is in need of Biblical citizens who grasp the dynamic unity of citizens of the Kingdom of God and citizens of this great nation! You will learn how our founders relied on their Christian moorings and Biblical worldview to secure the blessings of liberty to ourselves and our posterity. You will also be treated to encouraging historical facts and inspirational true stories that are not taught in our educational institutions today. All in all you will be edified and equipped to operationalize your faith and practice Biblical Citizenship in Modern America!\nPlease register through the church website and through the Patriot Academy. The cost is $25 per family and includes one physical copy of the workbook which you will receive at the first class.\n https://www.patriotacademy.com/coach/register/6237
URL:https://myflr.org/event/biblical-citizenship-in-modern-america/2023-11-13/
LOCATION:Oro Valley Church of the Nazarene\, 500 W Calle Concordia\, Oro Valley\, AZ\, 85704\, United States
CATEGORIES:Arizona
ATTACH;FMTTYPE=application/pdf:https://eadn-wc05-15902914.nxedge.io/wp-content/uploads/2023/09/Bibical-Citizenship-Flyer-Final-9.23.pdf
END:VEVENT
BEGIN:VEVENT
DTSTART;TZID=America/Phoenix:20230408T090000
DTEND;TZID=America/Phoenix:20230408T120000
DTSTAMP:20260421T054418
CREATED:20230316T020451Z
LAST-MODIFIED:20230403T172238Z
UID:10007864-1680944400-1680955200@myflr.org
SUMMARY:Easter EGGSTRAVAGANZA at Oro Valley Church of the Nazarene
DESCRIPTION:All are welcome to join Oro Valley Church of the Nazarene’s annual Easter Eggstravaganza! A free event to the community that focuses on kids and families. Taking place at OVCN on April 8th from 9am-12noon\, there will be multiple encounters with Jesus showings\, separate timed easter egg hunts for both Early Childhood and Elementary kids\, Gospel Puppet Shows\, Carnival Games\, Hayrides\, Face Painting\, Arts & Crafts\, a petting zoo and horse rides\, free good\, pictures with Mr. & Mrs. Easter Bunny\, live music\, multiple inflatables\, and basketball tournaments. Bring your friends and come join us for a morning of fun!
URL:https://myflr.org/event/easter-eggstravaganza-at-oro-valley-church-of-the-nazarene/
LOCATION:Oro Valley Church of the Nazarene\, 500 W Calle Concordia\, Oro Valley\, AZ\, 85704\, United States
CATEGORIES:Arizona,Featured
ATTACH;FMTTYPE=image/jpeg:https://eadn-wc05-15902914.nxedge.io/wp-content/uploads/2023/03/Promo.jpg
END:VEVENT
END:VCALENDAR