
BEGIN:VCALENDAR
VERSION:2.0
PRODID:-//Family Life Radio - ECPv6.15.20//NONSGML v1.0//EN
CALSCALE:GREGORIAN
METHOD:PUBLISH
X-ORIGINAL-URL:https://myflr.org
X-WR-CALDESC:Events for Family Life Radio
REFRESH-INTERVAL;VALUE=DURATION:PT1H
X-Robots-Tag:noindex
X-PUBLISHED-TTL:PT1H
BEGIN:VTIMEZONE
TZID:America/Phoenix
BEGIN:STANDARD
TZOFFSETFROM:-0700
TZOFFSETTO:-0700
TZNAME:MST
DTSTART:20220101T000000
END:STANDARD
END:VTIMEZONE
BEGIN:VEVENT
DTSTART;TZID=America/Phoenix:20240229T180000
DTEND;TZID=America/Phoenix:20240229T200000
DTSTAMP:20260421T070611
CREATED:20240108T175748Z
LAST-MODIFIED:20240109T231639Z
UID:10019449-1709229600-1709236800@myflr.org
SUMMARY:GriefShare facilitated by Stephen Ministers at OVCN
DESCRIPTION:We understand just how devastating and heart-breaking it is to experience the death of a loved one. Sharing this journey with others who are going through (or have gone through) grief is extremely helpful. It makes the burden more tolerable. \nGriefShare at Oro Valley Church of the Nazarene (OVCN) is led by Stephen Ministers who are loving and compassionate and the perfect listener. Through intense training and their experiences\, they walk you through the burden of life such as the loss of a loved one.
URL:https://myflr.org/event/griefshare-facilitated-by-stephen-ministers-at-ovcn/2024-02-29/
LOCATION:Oro Valley Church of the Nazarene\, 500 W Calle Concordia\, Oro Valley\, AZ\, 85704\, United States
CATEGORIES:Arizona
ATTACH;FMTTYPE=image/png:https://eadn-wc05-15902914.nxedge.io/wp-content/uploads/2024/01/gs_metallic-1.png
END:VEVENT
BEGIN:VEVENT
DTSTART;TZID=America/Phoenix:20240222T180000
DTEND;TZID=America/Phoenix:20240222T200000
DTSTAMP:20260421T070611
CREATED:20240108T175748Z
LAST-MODIFIED:20240109T231639Z
UID:10019448-1708624800-1708632000@myflr.org
SUMMARY:GriefShare facilitated by Stephen Ministers at OVCN
DESCRIPTION:We understand just how devastating and heart-breaking it is to experience the death of a loved one. Sharing this journey with others who are going through (or have gone through) grief is extremely helpful. It makes the burden more tolerable. \nGriefShare at Oro Valley Church of the Nazarene (OVCN) is led by Stephen Ministers who are loving and compassionate and the perfect listener. Through intense training and their experiences\, they walk you through the burden of life such as the loss of a loved one.
URL:https://myflr.org/event/griefshare-facilitated-by-stephen-ministers-at-ovcn/2024-02-22/
LOCATION:Oro Valley Church of the Nazarene\, 500 W Calle Concordia\, Oro Valley\, AZ\, 85704\, United States
CATEGORIES:Arizona
ATTACH;FMTTYPE=image/png:https://eadn-wc05-15902914.nxedge.io/wp-content/uploads/2024/01/gs_metallic-1.png
END:VEVENT
BEGIN:VEVENT
DTSTART;TZID=America/Phoenix:20240215T180000
DTEND;TZID=America/Phoenix:20240215T200000
DTSTAMP:20260421T070611
CREATED:20240108T175748Z
LAST-MODIFIED:20240109T231639Z
UID:10019447-1708020000-1708027200@myflr.org
SUMMARY:GriefShare facilitated by Stephen Ministers at OVCN
DESCRIPTION:We understand just how devastating and heart-breaking it is to experience the death of a loved one. Sharing this journey with others who are going through (or have gone through) grief is extremely helpful. It makes the burden more tolerable. \nGriefShare at Oro Valley Church of the Nazarene (OVCN) is led by Stephen Ministers who are loving and compassionate and the perfect listener. Through intense training and their experiences\, they walk you through the burden of life such as the loss of a loved one.
URL:https://myflr.org/event/griefshare-facilitated-by-stephen-ministers-at-ovcn/2024-02-15/
LOCATION:Oro Valley Church of the Nazarene\, 500 W Calle Concordia\, Oro Valley\, AZ\, 85704\, United States
CATEGORIES:Arizona
ATTACH;FMTTYPE=image/png:https://eadn-wc05-15902914.nxedge.io/wp-content/uploads/2024/01/gs_metallic-1.png
END:VEVENT
BEGIN:VEVENT
DTSTART;TZID=America/Phoenix:20231113T183000
DTEND;TZID=America/Phoenix:20231113T203000
DTSTAMP:20260421T070611
CREATED:20230914T221428Z
LAST-MODIFIED:20230914T221825Z
UID:10015341-1699900200-1699907400@myflr.org
SUMMARY:Biblical Citizenship in Modern America
DESCRIPTION:Now more than ever\, our nation is in need of Biblical citizens who grasp the dynamic unity of citizens of the Kingdom of God and citizens of this great nation! You will learn how our founders relied on their Christian moorings and Biblical worldview to secure the blessings of liberty to ourselves and our posterity. You will also be treated to encouraging historical facts and inspirational true stories that are not taught in our educational institutions today. All in all you will be edified and equipped to operationalize your faith and practice Biblical Citizenship in Modern America!\nPlease register through the church website and through the Patriot Academy. The cost is $25 per family and includes one physical copy of the workbook which you will receive at the first class.\n https://www.patriotacademy.com/coach/register/6237
URL:https://myflr.org/event/biblical-citizenship-in-modern-america/2023-11-13/
LOCATION:Oro Valley Church of the Nazarene\, 500 W Calle Concordia\, Oro Valley\, AZ\, 85704\, United States
CATEGORIES:Arizona
ATTACH;FMTTYPE=application/pdf:https://eadn-wc05-15902914.nxedge.io/wp-content/uploads/2023/09/Bibical-Citizenship-Flyer-Final-9.23.pdf
END:VEVENT
BEGIN:VEVENT
DTSTART;TZID=America/Phoenix:20230408T090000
DTEND;TZID=America/Phoenix:20230408T120000
DTSTAMP:20260421T070611
CREATED:20230316T020451Z
LAST-MODIFIED:20230403T172238Z
UID:10007864-1680944400-1680955200@myflr.org
SUMMARY:Easter EGGSTRAVAGANZA at Oro Valley Church of the Nazarene
DESCRIPTION:All are welcome to join Oro Valley Church of the Nazarene’s annual Easter Eggstravaganza! A free event to the community that focuses on kids and families. Taking place at OVCN on April 8th from 9am-12noon\, there will be multiple encounters with Jesus showings\, separate timed easter egg hunts for both Early Childhood and Elementary kids\, Gospel Puppet Shows\, Carnival Games\, Hayrides\, Face Painting\, Arts & Crafts\, a petting zoo and horse rides\, free good\, pictures with Mr. & Mrs. Easter Bunny\, live music\, multiple inflatables\, and basketball tournaments. Bring your friends and come join us for a morning of fun!
URL:https://myflr.org/event/easter-eggstravaganza-at-oro-valley-church-of-the-nazarene/
LOCATION:Oro Valley Church of the Nazarene\, 500 W Calle Concordia\, Oro Valley\, AZ\, 85704\, United States
CATEGORIES:Arizona,Featured
ATTACH;FMTTYPE=image/jpeg:https://eadn-wc05-15902914.nxedge.io/wp-content/uploads/2023/03/Promo.jpg
END:VEVENT
END:VCALENDAR