
BEGIN:VCALENDAR
VERSION:2.0
PRODID:-//Family Life Radio - ECPv6.15.20//NONSGML v1.0//EN
CALSCALE:GREGORIAN
METHOD:PUBLISH
X-WR-CALNAME:Family Life Radio
X-ORIGINAL-URL:https://myflr.org
X-WR-CALDESC:Events for Family Life Radio
REFRESH-INTERVAL;VALUE=DURATION:PT1H
X-Robots-Tag:noindex
X-PUBLISHED-TTL:PT1H
BEGIN:VTIMEZONE
TZID:America/Phoenix
BEGIN:STANDARD
TZOFFSETFROM:-0700
TZOFFSETTO:-0700
TZNAME:MST
DTSTART:20250101T000000
END:STANDARD
END:VTIMEZONE
BEGIN:VEVENT
DTSTART;TZID=America/Phoenix:20260503T080000
DTEND;TZID=America/Phoenix:20260503T120000
DTSTAMP:20260419T192835
CREATED:20260413T235848Z
LAST-MODIFIED:20260413T235848Z
UID:10060245-1777795200-1777809600@myflr.org
SUMMARY:Otter Creek Annual Pancake Breakfast (Highland\, WI)
DESCRIPTION:Otter Creek Lutheran Church\nAnnual Pancake Breakfast\nSunday\, May 3\, 2026\n8:00am – 12:00pm \n4809 County Road P\, Highland\, WI\n(County Road P at Q) \nAll you care to eat: Pancakes\, farm-fresh sausage\, applesauce\, cheese\, sweet rolls\, coffee\, milk\, juice\nAdults $12 / Children $6 \nAnnual fundraiser for Otter Creek Lutheran Church
URL:https://myflr.org/event/otter-creek-annual-pancake-breakfast-highland-wi/
LOCATION:Otter Creek Lutheran Church\, 4809 County Road P\, Highland\, WI\, 53543\, United States
CATEGORIES:Wisconsin
ATTACH;FMTTYPE=image/jpeg:https://eadn-wc05-15902914.nxedge.io/wp-content/uploads/2026/04/OC-Pancake-Breakfast-2026.jpg
END:VEVENT
END:VCALENDAR