
BEGIN:VCALENDAR
VERSION:2.0
PRODID:-//Family Life Radio - ECPv6.15.20//NONSGML v1.0//EN
CALSCALE:GREGORIAN
METHOD:PUBLISH
X-ORIGINAL-URL:https://myflr.org
X-WR-CALDESC:Events for Family Life Radio
REFRESH-INTERVAL;VALUE=DURATION:PT1H
X-Robots-Tag:noindex
X-PUBLISHED-TTL:PT1H
BEGIN:VTIMEZONE
TZID:America/Phoenix
BEGIN:STANDARD
TZOFFSETFROM:-0700
TZOFFSETTO:-0700
TZNAME:MST
DTSTART:20260101T000000
END:STANDARD
END:VTIMEZONE
BEGIN:VEVENT
DTSTART;TZID=America/Phoenix:20270327T170000
DTEND;TZID=America/Phoenix:20270329T140000
DTSTAMP:20260421T110448
CREATED:20251215T155223Z
LAST-MODIFIED:20251215T155223Z
UID:10057794-1806166800-1806328800@myflr.org
SUMMARY:Edge Venture Weekend - Brighton
DESCRIPTION:Edge Venture is a Christian Men’s Experience that helps men understand and accept who Jesus has called them to be by identifying and facing their brokenness and receiving healing. Edge Venture is focused on helping men defeat lies that have been holding them back for far too long. These lies get in the way of relationship(s) with your: Wife\, Friends\, Children\, and God. \nCan you allocate 44 hours of your time to take back ground from the enemy? That is an Edge Venture weekend. Deeply experiential\, radically relational\, and focused on allowing God to help men take back control of their lives. \nAsk Yourself…Do you have regrets? What’s your “hiding place” away from reality? Is SHAME keeping you from being the man God wants you to be?\nIs FEAR or FAITH driving your life and choices? \nYour life can be different. This weekend will be a huge step towards how you really want to live your life. It starts with one decision. \nAre you in?
URL:https://myflr.org/event/edge-venture-weekend-brighton/
LOCATION:Our Lady of the Fields (Brighton\, MI)\, 000 McClements Rd\, Brighton\, MI\, 48114\, United States
CATEGORIES:Michigan
ATTACH;FMTTYPE=image/jpeg:https://eadn-wc05-15902914.nxedge.io/wp-content/uploads/2025/12/EDGEVENTURE-1052894-scaled.jpg
ORGANIZER;CN="Edge Venture Ministries":MAILTO:jeffl@edgeventure.org
END:VEVENT
END:VCALENDAR