
BEGIN:VCALENDAR
VERSION:2.0
PRODID:-//Family Life Radio - ECPv6.15.20//NONSGML v1.0//EN
CALSCALE:GREGORIAN
METHOD:PUBLISH
X-ORIGINAL-URL:https://myflr.org
X-WR-CALDESC:Events for Family Life Radio
REFRESH-INTERVAL;VALUE=DURATION:PT1H
X-Robots-Tag:noindex
X-PUBLISHED-TTL:PT1H
BEGIN:VTIMEZONE
TZID:America/Detroit
BEGIN:DAYLIGHT
TZOFFSETFROM:-0500
TZOFFSETTO:-0400
TZNAME:EDT
DTSTART:20250309T070000
END:DAYLIGHT
BEGIN:STANDARD
TZOFFSETFROM:-0400
TZOFFSETTO:-0500
TZNAME:EST
DTSTART:20251102T060000
END:STANDARD
BEGIN:DAYLIGHT
TZOFFSETFROM:-0500
TZOFFSETTO:-0400
TZNAME:EDT
DTSTART:20260308T070000
END:DAYLIGHT
BEGIN:STANDARD
TZOFFSETFROM:-0400
TZOFFSETTO:-0500
TZNAME:EST
DTSTART:20261101T060000
END:STANDARD
BEGIN:DAYLIGHT
TZOFFSETFROM:-0500
TZOFFSETTO:-0400
TZNAME:EDT
DTSTART:20270314T070000
END:DAYLIGHT
BEGIN:STANDARD
TZOFFSETFROM:-0400
TZOFFSETTO:-0500
TZNAME:EST
DTSTART:20271107T060000
END:STANDARD
END:VTIMEZONE
BEGIN:VEVENT
DTSTART;TZID=America/Detroit:20260425T170000
DTEND;TZID=America/Detroit:20260425T210000
DTSTAMP:20260419T175524
CREATED:20260408T123020Z
LAST-MODIFIED:20260408T123020Z
UID:10060071-1777136400-1777150800@myflr.org
SUMMARY:Community Christian Singles - "Taco Potluck/Game Night/Euchre Tournament"
DESCRIPTION:Enjoy a delicious meal and fun games. Our annual Euchre Tournament follows a Taco Potluck dinner. Or play your favorite card or board game. Please park and enter at the back of the church. Text or call Joyce at 989-277-4520 with any questions and/or to sign up to bring food.
URL:https://myflr.org/event/community-christian-singles-taco-potluck-game-night-euchre-tournament/
LOCATION:Owosso Church of Christ (Owosso\, MI)\, 2005 S. M-52\, Owosso\, MI\, 48867\, United States
CATEGORIES:Michigan
ATTACH;FMTTYPE=image/jpeg:https://eadn-wc05-15902914.nxedge.io/wp-content/uploads/2026/04/brochure-picture-1.jpg
ORGANIZER;CN="Community Christian Singles":MAILTO:joyenlow@gmail.com
END:VEVENT
END:VCALENDAR