
BEGIN:VCALENDAR
VERSION:2.0
PRODID:-//Family Life Radio - ECPv6.15.20//NONSGML v1.0//EN
CALSCALE:GREGORIAN
METHOD:PUBLISH
X-ORIGINAL-URL:https://myflr.org
X-WR-CALDESC:Events for Family Life Radio
REFRESH-INTERVAL;VALUE=DURATION:PT1H
X-Robots-Tag:noindex
X-PUBLISHED-TTL:PT1H
BEGIN:VTIMEZONE
TZID:America/Phoenix
BEGIN:STANDARD
TZOFFSETFROM:-0700
TZOFFSETTO:-0700
TZNAME:MST
DTSTART:20250101T000000
END:STANDARD
END:VTIMEZONE
BEGIN:VEVENT
DTSTART;TZID=America/Phoenix:20260405T103000
DTEND;TZID=America/Phoenix:20260405T120000
DTSTAMP:20260421T013953
CREATED:20260324T231127Z
LAST-MODIFIED:20260324T231127Z
UID:10059997-1775385000-1775390400@myflr.org
SUMMARY:Easter Sunday at Pacific Christian
DESCRIPTION:Easter is a reminder of God’s love and hope for us all. Join us at Pacific Christian Center as we reflect on Jesus’ life\, death\, and resurrection-and what it means for us today. We would love to have you with us! \nEaster Eggs Hunts after both Services \n9:00am and 10:45am Services
URL:https://myflr.org/event/easter-sunday-at-pacific-christian/2026-04-05/2/
LOCATION:Pacific Christian Center\, 3435 Santa Maria Way\, Santa Maria CA 93455\, Santa Maria\, CA\, 93455-2411\, United States
CATEGORIES:California
END:VEVENT
END:VCALENDAR