
BEGIN:VCALENDAR
VERSION:2.0
PRODID:-//Family Life Radio - ECPv6.15.20//NONSGML v1.0//EN
CALSCALE:GREGORIAN
METHOD:PUBLISH
X-WR-CALNAME:Family Life Radio
X-ORIGINAL-URL:https://myflr.org
X-WR-CALDESC:Events for Family Life Radio
REFRESH-INTERVAL;VALUE=DURATION:PT1H
X-Robots-Tag:noindex
X-PUBLISHED-TTL:PT1H
BEGIN:VTIMEZONE
TZID:America/Phoenix
BEGIN:STANDARD
TZOFFSETFROM:-0700
TZOFFSETTO:-0700
TZNAME:MST
DTSTART:20220101T000000
END:STANDARD
END:VTIMEZONE
BEGIN:VEVENT
DTSTART;TZID=America/Phoenix:20231107T110000
DTEND;TZID=America/Phoenix:20231115T200000
DTSTAMP:20260421T093105
CREATED:20231003T181612Z
LAST-MODIFIED:20231005T170746Z
UID:10013774-1699354800-1700078400@myflr.org
SUMMARY:Pacific Rim Food Park
DESCRIPTION:Pacific Rim Food Park is open to the public\, Located at 6901-B San Antonio Dr NE ABQ \nVisit the resident food trucks Tuesday through Sunday from 11am to 8pm for lunch or dinner. \nDawn Patrol Coffee Shack is open 7am to 3pm daily. \nStreet food from Mexico. USA. Japan. Vietnam. Taiwan. Cuba.\nLIVE MUSIC most weekends.\nFind the many park events listed at pacificrimfoodpark.com  \n(Individual food truck hours may vary)\n​\n​#NoGenerators #GoodVibes #GreatFood \nPacific Rim Food Park is another community outreach of GraceChurchABQ.org.
URL:https://myflr.org/event/pacific-rim-food-park-2/2023-11-07/
LOCATION:Pacific Rim Food Park\, 6901-B San Antonio Dr NE ABQ\, ABQ\, NM\, 87109\, United States
CATEGORIES:New Mexico
ATTACH;FMTTYPE=image/png:https://eadn-wc05-15902914.nxedge.io/wp-content/uploads/2023/09/Pacific-Rim.png
ORGANIZER;CN="Grace Church (Bay City%2C MI)":MAILTO:info@gracechurchabq.org
END:VEVENT
END:VCALENDAR