
BEGIN:VCALENDAR
VERSION:2.0
PRODID:-//Family Life Radio - ECPv6.15.20//NONSGML v1.0//EN
CALSCALE:GREGORIAN
METHOD:PUBLISH
X-ORIGINAL-URL:https://myflr.org
X-WR-CALDESC:Events for Family Life Radio
REFRESH-INTERVAL;VALUE=DURATION:PT1H
X-Robots-Tag:noindex
X-PUBLISHED-TTL:PT1H
BEGIN:VTIMEZONE
TZID:America/Phoenix
BEGIN:STANDARD
TZOFFSETFROM:-0700
TZOFFSETTO:-0700
TZNAME:MST
DTSTART:20230101T000000
END:STANDARD
END:VTIMEZONE
BEGIN:VEVENT
DTSTART;TZID=America/Phoenix:20250120T170000
DTEND;TZID=America/Phoenix:20250120T193000
DTSTAMP:20260421T092656
CREATED:20251216T190856Z
LAST-MODIFIED:20251216T190856Z
UID:10057840-1737392400-1737401400@myflr.org
SUMMARY:Parkway Christian School Open House - Sterling Heights
DESCRIPTION:We warmly invite you to explore what makes Parkway Christian School special. Come see firsthand how we are Challenging Minds\, Capturing Hearts\, and Cultivating Gifts in our students every day. Join us for a tour of our facilities and meet teachers\, staff and families of Parkway. Open enrollment for new families begins immediately following our open house on January 20th.
URL:https://myflr.org/event/parkway-christian-school-open-house-sterling-heights-2/
LOCATION:Parkway Christian School\, 14500 Metro Pkwy\, Sterling Heights\, 48312\, United States
CATEGORIES:Michigan
ATTACH;FMTTYPE=image/jpeg:https://eadn-wc05-15902914.nxedge.io/wp-content/uploads/2025/12/Flyer.jpg
END:VEVENT
BEGIN:VEVENT
DTSTART;TZID=America/Phoenix:20240204T140000
DTEND;TZID=America/Phoenix:20240204T160000
DTSTAMP:20260421T092656
CREATED:20240122T191712Z
LAST-MODIFIED:20240122T191712Z
UID:10019564-1707055200-1707062400@myflr.org
SUMMARY:Parkway Christian School Open House (Sterling Heights)
DESCRIPTION:Please join us at our upcoming Open House! This is the perfect opportunity to get an inside look at Parkway and meet our wonderful teachers. Whether you’re a parent looking for a great education for your child or a student interested in seeing what our school has to offer\, we welcome you to join us. Our teachers will be available to answer any questions you may have about the curriculum and teaching methods. You’ll also have the chance to take a guided tour of the school and see our classrooms\, gym\, library\, and other facilities. We can’t wait to meet you and show you all that our school has to offer. We look forward to seeing you there! \nReserve your preferred time here – http://tinyurl.com/PCSopenhouse2024
URL:https://myflr.org/event/parkway-christian-school-open-house-sterling-heights/
LOCATION:Parkway Christian School\, 14500 Metro Pkwy\, Sterling Heights\, 48312\, United States
CATEGORIES:Michigan
ATTACH;FMTTYPE=image/png:https://eadn-wc05-15902914.nxedge.io/wp-content/uploads/2024/01/2.png
END:VEVENT
END:VCALENDAR