
BEGIN:VCALENDAR
VERSION:2.0
PRODID:-//Family Life Radio - ECPv6.15.20//NONSGML v1.0//EN
CALSCALE:GREGORIAN
METHOD:PUBLISH
X-ORIGINAL-URL:https://myflr.org
X-WR-CALDESC:Events for Family Life Radio
REFRESH-INTERVAL;VALUE=DURATION:PT1H
X-Robots-Tag:noindex
X-PUBLISHED-TTL:PT1H
BEGIN:VTIMEZONE
TZID:America/Phoenix
BEGIN:STANDARD
TZOFFSETFROM:-0700
TZOFFSETTO:-0700
TZNAME:MST
DTSTART:20240101T000000
END:STANDARD
END:VTIMEZONE
BEGIN:VEVENT
DTSTART;TZID=America/Phoenix:20260404T170000
DTEND;TZID=America/Phoenix:20260404T210000
DTSTAMP:20260421T172345
CREATED:20260324T230724Z
LAST-MODIFIED:20260324T230724Z
UID:10060008-1775322000-1775336400@myflr.org
SUMMARY:FREE Peoria Movie in the Park\, Food Trucks & MORE-Sat April 4th
DESCRIPTION:​FREE to Enter – FREE to Park – Pet friendly – Open to the public ~ Bring the whole family to Peoria 1st Saturdays FREE Monthly Movies in the Park! \nSooooooo much fun\, why go anywhere else?!?!\nFREE Movie\nCandy BINGO\nKids Dance​ Party\nFace Painting\nCharacter Visits\nBalloon Animals\nNight Market\nFamily Friendly Music\nSpecialty Food Trucks*\nKids Activities\nGlow Fun\nGames\, FUN & More!\n*Food will be available for purchase & small cost for face painting/balloon animals \nEver played CANDY BINGO? Come & play a few rounds of BINGO with a candy twist – you don’t wanna miss this! \nGrab a blanket\, chair and your family & friends for a Free Movie in the Park!! only @ Paseo Verde Park (7561 W Greenway Rd\, Peoria AZ 85381) featuring THE SPONGEBOB MOVIE-SEARCH FOR SQUAREPANTS!! \nSUPPORT LOCAL @ the Night Market! Every purchase makes a huge difference – Shop Small and Support Local. \nAllllll the FUN start @ 5 ~ Kids Dance Party @ 6:45 Movie Showtime @ 7~come early to snag a good seat\, something yummy to eat & have some FUN before the movie starts. \nGot a picky eater? We hear you because so do we! Don’t worry we’ve got you covered\, always a variety of different food for everyone to pick from\, plus KIDS MENUS @ EVERY TRUCK!! Food Truck lineup announced on the FB page: www.facebook.com/TimesTwoEntertainment/events \nEvent Sponsored by: PEORIA ARTS & CULTURE.\nGreat family entertainment & insanely awesome movie theater quality audio & video experience provided by: TIMES TWO ENTERTAINMENT.\nPowered by FIRMAN Power Equipment \nParamount Animation (PG): SpongeBob dives into the deep-sea underworld to save himself from the Flying Dutchman. Desperate to prove his bravery to Mr. Krabs\, SpongeBob faces ghostly\, perilous challenges in a story highlighting friendship and inner courage. \n(For sponsorships & vendor info please visit the website: www.iplayMovies4you.com)
URL:https://myflr.org/event/free-peoria-movie-in-the-park-food-trucks-more-sat-april-4th/
LOCATION:PASEO VERDE PARK\, 7561 W GREENWAY RD\, PEORIA\, AZ\, 85381\, United States
CATEGORIES:Arizona,Featured
ATTACH;FMTTYPE=image/jpeg:https://eadn-wc05-15902914.nxedge.io/wp-content/uploads/2026/03/Times-Two-Peoria-Movie-Peoria-040426.jpg
ORGANIZER;CN="TIMES TWO ENTERTAINMENT":MAILTO:Timestwoevents@gmail.com
END:VEVENT
BEGIN:VEVENT
DTSTART;TZID=America/Phoenix:20260307T170000
DTEND;TZID=America/Phoenix:20260307T210000
DTSTAMP:20260421T172345
CREATED:20260128T163615Z
LAST-MODIFIED:20260128T163615Z
UID:10058175-1772902800-1772917200@myflr.org
SUMMARY:FREE Movie in the Park\, St Patty's Party\, Food Trucks & More @ Peoria 1st Saturdays - Mar 7th
DESCRIPTION:FREE to Enter – FREE to Park – Pet friendly – Open to the public – Bring the whole family for an all ages St. Patty’s Day Party in the park @ Peoria 1st Saturdays FREE Monthly Movies in the Park featuring Disney’s BRAND NEW RELEASE – ZOOTOPIA 2! \nWho needs the luck of the Irish when you’re having this much fun?!?!?\nFREE Movie\nSt. Patty’s Spirit Contest\nCharacter Visits\nSpecialty Food Trucks\nKids Lucky Dance Party\nFace Painting\nBalloon Animals\nNight Market\nFamily Friendly Music\nKids Activities\nGlow Fun\nMusic\, Games FUN and More!\n(Food will be available for purchase & small cost for face painting/balloon animals) \nGet your green on – Don’t let the leprechauns find you – Show off your St. Patty’s spirit and wear your green! We’ll be on the hunt for the most creative St Patty’s Day outfits so dress to impress for a chance to win the Best Dressed St. Patty’s Contest! \nGrab a blanket\, chair and your family & friends and enjoy the FREE BIGscreen outdoor movie in the park only at Paseo Verde Park (7651 W Greenway Rd\, Peoria AZ 85381) featuring Disney’s BRAND NEW RELEASE – ZOOTOPIA 2 \nSUPPORT LOCAL @ the Night Market! Every purchase makes a huge difference – Shop Small and Support Local! \nAll the Fun starts @ 5~St Patty’s Spirit Contest @ 6 Kids Lucky Dance Party @ 6:30~Movie @ 6:45~come early to snag a good seat\, something yummy to eat & have some FUN before the movie starts. \nGot a picky eater? We hear you because so do we! Don’t worry we’ve got you covered\, always a variety of different food for everyone to pick from\, plus KIDS MENUS @ EVERY TRUCK!! Food Truck lineup announced on the FB page: www.facebook.com/TimesTwoEntertainment/events \nSponsored by: Peoria Arts & Culture\nEvent\, great family entertainment & insanely awesome movie theater quality audio & video experience provided by: Times Two Entertainment.\nPowered by: FIRMAN Power Equipment \nDisney’s BRAND NEW RELEASE – ZOOTOPIA 2 (PG): Brave bunny cop\, Judy Hopps\, & Nick Wilde\, team up again to crack a new case\, the most perilous and intricate of their careers! The pair goes undercover to solve a mystery involving a mysterious reptile\, Gary De’Snake. They shake up the city & reveal deeper secrets about Zootopia’s past and its reptile population\, testing their growing partnership as they uncover the conspiracy of all conspiracies!!! \n(For sponsorship & vendor info please visit the website: www.iplayMovies4you.com)
URL:https://myflr.org/event/free-movie-in-the-park-st-pattys-party-food-trucks-more-peoria-1st-saturdays-mar-7th/
LOCATION:PASEO VERDE PARK\, 7561 W GREENWAY RD\, PEORIA\, AZ\, 85381\, United States
CATEGORIES:Arizona,Featured
ATTACH;FMTTYPE=image/jpeg:https://eadn-wc05-15902914.nxedge.io/wp-content/uploads/2026/01/Times-Two-Peoria-Movie-037026.jpg
ORGANIZER;CN="TIMES TWO ENTERTAINMENT":MAILTO:Timestwoevents@gmail.com
END:VEVENT
BEGIN:VEVENT
DTSTART;TZID=America/Phoenix:20260207T180000
DTEND;TZID=America/Phoenix:20260207T210000
DTSTAMP:20260421T172345
CREATED:20260130T173304Z
LAST-MODIFIED:20260130T173304Z
UID:10058198-1770487200-1770498000@myflr.org
SUMMARY:Peoria 1st Saturdays FREE Monthly Movies in the Park!
DESCRIPTION:Peoria 1st Saturdays 🆓FREE🆓Monthly Movies in the Park!\n\n\nFREE to Enter – FREE to Park – Pet friendly – Open to the public – Bring the whole family to Peoria 1st Saturdays FREE Monthly Movies in the Park!!!\n\nSooooooo much fun\, why go anywhere else?!?!FREE MovieKids DancePartyFace PaintingBalloon AnimalsNight MarketFamily Friendly MusicSpecialty Food Trucks*Kids ActivitiesGlow FunGames\, FUN & More!*Food will be available for purchase & small cost for face painting/balloon animals\n\nGrab a blanket\, chair and your family & friends for a Free Outdoor Movie in the Park!! only @ 📍Paseo Verde Park (7561 W Greenway Rd\, Peoria\, AZ 85381).\n\nSUPPORT LOCAL @ the Night Market! Every purchase makes a huge difference  Shop Small and Support Local\n\nAllllll the FUN start @ 5~Kids Dance Party @ 6:30~Movie Showtime @ 7pm~come early to snag a good seat\, something yummy to eat & have some FUN before the movie starts\n\nGot a picky eater? We hear you because so do we! Don’t worry we’ve got you covered\, always a variety of different food for everyone to pick from\, plus KIDS MENUS @ EVERY TRUCK! Check out our FB page for Food Truck lineup: www.facebook.com/Times2Entertainment/events\n\nEvent Sponsored by: PEORIA ARTS & CULTURE.Great family entertainment & insanely awesome movie theater quality audio & video experience provided by: TIMES TWO ENTERTAINMENT.
URL:https://myflr.org/event/peoria-1st-saturdays-free-monthly-movies-in-the-park/
LOCATION:PASEO VERDE PARK\, 7561 W GREENWAY RD\, PEORIA\, AZ\, 85381\, United States
CATEGORIES:Arizona,Featured
ATTACH;FMTTYPE=image/png:https://eadn-wc05-15902914.nxedge.io/wp-content/uploads/2026/01/Screenshot-2026-01-30-at-10.32.47-AM.png
ORGANIZER;CN="TIMES TWO ENTERTAINMENT":MAILTO:Timestwoevents@gmail.com
END:VEVENT
BEGIN:VEVENT
DTSTART;TZID=America/Phoenix:20260103T160000
DTEND;TZID=America/Phoenix:20260103T160000
DTSTAMP:20260421T172345
CREATED:20260106T155334Z
LAST-MODIFIED:20260106T155334Z
UID:10057909-1767456000-1767456000@myflr.org
SUMMARY:FREE Outdoor Movie\, PJ Party\, Food Trucks & MORE - Sat Jan 3rd
DESCRIPTION:Kick off 2026 with a bang! FREE to Enter – FREE to Park – Pet friendly – Open to the public – Bring the whole family to Peoria 1st Saturdays FREE Monthly Movies in the Park!!!! \nSooooooo much fun\, why go anywhere else?!?!\nFREE Movie\nKids DanceParty\nNight Market\nBalloon Animals\nFace Painting\nWinter Princess Visits\nFamily Friendly Music\nSpecialty Food Trucks*\nKids Activities\nGlow Fun\nGames\, FUN & More!\n*Food will be available for purchase & small cost for face painting/balloon animals \nIt’s the perfect time of year to snuggle up in your warm PJs\, drink some tasty hot chocolate\, and watch a family movie\, so grab a blanket\, chair and your family & friends for a Free Outdoor Movie in the Park!! only @ Paseo Verde Park (7651 W Greenway Rd\, Peoria AZ 85381) featuring Paramount’s timeless tale…THE SMURFS!!! \nSUPPORT LOCAL @ the Night Market! Every purchase makes a huge difference – Shop Small and Support Local \nAllllll the FUN start @ 4~Kids Dance Party @ 5:15~Movie Showtime @ 5:30~come early to snag a good seat\, something yummy to eat & have some FUN before the movie starts! \nGot a picky eater? We hear you because so do we! Don’t worry we’ve got you covered\, always a variety of different food for everyone to pick from\, plus KIDS MENUS @ EVERY TRUCK!! Food Truck lineup announced on the FB page: www.facebook.com/TimesTwoEntertainment/events \nSponsored by: PEORIA ARTS & CULTURE DEPT.\nEvent\, great family entertainment & insanely awesome movie theater quality audio & video experience provided by: TIMES TWO ENTERTAINMENT.\nPowered by FIRMAN POWER EQUIPMENT \nParamount Pictures: THE SMURFS (PG): When Papa Smurf (John Goodman) is mysteriously taken by evil wizards\, Razamel and Gargamel\, Smurfette (Rihanna) leads the Smurfs on a mission into the real world to save him. With the help of new friends\, the Smurfs must discover what defines their destiny to save the universe. \n(For sponsorship & vendor info please visit the website: www.iplayMovies4you.com)
URL:https://myflr.org/event/free-outdoor-movie-pj-party-food-trucks-more-sat-jan-3rd/
LOCATION:PASEO VERDE PARK\, 7561 W GREENWAY RD\, PEORIA\, AZ\, 85381\, United States
CATEGORIES:Arizona
ATTACH;FMTTYPE=image/jpeg:https://eadn-wc05-15902914.nxedge.io/wp-content/uploads/2025/12/Peoria-010325-FB.jpg
ORGANIZER;CN="TIMES TWO ENTERTAINMENT":MAILTO:Timestwoevents@gmail.com
END:VEVENT
BEGIN:VEVENT
DTSTART;TZID=America/Phoenix:20251206T163000
DTEND;TZID=America/Phoenix:20251206T193000
DTSTAMP:20260421T172345
CREATED:20251112T203525Z
LAST-MODIFIED:20251112T203525Z
UID:10057284-1765038600-1765049400@myflr.org
SUMMARY:10th Annual FREE Peoria Jolly Holiday Outdoor Movie\, PJ Party\, Night Market & MORE! Sat Dec 6th
DESCRIPTION:Always FREE to Enter – FREE to Park – Pet Friendly – Open to the public!! ~Bring the whole family to the 10th Annual Jolly Holiday PJ PARTY in the Park\, FREE Outdoor Holiday Movie & MORE! \nIt’s the perfect time of year to snuggle up in your warm PJs\, drink some tasty hot chocolate\, and watch a Holiday movie\, so grab a blanket\, chair\, your family & friends! Join us for a FREE BIGscreen Jolly Holiday family movie night featuring Illumination’s Holiday Classic….the the the THE GRINCH!! only @ Paseo Verde Park (7561 W Greenway Rd\, Peoria AZ 85381) \nSoooooo much Jolly Holiday FUN\, why go anywhere else?\nFREE Movie\nPJ Party\nHoliday Character Visits\nUgly Sweater Contest\nWhoville Costume Contest\nHoliday Photo Op Station\nHoliday Kids Dance Party\nKids Activities\nGames & Prizes\nKIDS Shopping Extravaganza\nGlow Fun\nSpecialty Food Trucks*\nHoliday Family Friendly Music\nFUN\, FUN & More FUN for kids all ages!\n*(Food will be available for purchase & small costs for face paint/balloon animals) \nSanta Claus is so busy this time of year we didn’t want to ruin the holiday magic by adding just another “pics with Santa” stop-over\, we’ve got something even up our sleeve! Grab your cameras & get ready to snap a pic because the star of our featured presentation will be making a special appearance! But wait\, there’s more…even more Holiday classic characters will be stopping by for special guest appearances with yummy candy canes & plenty of holiday cheer. But who will it be? Jack Skellington Sandy Claws & Miss Sandy Claws? Santa? Mrs. Claus? Frosty the Snowman? The Snow Sisters? Get your FREE Grinchmas selfies plus alllllll the selfies you can take with your favorite Holiday Characters!! \nJolly Holiday FUN & Character Visits start @ 4~Ugly Sweater Contest @ 4:30~Whoville Costume Contest @ 4:45~Kids Holiday Dance Party @ 5:15~Jolly Holiday Movie Showtime @ 5:30~come early to snag a good seat\, something yummy to eat & have some FUN before the movie starts. \nDress to impress for the Ugly Sweater Contest AND Whoville Costume Contest…Show off your ugliest sweater or your cutest Whoville character for a chance to take home the grand prize!! \nKIDS SHOPPING EXTRAVAGANZA ALERT!!! Kids holiday shopping @ prices they can afford. All night market vendors will have kid friendly prices so EVERYONE can get their holiday shopping done all while supporting local small businesses. Win Win!! This month\, even the kids can Shop Small and Support Local! \nGot a picky eater? We hear you because so do we! Don’t worry we’ve got you covered\, always a variety of different food for everyone to pick from\, plus KIDS MENUS @ EVERY TRUCK!! Food Truck lineup announced on the FB page: www.facebook.com/TimesTwoEntertainment/events \nSponsored by: PEORIA ARTS & CULTURE DEPT.\nEvent\, great family entertainment & insanely awesome movie theater quality audio & video experience provided by: TIMES TWO ENTERTAINMENT.\nPowered by FIRMAN Power Equipment \nIllumination THE GRINCH (2018 animated): When the Whos decide to make Christmas bigger and brighter\, the disgruntled Grinch realizes there is one way to gain peace and quiet. With help from Max\, the green grump hatches a scheme to pose as Santa Claus\, steal Christmas and silence the Whos’ holiday cheer once and for all. \n(For sponsorship & vendor info please visit the website: www.iplayMovies4you.com)
URL:https://myflr.org/event/10th-annual-free-peoria-jolly-holiday-outdoor-movie-pj-party-night-market-more-sat-dec-6th/
LOCATION:PASEO VERDE PARK\, 7561 W GREENWAY RD\, PEORIA\, AZ\, 85381\, United States
CATEGORIES:Arizona
ATTACH;FMTTYPE=image/png:https://eadn-wc05-15902914.nxedge.io/wp-content/uploads/2025/11/Times-Two-Peoria-Movie-120625-FB.png
ORGANIZER;CN="TIMES TWO ENTERTAINMENT":MAILTO:Timestwoevents@gmail.com
END:VEVENT
BEGIN:VEVENT
DTSTART;TZID=America/Phoenix:20251101T163000
DTEND;TZID=America/Phoenix:20251101T193000
DTSTAMP:20260421T172345
CREATED:20251015T192359Z
LAST-MODIFIED:20251015T192359Z
UID:10056978-1762014600-1762025400@myflr.org
SUMMARY:FREE Peoria Outdoor Movie\, Food Trucks & More! Sat Nov 1st
DESCRIPTION:FREE to Enter – FREE to Park – Pet friendly – Open to the public ~ Bring the whole family to Peoria 1st Saturdays FREE Monthly Movies in the Park! \nSooooooo much fun\, why go anywhere else?!?!\nFREE Movie\nKids DanceParty\nFace Painting\nBalloon Animals\nNight Market\nFamily Friendly Music\nSpecialty Food Trucks*\nKids Activities\nGlow Fun\nGames\, FUN & More!\n*Food will be available for purchase & small cost for face painting/balloon animals \nGrab a blanket\, chair and your family & friends for a Free Movie in the Park!! only @our new location: PASEO VERDE PARK (7561 W Greenway Rd\, Peoria AZ 85381) featuring Universal Pictures’ Box Office Smash…THE BAD GUYS 2!!! \nSUPPORT LOCAL @ the Night Market! Every purchase makes a huge difference – Shop Small and Support Local. \nAllllll the FUN start @ 4:30~Kids Dance Party @ 5:30~Movie Showtime @ 5:45~come early to snag a good seat\, something yummy to eat & have some FUN before the movie starts\nGot a picky eater? We hear you because so do we! Don’t worry we’ve got you covered\, always a variety of different food for everyone to pick from\, plus KIDS MENUS @ EVERY TRUCK! Food truck lineup coming soon\, stay tuned! \nEvent Sponsored by: PEORIA ARTS & CULTURE.\nGreat family entertainment & insanely awesome movie theater quality audio & video experience provided by: TIMES TWO ENTERTAINMENT. \nUniversal Pictures: THE BAD GUYS 2 (PG): Reformed criminals Mr. Wolf\, Mr. Snake\, Mr. Piranha\, Mr. Shark and Ms. Tarantula are trying very hard to be good. However\, they soon find themselves hijacked into a high-stakes heist that’s masterminded by a new team of delinquents they never saw coming — the Bad Girls. \n(For sponsorships & vendor info please visit the website: www.iplayMovies4you.com)
URL:https://myflr.org/event/free-peoria-outdoor-movie-food-trucks-more-sat-nov-1st/
LOCATION:PASEO VERDE PARK\, 7561 W GREENWAY RD\, PEORIA\, AZ\, 85381\, United States
CATEGORIES:Arizona
ATTACH;FMTTYPE=image/jpeg:https://eadn-wc05-15902914.nxedge.io/wp-content/uploads/2025/10/Times-Two-Peoria-Movie-110125.jpg
ORGANIZER;CN="TIMES TWO ENTERTAINMENT":MAILTO:Timestwoevents@gmail.com
END:VEVENT
BEGIN:VEVENT
DTSTART;TZID=America/Phoenix:20251004T160000
DTEND;TZID=America/Phoenix:20251004T210000
DTSTAMP:20260421T172345
CREATED:20250922T162119Z
LAST-MODIFIED:20250922T162119Z
UID:10056556-1759593600-1759611600@myflr.org
SUMMARY:10th Annual FREE Peoria Spooktacular Outdoor Movie\, Halloween Party & More! Sat Oct 4th
DESCRIPTION:FREE to Enter ~ FREE to Park ~ Pet Friendly ~ Open to the Public ~ Bring the whole family to the 10th Annual Peoria Spooktacular Halloween Party & FREE Movie in the Park @ Peoria 1st Saturdays!! \nEvery year the Spooktacular Party gets even better. It’s going to be such a ghoulishly FUN evening\, why go anywhere else?\nFREE Movie\nHalloween Kids Dance Party\nCostume Contest\nTrick-or-Treating\nSpooktacular Photo Ops Stations\nFace Painting\nKids Activities\nGame Booths\nPrizes\nNight Market\nGlow Fun\nSpecialty Food Trucks*\nSpooktacular Family Friendly Music\nFUN\, FUN & More FUN for all ages!\n*(Food will be available for purchase & small cost for face painting) \nGrab a blanket\, chair\, your family & friends and enjoy none other than Disney’s classic Halloween favorite….HOCUS POCUS!!! Only @ Paseo Verde Park (7561 W Greenway Rd\, Peoria AZ 85381) \nDress to impress!!! Adults and Kids costume contest sign ups at the info booth\, categories include:\nFunny/Cute\nSuperhero/VideoGames\nScary\nAdult/Family/Group\n(Family friendly costumes only please) \nTRICK OR TREATING for all ghouls & goblins (while supplies last). \nFun starts @ 4~Costume Contest @5~Halloween Kids Dance Party @ 6:45~Movie Showtime @ 7~come early to snag a good seat\, something ghoulish to eat & have some Spooktacular FUN before the movie starts! \nGot a ghoulishly picky eater? We hear you because so do we! Don’t worry we’ve got you covered\, always a variety of different food for everyone to pick from\, plus Goblins (Kids) menus @ EVERY TRUCK! Food Truck lineup announced on the FB page:www.facebook.com/TimesTwoEntertainment/events. \nEvent sponsored by: Peoria Arts & Culture\nEvent\, great family entertainment & insanely awesome movie theater quality audio & video experience provided by: Times Two Entertainment. \nDisney’s Hocus Pocus (PG): A Halloween-hating teenager\, Max Dennison\, inadvertently resurrects three witches from their temporary death. Max must risk his life to protect his sister Dani & defeat the trio with the help of Dani\, his classmate crush\, a friendly zombie\, and an immortal black cat. \n(For sponsor & vendor info please visit the website: www.iplayMovies4you.com)
URL:https://myflr.org/event/10th-annual-free-peoria-spooktacular-outdoor-movie-halloween-party-more-sat-oct-4th/
LOCATION:PASEO VERDE PARK\, 7561 W GREENWAY RD\, PEORIA\, AZ\, 85381\, United States
CATEGORIES:Arizona
ATTACH;FMTTYPE=image/jpeg:https://eadn-wc05-15902914.nxedge.io/wp-content/uploads/2025/09/Times-Two-Peoria-Movie-100425.jpg
ORGANIZER;CN="TIMES TWO ENTERTAINMENT":MAILTO:Timestwoevents@gmail.com
END:VEVENT
BEGIN:VEVENT
DTSTART;TZID=America/Phoenix:20250913T170000
DTEND;TZID=America/Phoenix:20250913T210000
DTSTAMP:20260421T172345
CREATED:20250820T172950Z
LAST-MODIFIED:20250820T172950Z
UID:10050788-1757782800-1757797200@myflr.org
SUMMARY:Peoria Season Kick Off ~ FREE Monthly Movies in the Park\, Food Trucks and More! Sat Sept 13th
DESCRIPTION:​Join allllllll the fun @ West Valley PopUp’s 25/26 season kickoff of the Peoria FREE Monthly Movies in the Park! Bring the whole family to our NEW PEORIA LOCATION\, Paseo Verde Park\, for a party in the park\, water wars & the LILO & STITCH Movie!!! \n​Sooooo much fun\, we can’t wait!!\nFREE Movie\nWater Wars\nCool Down Play Zone\nFace Painting\nCharacter Visits\nSpecialty Food Trucks\nKids DanceParty\nNight Market\nFamily Friendly Music\nKids Activities\nGlow Fun\nMusic\, Games\, FUN & More!\n(Food will be available for purchase & small cost for face paint) \nBeat the heat in the cool down zone or play a game or two of WATER WARS! June was sooooo much fun that we’re bringing WATER WARS back & we can’t be more excited!!! What better way to kick off the 25/26 season @ our NEW LOCATION than with WATER WARS?!?!? Battle it out with your friends & shoot to COOL. You bring the water gun\, we’ll bring the bunkers & water refill stations. \nFREE to Enter – FREE to Park – Pet friendly – Grab a blanket\, chair\, your family & friends and enjoy a FREE Movie in the Park @our new location: PASEO VERDE PARK (7561 W Greenway Rd\, Peoria AZ 85381) featuring Disney’s box office smash\, LILO & STITCH (2025 live action)!!!! \nSUPPORT LOCAL @ the Night Market! Every purchase makes a huge difference – Shop Small and Support Local! \nCool Down Zone & Water Wars Field opens @ 5~Kids Dance Party @ 6:45~Movie @ 7 ~ come early to snag a good seat\, something yummy & have some FUN before the movie starts. \nGot a picky eater? We hear you because so do we! Don’t worry we’ve got you covered\, always a variety of different food for everyone to pick from\, plus KIDS MENUS @ EVERY TRUCK!! Food Truck lineup announced on the FB page: www.facebook.com/TimesTwoEntertainment/events \nSponsored by: Peoria Arts & Culture\nEvent\, great family entertainment & insanely awesome movie theater quality audio & video experience provided by: Times Two Entertainment. \nDisney’s LILO & STITCH (PG): Lilo\, a lonely Hawaiian girl\, adopts a mischievous\, dog-like alien named Stitch\, who is actually a dangerous experiment from another planet. Together\, they navigate life\, friendship\, and the meaning of family\, learning about loyalty & “ʻohana” (Hawaiian for family) along the way. \n(For sponsorship & vendor info please visit the website: www.iplayMovies4you.com)
URL:https://myflr.org/event/peoria-season-kick-off-free-monthly-movies-in-the-park-food-trucks-and-more-sat-sept-13th/
LOCATION:PASEO VERDE PARK\, 7561 W GREENWAY RD\, PEORIA\, AZ\, 85381\, United States
CATEGORIES:Arizona
ATTACH;FMTTYPE=image/png:https://eadn-wc05-15902914.nxedge.io/wp-content/uploads/2025/08/Times-Two-Peoria-Movie-091325.png
ORGANIZER;CN="TIMES TWO ENTERTAINMENT":MAILTO:Timestwoevents@gmail.com
END:VEVENT
BEGIN:VEVENT
DTSTART;TZID=America/Phoenix:20250207T163000
DTEND;TZID=America/Phoenix:20250207T193000
DTSTAMP:20260421T172345
CREATED:20260122T215246Z
LAST-MODIFIED:20260122T215246Z
UID:10058124-1738945800-1738956600@myflr.org
SUMMARY:FREE Movie in the Park\, Valentines Party\, Food Trucks & More @ Peoria 1st Saturdays - Feb 7th
DESCRIPTION:Blast off to FUN & FREE Movie in the Park!! Get ready for an out-of-this-world adventure featuring Disney’s latest cosmic journey… ELIO! FREE to Enter – FREE to Park – Pet friendly – Open to the public – Bring the whole family to Peoria 1st Saturdays FREE Monthly Movies in the Park!\nThe universe is calling & we’re sending back some love! Join us for a stellar Valentine-themed evening! Join us for an intergalactically\, heart-warming mix-up of epic proportions\, and we want YOU to join the mission. Grab your star maps\, pack your blankets\, and prepare for a high-flying experience under the stars. Whether you’re bringing your “Gal-entines\,” your “Pal-entines\,” or the whole family\, this is one space mission you’ll fall in love with.\nGet ready to blast off for an out of this world adventure! Soooooooo much fun\, why go anywhere else?\nFREE Movie\nPJ Party\nKids DanceParty\nStuffie Party\nKids Crafts\nFace Painting\nBalloon Animals\nCharacter Visits\nFamily Friendly Music\nKids Activities\nGlow Fun\nNight Market\nSpecialty Food Trucks\nGames\nMusic\, FUN & More FUN!\n(Food will be available for purchase & small cost for balloon animals/face paint)\nFeb is still on the chilly side so don’t be shy…snuggle up in warm & cozy PJs with your favorite stuffie\, drink some tasty hot chocolate to watch an out of this world adventure under the stars!\nGrab a blanket\, chair\, your family & friends for a Sweet All Ages Valentine Pre-Party & family movie night only @ PASEO VERDE PARK (7561 W Greenway Rd\, Peoria AZ 85381) featuring Disney’s out of this world adventure…ELIO!!!!\nSUPPORT LOCAL @ the Night Market! Grab something sweet for that special someone – Shop Small and Support Local.\nFREE to Enter~FREE to Park~Pet Friendly Allllll the fun starts @ 4:30 ~ Kids Dance Party @ 5:45~Movie Showtime @ 6pm ~ come early to snag a good seat\, something yummy to eat & have some FUN before the movie starts!\nGot a picky eater? We hear you because so do we! Don’t worry we’ve got you covered\, always a variety of different food for everyone to pick from\, plus KIDS MENUS @ EVERY TRUCK!! Food Truck lineup announced on the FB page: www.facebook.com/TimesTwoEntertainment/events\nSponsored by: Peoria Arts & CultureEvent\, great family entertainment & insanely awesome movie theater quality audio & video experience provided by: Times Two Entertainment.Powered by: FIRMAN Power Equipment\nDisney’s out of this world adventure…ELIO (PG): An underdog with an active imagination\, finds himself inadvertently beamed up to the Communiverse\, an interplanetary organization with representatives from galaxies far and wide. Mistakenly identified as Earth’s ambassador to the rest of the universe\, he starts to form new bonds with eccentric aliens while discovering who he’s truly meant to be.\n(For sponsorship & vendor info please visit the website: www.iplayMovies4you.com)
URL:https://myflr.org/event/free-movie-in-the-park-valentines-party-food-trucks-more-peoria-1st-saturdays-feb-7th/
LOCATION:PASEO VERDE PARK\, 7561 W GREENWAY RD\, PEORIA\, AZ\, 85381\, United States
CATEGORIES:Arizona,Featured
ATTACH;FMTTYPE=image/jpeg:https://eadn-wc05-15902914.nxedge.io/wp-content/uploads/2026/01/Times-Two-Peoria-Movie-020726.jpg
ORGANIZER;CN="TIMES TWO ENTERTAINMENT":MAILTO:Timestwoevents@gmail.com
END:VEVENT
END:VCALENDAR