
BEGIN:VCALENDAR
VERSION:2.0
PRODID:-//Family Life Radio - ECPv6.15.20//NONSGML v1.0//EN
CALSCALE:GREGORIAN
METHOD:PUBLISH
X-ORIGINAL-URL:https://myflr.org
X-WR-CALDESC:Events for Family Life Radio
REFRESH-INTERVAL;VALUE=DURATION:PT1H
X-Robots-Tag:noindex
X-PUBLISHED-TTL:PT1H
BEGIN:VTIMEZONE
TZID:America/Phoenix
BEGIN:STANDARD
TZOFFSETFROM:-0700
TZOFFSETTO:-0700
TZNAME:MST
DTSTART:20240101T000000
END:STANDARD
END:VTIMEZONE
BEGIN:VEVENT
DTSTART;VALUE=DATE:20260213
DTEND;VALUE=DATE:20260214
DTSTAMP:20260421T095107
CREATED:20250829T172329Z
LAST-MODIFIED:20250912T175543Z
UID:10051253-1770940800-1771027199@myflr.org
SUMMARY:Toby Mac Hits Deep Tour 2026 with Crowder and Jeremy Camp
DESCRIPTION:TOBYMAC’s HITS DEEP TOUR IS BACK!!!!\nThe lights lower. The crowd roars. The beat drops… and you know you’re at TOBYMAC’s Hits Deep Tour 2026! \nThis year’s lineup brings the fire and as always\, overloads your playlist with your favorite hits. Catch TOBYMAC’s soul-stirring “I just need U.“\, the bass-pumping “Everything\,” and a newer anthem\, “Heaven on My Mind.” \nDive into Crowder’s raw power with “Come As You Are\,” “Good God Almighty\,” and a latest smash\, “Still.” \nRide Jeremy Camp’s heartfelt anthems “I Still Believe\,” “Walk By Faith\,” and his current chart-climber “No Survivors.” \nIt’s hit after hit after hit! Don’t miss the concert that fans count down to every year. Grab your tickets and get ready to sing\, dance\, and celebrate big at TOBYMAC’s Hits Deep Tour 2026! \n*Lineup subject to change \nTickets are on sale now!!! \nFind out more here!
URL:https://myflr.org/event/toby-mac-hits-deep-tour-2026-with-crowder-and-jeremy-camp/
LOCATION:Phoenix Arena\, 201 E. Jefferson St.\, Phoenix\, AZ\, 85004\, United States
CATEGORIES:Arizona,Featured
ATTACH;FMTTYPE=image/jpeg:https://eadn-wc05-15902914.nxedge.io/wp-content/uploads/2025/08/HitsDeep26_1080x1080_021326_generic.jpg
ORGANIZER;CN="Awakening Events":MAILTO:https://www.awakeningevents.com/email
END:VEVENT
BEGIN:VEVENT
DTSTART;VALUE=DATE:20251124
DTEND;VALUE=DATE:20251201
DTSTAMP:20260421T095107
CREATED:20251120T221312Z
LAST-MODIFIED:20251124T193713Z
UID:10057694-1763942400-1764547199@myflr.org
SUMMARY:GIVEAWAY! Black Friday Best Seats contest for TobyMac's Hits Deep 2026
DESCRIPTION:TobyMac Hits Deep 2026 is coming to the Phoenix Arena on Febuary 13\, 2026!Enter Family Life Radio’s Black Friday Best Seats contest for your chance to win a pair of tickets right next to the stage. \nTo enter\, text HEAVEN to 58326 by November 30 for your shot at seeing TobyMac\, Crowder\, and Jeremy Camp live this February in Phoenix. The winner will be notified on December 1st by text. \nBlack Friday Best Seats provided by Awakening Foundation.
URL:https://myflr.org/event/giveaway-black-friday-best-seats-contest-for-tobymacs-hits-deep-2026-2/
LOCATION:Phoenix Arena\, 201 E. Jefferson St.\, Phoenix\, AZ\, 85004\, United States
CATEGORIES:Arizona,Featured
ATTACH;FMTTYPE=image/jpeg:https://eadn-wc05-15902914.nxedge.io/wp-content/uploads/2025/11/HitsDeep26_BlackFriday_1080x1080-1.jpg
END:VEVENT
END:VCALENDAR