
BEGIN:VCALENDAR
VERSION:2.0
PRODID:-//Family Life Radio - ECPv6.15.20//NONSGML v1.0//EN
CALSCALE:GREGORIAN
METHOD:PUBLISH
X-ORIGINAL-URL:https://myflr.org
X-WR-CALDESC:Events for Family Life Radio
REFRESH-INTERVAL;VALUE=DURATION:PT1H
X-Robots-Tag:noindex
X-PUBLISHED-TTL:PT1H
BEGIN:VTIMEZONE
TZID:America/Detroit
BEGIN:DAYLIGHT
TZOFFSETFROM:-0500
TZOFFSETTO:-0400
TZNAME:EDT
DTSTART:20240310T070000
END:DAYLIGHT
BEGIN:STANDARD
TZOFFSETFROM:-0400
TZOFFSETTO:-0500
TZNAME:EST
DTSTART:20241103T060000
END:STANDARD
BEGIN:DAYLIGHT
TZOFFSETFROM:-0500
TZOFFSETTO:-0400
TZNAME:EDT
DTSTART:20250309T070000
END:DAYLIGHT
BEGIN:STANDARD
TZOFFSETFROM:-0400
TZOFFSETTO:-0500
TZNAME:EST
DTSTART:20251102T060000
END:STANDARD
BEGIN:DAYLIGHT
TZOFFSETFROM:-0500
TZOFFSETTO:-0400
TZNAME:EDT
DTSTART:20260308T070000
END:DAYLIGHT
BEGIN:STANDARD
TZOFFSETFROM:-0400
TZOFFSETTO:-0500
TZNAME:EST
DTSTART:20261101T060000
END:STANDARD
END:VTIMEZONE
BEGIN:VEVENT
DTSTART;TZID=America/Detroit:20250808T060000
DTEND;TZID=America/Detroit:20250808T083000
DTSTAMP:20260421T154349
CREATED:20250628T042936Z
LAST-MODIFIED:20250628T042936Z
UID:10047259-1754632800-1754641800@myflr.org
SUMMARY:SonQuest Rainforest VBS Program
DESCRIPTION:SonQuest Rainforest VBS Program\nAugust 4-8\, 2025\n9 AM – 11:30 AM\nChildren Ages 4-11\nDay 1 – Monday: Which Soil are You?\nDay 2 – Tuesday: Baa Baa Lost Sheep\nDay 3 – Wednesday: An Unlikely Neighbor\nDay 4 – Thursday: The Midnight Knocker\nDay 5- Friday: Use It or Lose It
URL:https://myflr.org/event/sonquest-rainforest-vbs-program/2025-08-08/
LOCATION:Pilgrim Lutheran Church (Essexville\, MI)\, 1705 Nebobish Avenue\, Essexville\, MI\, 48732\, United States
CATEGORIES:Michigan
ATTACH;FMTTYPE=image/jpeg:https://eadn-wc05-15902914.nxedge.io/wp-content/uploads/2025/06/SPRING-scaled.jpg
ORGANIZER;CN="Pilgrim Lutheran Church":MAILTO:pilgrimessexville@gmail.com
END:VEVENT
END:VCALENDAR